{"text_format":"1","workbook":"xlsx","n_sheets":16,"sheets":["入力","目次","依頼受簿","①依頼書","①依頼書 (直接入力用)","②請求書","②請求書  (直接入力用)","③投票用紙等請求者一覧","③投票用紙等請求者一覧  (直接入力用)","④受領書（甲）","④受領書（甲） (直接入力用)","⑤不在者投票送致書","⑥代理投票報告書(入力用)","⑥代理投票報告書(手書き用)","⑩選挙用品使用申込書","各一覧"],"not_rendered":{"charts":0,"images":3,"macros":1,"external_links":0,"defined_names":15,"comments":0,"pivot_tables":0},"unopened":[],"bounds":{"document_bytes":16777216,"sheet_cells":100000,"rows_first":2000,"rows_last":500,"rows_between":2000,"halvings":0,"cell_chars":16384,"cell_head_chars":4096},"cells_cut":0,"cells_raw":0,"read":"whole","date_system":"1900"}

{"sheet":"入力","index":0,"n_rows":7,"n_cols":13,"rows_kept":7,"cut":false,"hidden":true,"merged":[]}
[null,null,null,null,2,3,4,5,6,7,8,9,10]
["選挙期日","2026-02-08",null,1,"衆議院小選挙区選出議員選挙","衆議院比例代表選出議員選挙","最高裁判所裁判官国民審査","衆小","衆比","国審","小選挙区","比例代表","国民審査"]
["選挙",1,null,2,"参議院選挙区選出議員選挙","参議院比例代表選出議員選挙",{"$f":"\"\"","v":""},"参選","参比",{"$f":"\"\"","v":""},"選挙区","比例代表",{"$f":"\"\"","v":""}]
[null,null,null,3,"北海道知事選挙","北海道議会議員選挙"]
[null,null,null,4,"小樽市長選挙"]
[null,null,null,5,"小樽市議会議員選挙"]
[null,null,null,6]

{"sheet":"目次","index":1,"n_rows":19,"n_cols":3,"rows_kept":19,"cut":false,"hidden":false,"merged":[]}
["シートリンク",null,"このエクセルの使い方"]
["依頼受簿",null,"様式レイアウトや、関数式など保持のためシートに保護をかけています。※余白調整は可"]
["①依頼書",null,"投票用紙の請求依頼を受けた入院(所)者の氏名等を依頼受簿に入力していきます。"]
["①依頼書 (直接入力用)",null,"入力することで、請求者一覧、その他様式で参照できる箇所は参照していますが、"]
["②請求書",null,"依頼書の選挙人氏名は自署となるので編集不可になっています。"]
["②請求書  (直接入力用)",null,"指定施設名はR6衆院選の請求書等の記載に基づいて表示しています。"]
["③投票用紙等請求者一覧",null,"住所、指定施設名、不在者投票管理者の役職氏名について、同一の入力内容になる箇所は"]
["③投票用紙等請求者一覧  (直接入力用)",null,"一か所の入力でできるだけ済むようにしています。"]
["④受領書（甲）",null,"依頼受簿を参照せずに、様式に直接入力できるシートもあります。"]
["④受領書（甲） (直接入力用)",null,"ファイルを保存する時に↓のメッセージが出る場合があります。OKを押して保存を継続し"]
["⑤不在者投票送致書",null,"てください。"]
["⑥代理投票報告書(入力用)"]
["⑥代理投票報告書(手書き用)"]
["⑩選挙用品使用申込書"]
[]
[null,null,"連続印刷のためマクロが組み込まれています。コンテンツを有効化してから使用してください"]
[null,null,"コンテンツの有効化をクリック"]
[]
[null,null,"はいをクリック"]

{"sheet":"依頼受簿","index":2,"n_rows":205,"n_cols":10,"rows_kept":205,"cut":false,"hidden":false,"merged":[[3,9,4,9],[1,4,1,5],[0,4,0,5],[3,0,4,0],[3,2,4,2],[3,3,4,3],[3,4,3,7],[3,8,4,8],[3,1,4,1]]}
[null,"施設名を選択","請求日(例2025/7/4)","投票年月日(例2025/7/4)","時間(例12:00)",null,null,null,null,"目次"]
[]
[]
["連\n番","現住所","選挙人名簿に記載\nされている住所","選挙人氏名","生年月日",null,null,null,"性別","備　　　考\n※（点字等）"]
[null,null,null,null,"年号","年","月","日"]
[1]
[2]
[3]
[4]
[5]
[6]
[7]
[8]
[9]
[10]
[11]
[12]
[13]
[14]
[15]
[16]
[17]
[18]
[19]
[20]
[21]
[22]
[23]
[24]
[25]
[26]
[27]
[28]
[29]
[30]
[31]
[32]
[33]
[34]
[35]
[36]
[37]
[38]
[39]
[40]
[41]
[42]
[43]
[44]
[45]
[46]
[47]
[48]
[49]
[50]
[51]
[52]
[53]
[54]
[55]
[56]
[57]
[58]
[59]
[60]
[61]
[62]
[63]
[64]
[65]
[66]
[67]
[68]
[69]
[70]
[71]
[72]
[73]
[74]
[75]
[76]
[77]
[78]
[79]
[80]
[81]
[82]
[83]
[84]
[85]
[86]
[87]
[88]
[89]
[90]
[91]
[92]
[93]
[94]
[95]
[96]
[97]
[98]
[99]
[100]
[101]
[102]
[103]
[104]
[105]
[106]
[107]
[108]
[109]
[110]
[111]
[112]
[113]
[114]
[115]
[116]
[117]
[118]
[119]
[120]
[121]
[122]
[123]
[124]
[125]
[126]
[127]
[128]
[129]
[130]
[131]
[132]
[133]
[134]
[135]
[136]
[137]
[138]
[139]
[140]
[141]
[142]
[143]
[144]
[145]
[146]
[147]
[148]
[149]
[150]
[151]
[152]
[153]
[154]
[155]
[156]
[157]
[158]
[159]
[160]
[161]
[162]
[163]
[164]
[165]
[166]
[167]
[168]
[169]
[170]
[171]
[172]
[173]
[174]
[175]
[176]
[177]
[178]
[179]
[180]
[181]
[182]
[183]
[184]
[185]
[186]
[187]
[188]
[189]
[190]
[191]
[192]
[193]
[194]
[195]
[196]
[197]
[198]
[199]
[200]

{"sheet":"①依頼書","index":3,"n_rows":30,"n_cols":64,"rows_kept":30,"cut":false,"hidden":false,"merged":[[27,21,28,37],[29,21,30,37],[0,0,0,37],[3,17,5,31],[17,11,17,19],[4,33,4,37],[7,0,7,37],[12,0,12,2],[12,3,12,4],[12,7,12,8],[12,11,12,12],[12,13,12,14],[12,9,12,10],[12,5,12,6],[15,11,15,19],[23,21,23,37],[18,11,18,19],[20,11,20,19],[23,11,23,19],[15,21,16,37],[20,21,21,37],[17,21,18,37]]}
["依　　頼　　書",null,null,null,null,null,null,null,null,null,null,null,null,null,null,null,null,null,null,null,null,null,null,null,null,null,null,null,null,null,null,null,null,null,null,null,null,null,null,null,"本シートは編集可能箇所以外は保護しています。",null,null,null,null,null,null,null,null,null,null,null,null,null,null,null,null,null,null,null,null,null,null,"目次"]
[null,null,null,null,null,null,null,null,null,null,null,null,null,null,null,null,null,null,null,null,null,null,null,null,null,null,null,null,null,null,null,null,null,null,null,null,null,null,null,null,"直接入力で作成したい場合は直接入力用シートを使用してください。"]
[null,null,null,null,null,null,null,null,null,null,null,null,null,null,null,null,null,null,null,null,null,null,null,null,null,null,null,null,null,null,null,null,null,null,null,null,null,null,null,null,"関数式や文言が入力されている箇所は選択又は入力はできません。"]
[null,null,null,null,null,null,null,null,null,null,null,null,null,null,null,null,null,{"$f":"IF(入力!B3=1,VLOOKUP(入力!B3,入力!D1:G7,2,FALSE)&CHAR(10)&VLOOKUP(入力!B3,入力!D1:G7,3,FALSE)&CHAR(10)&VLOOKUP(入力!B3,入力!D1:G7,4,FALSE),IF(OR(入力!B3=2,入力!B3=3),VLOOKUP(入力!B3,入力!D1:G7,2,FALSE)&CHAR(10)&VLOOKUP(入力!B3,入力!D1:G7,3,FALSE),VLOOKUP(入力!B3,入力!D1:G7,2,FALSE)))","v":"衆議院小選挙区選出議員選挙\n衆議院比例代表選出議員選挙\n最高裁判所裁判官国民審査"},null,null,null,null,null,null,null,null,null,null,null,null,null,null,null,null,null,null,null,null,null,null,"選択できる箇所は「◀」のマークを印刷エリア外に付けています。"]
[{"$f":"\"　私は、\"&DBCS(TEXT(入力!B2,\"ggge年m月d日\"))&\"執行の\"","v":"　私は、令和８年２月８日執行の"},null,null,null,null,null,null,null,null,null,null,null,null,null,null,null,null,null,null,null,null,null,null,null,null,null,null,null,null,null,null,null,null,"の投票を",null,null,null,null,null,null,null,"◀白紙で出力する場合は「1」を入力"]
[null,null,null,null,null,null,null,null,null,null,null,null,null,null,null,null,null,null,null,null,null,null,null,null,null,null,null,null,null,null,null,null,null,null,null,null,null,null,null,null,1,"◀ここに対象者の連番を入れると本人情報で入力した内容が切り替わります",1]
[null,null,null,null,null,null,null,null,null,null,null,null,null,null,null,null,null,null,null,null,null,null,null,null,null,null,null,null,null,null,null,null,null,null,null,null,null,null,null,null,null,null,1]
["当施設内において行いたいので、投票用紙及び不在者投票用封筒の交付を請求してくださるよう依頼します。"]
[]
[]
[]
[]
["令和",null,null,null,null,"年",null,null,null,"月",null,null,null,"日",null,null,null,null,null,null,null,null,null,null,null,null,null,null,null,null,null,null,null,null,null,null,null,null,"◀　依頼の日付を入力"]
[]
[]
[null,null,null,null,null,null,null,null,null,null,null,"住所",null,null,null,null,null,null,null,null,null,{"$f":"IF(AO5=1,\"\",IF(VLOOKUP(AO6,請求者名簿,2,FALSE)=0,\"\",VLOOKUP(AO6,請求者名簿,2,FALSE)))","v":""},null,null,null,null,null,null,null,null,null,null,null,null,null,null,null,null,"※依頼受簿で入力した現住所が反映されます。"]
[]
[null,null,null,null,null,null,null,null,null,null,null,"選挙人名簿に記載",null,null,null,null,null,null,null,null,null,{"$f":"IF(AO5=1,\"\",IF(VLOOKUP(AO6,請求者名簿,3,FALSE)=0,\"\",VLOOKUP(AO6,請求者名簿,3,FALSE)))","v":""},null,null,null,null,null,null,null,null,null,null,null,null,null,null,null,null,"※依頼受簿で入力した選挙人名簿に記載されている住所が反映されます。"]
[null,null,null,null,null,null,null,null,null,null,null,"されている住所"]
[]
[null,null,null,null,null,null,null,null,null,null,null,"選挙人氏名",null,null,null,null,null,null,null,null,null,null,null,null,null,null,null,null,null,null,null,null,null,null,null,null,null,null,"※　自署箇所のため入力不可"]
[]
[]
[null,null,null,null,null,null,null,null,null,null,null,"生年月日",null,null,null,null,null,null,null,null,null,{"$f":"IF(AO5=1,\"\",DBCS(TEXT(IF(OR(VLOOKUP(AO6,請求者名簿,5,FALSE)=0,VLOOKUP(AO6,請求者名簿,5,FALSE)=\"\"),\"\",VALUE(IF(VLOOKUP(AO6,請求者名簿,5,FALSE)=1,\"M\",IF(VLOOKUP(AO6,請求者名簿,5,FALSE)=2,\"T\",IF(VLOOKUP(AO6,請求者名簿,5,FALSE)=3,\"S\",IF(VLOOKUP(AO6,請求者名簿,5,FALSE)=4,\"H\",\"-\"))))&VLOOKUP(AO6,請求者名簿,6,FALSE)&\".\"&VLOOKUP(AO6,請求者名簿,7,FALSE)&\".\"&VLOOKUP(AO6,請求者名簿,8,FALSE))),\"ggge年m月d日\")))","v":""},null,null,null,null,null,null,null,null,null,null,null,null,null,null,null,null,"※依頼受簿で入力した生年月日が反映されます。"]
[]
[]
[]
[null,null,null,null,null,null,null,null,null,null,null,null,"院（所）長　　様",null,null,null,null,null,null,null,null,{"$f":"依頼受簿!B2","v":0},null,null,null,null,null,null,null,null,null,null,null,null,null,null,null,null,"※依頼受簿で選択した指定施設名が反映されます。"]
[]
[null,null,null,null,null,null,null,null,null,null,null,null,null,null,null,null,null,null,null,null,null,null,null,null,null,null,null,null,null,null,null,null,null,null,null,null,null,null,"◀　不在者投票管理者氏名を入力"]

{"sheet":"①依頼書 (直接入力用)","index":4,"n_rows":30,"n_cols":69,"rows_kept":30,"cut":false,"hidden":false,"merged":[[23,34,23,35],[0,0,0,37],[3,17,5,31],[4,33,4,37],[7,0,7,37],[12,0,12,2],[12,3,12,4],[12,5,12,6],[12,7,12,8],[12,9,12,10],[12,11,12,12],[12,13,12,14],[27,21,28,37],[29,21,30,37],[15,11,15,19],[15,21,16,37],[17,11,17,19],[17,21,18,37],[18,11,18,19],[20,11,20,19],[20,21,21,37],[23,11,23,19],[22,21,24,25],[23,36,23,37],[23,26,23,27],[23,28,23,29],[23,30,23,31],[23,32,23,33]]}
["依　　頼　　書",null,null,null,null,null,null,null,null,null,null,null,null,null,null,null,null,null,null,null,null,null,null,null,null,null,null,null,null,null,null,null,null,null,null,null,null,null,null,null,"関数式や固定文言が入力されている箇所は選択又は入力はできません。",null,null,null,null,null,null,null,null,null,null,null,null,null,null,null,null,null,null,null,null,null,null,null,null,null,null,null,"目次"]
[null,null,null,null,null,null,null,null,null,null,null,null,null,null,null,null,null,null,null,null,null,null,null,null,null,null,null,null,null,null,null,null,null,null,null,null,null,null,null,null,"選択できる箇所は「◀」のマークを印刷エリア外に付けています。"]
[]
[null,null,null,null,null,null,null,null,null,null,null,null,null,null,null,null,null,{"$f":"IF(入力!B3=1,VLOOKUP(入力!B3,入力!D1:G7,2,FALSE)&CHAR(10)&VLOOKUP(入力!B3,入力!D1:G7,3,FALSE)&CHAR(10)&VLOOKUP(入力!B3,入力!D1:G7,4,FALSE),IF(OR(入力!B3=2,入力!B3=3),VLOOKUP(入力!B3,入力!D1:G7,2,FALSE)&CHAR(10)&VLOOKUP(入力!B3,入力!D1:G7,3,FALSE),VLOOKUP(入力!B3,入力!D1:G7,2,FALSE)))","v":"衆議院小選挙区選出議員選挙\n衆議院比例代表選出議員選挙\n最高裁判所裁判官国民審査"}]
[{"$f":"\"　私は、\"&DBCS(TEXT(入力!B2,\"ggge年m月d日\"))&\"執行の\"","v":"　私は、令和８年２月８日執行の"},null,null,null,null,null,null,null,null,null,null,null,null,null,null,null,null,null,null,null,null,null,null,null,null,null,null,null,null,null,null,null,null,"の投票を"]
[]
[]
["当施設内において行いたいので、投票用紙及び不在者投票用封筒の交付を請求してくださるよう依頼します。"]
[]
[]
[]
[]
["令和",null,null,null,null,"年",null,null,null,"月",null,null,null,"日",null,null,null,null,null,null,null,null,null,null,null,null,null,null,null,null,null,null,null,null,null,null,null,null,"◀　依頼の日付を入力"]
[]
[]
[null,null,null,null,null,null,null,null,null,null,null,"住所",null,null,null,null,null,null,null,null,null,null,null,null,null,null,null,null,null,null,null,null,null,null,null,null,null,null,"◀　現住所を入力"]
[]
[null,null,null,null,null,null,null,null,null,null,null,"選挙人名簿に記載",null,null,null,null,null,null,null,null,null,null,null,null,null,null,null,null,null,null,null,null,null,null,null,null,null,null,"◀　選挙人名簿に記載されている住所を入力"]
[null,null,null,null,null,null,null,null,null,null,null,"されている住所"]
[]
[null,null,null,null,null,null,null,null,null,null,null,"選挙人氏名",null,null,null,null,null,null,null,null,null,null,null,null,null,null,null,null,null,null,null,null,null,null,null,null,null,null,"※　自署箇所のため入力不可"]
[]
[null,null,null,null,null,null,null,null,null,null,null,null,null,null,null,null,null,null,null,null,null,"明治･大正\n昭和･平成"]
[null,null,null,null,null,null,null,null,null,null,null,"生年月日",null,null,null,null,null,null,null,null,null,null,null,null,null,null,null,null,"年",null,null,null,"月",null,null,null,"日",null,"◀　生年月日を入力"]
[]
[]
[]
[null,null,null,null,null,null,null,null,null,null,null,null,"院（所）長　　様",null,null,null,null,null,null,null,null,null,null,null,null,null,null,null,null,null,null,null,null,null,null,null,null,null,"◀　指定施設名を入力"]
[]
[null,null,null,null,null,null,null,null,null,null,null,null,null,null,null,null,null,null,null,null,null,null,null,null,null,null,null,null,null,null,null,null,null,null,null,null,null,null,"◀　不在者投票管理者氏名を入力"]

{"sheet":"②請求書","index":5,"n_rows":35,"n_cols":64,"rows_kept":35,"cut":false,"hidden":false,"merged":[[3,37,3,38],[0,0,0,38],[3,27,3,28],[3,29,3,30],[3,31,3,32],[3,33,3,34],[3,35,3,36],[5,0,5,5],[9,0,10,16],[9,17,9,19],[10,17,10,19],[3,24,3,26],[14,20,16,34],[17,0,18,0],[17,16,18,22],[9,21,9,37],[12,21,12,25],[12,26,12,37],[10,21,11,37],[34,25,34,32],[34,10,34,22],[33,6,33,7],[17,38,18,38],[17,1,18,15],[17,23,18,37],[20,0,24,38],[27,0,27,38],[30,6,30,7],[30,9,30,21],[30,26,30,30]]}
["請　　求　　書",null,null,null,null,null,null,null,null,null,null,null,null,null,null,null,null,null,null,null,null,null,null,null,null,null,null,null,null,null,null,null,null,null,null,null,null,null,null,null,"本シートは編集可能箇所以外は保護しています。",null,null,null,null,null,null,null,null,null,null,null,null,null,null,null,null,null,null,null,null,null,null,"目次"]
[null,null,null,null,null,null,null,null,null,null,null,null,null,null,null,null,null,null,null,null,null,null,null,null,null,null,null,null,null,null,null,null,null,null,null,null,null,null,null,null,"直接入力で作成したい場合は直接入力用シートを使用してください。"]
[null,null,null,null,null,null,null,null,null,null,null,null,null,null,null,null,null,null,null,null,null,null,null,null,null,null,null,null,null,null,null,null,null,null,null,null,null,null,null,null,"選択できる箇所は「◀」のマークを印刷エリア外に付けています。"]
[null,null,null,null,null,null,null,null,null,null,null,null,null,null,null,null,null,null,null,null,null,null,null,null,"令和",null,null,null,null,"年",null,null,null,"月",null,null,null,"日",null,"◀　請求年月日を入力"]
[]
["小樽",null,null,null,null,null,"市（区・町・村）"]
["選挙管理委員会　委員長　様"]
[]
[]
["不在者投票管理者　",null,null,null,null,null,null,null,null,null,null,null,null,null,null,null,null,"住所",null,null,null,null,null,null,null,null,null,null,null,null,null,null,null,null,null,null,null,null,null,"◀　指定施設の住所を入力"]
[null,null,null,null,null,null,null,null,null,null,null,null,null,null,null,null,null,"氏名",null,null,null,{"$f":"依頼受簿!B2","v":0},null,null,null,null,null,null,null,null,null,null,null,null,null,null,null,null,null,"※　指定施設の名称が自動入力されます"]
[]
[null,null,null,null,null,null,null,null,null,null,null,null,null,null,null,null,null,null,null,null,null,"施設長",null,null,null,null,"小樽丸　はなお",null,null,null,null,null,null,null,null,null,null,null,null,"◀不在者投票管理者の役職(院長・施設長・管理者など)及び氏名を入力"]
[]
[null,null,null,null,null,null,null,null,null,null,null,null,null,null,null,null,null,null,null,null,{"$f":"IF(入力!B3=1,VLOOKUP(入力!B3,入力!D1:G7,2,FALSE)&CHAR(10)&VLOOKUP(入力!B3,入力!D1:G7,3,FALSE)&CHAR(10)&VLOOKUP(入力!B3,入力!D1:G7,4,FALSE),IF(OR(入力!B3=2,入力!B3=3),VLOOKUP(入力!B3,入力!D1:G7,2,FALSE)&CHAR(10)&VLOOKUP(入力!B3,入力!D1:G7,3,FALSE),VLOOKUP(入力!B3,入力!D1:G7,2,FALSE)))","v":"衆議院小選挙区選出議員選挙\n衆議院比例代表選出議員選挙\n最高裁判所裁判官国民審査"}]
[{"$f":"\"　別紙の選挙人は、\"&DBCS(TEXT(入力!B2,\"ggge年m月d日\"))&\"執行の\"","v":"　別紙の選挙人は、令和８年２月８日執行の"},null,null,null,null,null,null,null,null,null,null,null,null,null,null,null,null,null,null,null,null,null,null,null,null,null,null,null,null,null,null,null,null,null,null,null,null,null,"の当日"]
[]
["当",{"$f":"IF(依頼受簿!B2=0,\"\",依頼受簿!B2)","v":""},null,null,null,null,null,null,null,null,null,null,null,null,null,null,"にあるため、当",null,null,null,null,null,null,{"$f":"B18","v":""},null,null,null,null,null,null,null,null,null,null,null,null,null,null,"に","※依頼受簿で選択した施設名が参照されて自動で入力されます"]
[]
[]
["おいて投票する見込みであり、公職選挙法施行令第５０条第４項（第５１条第２項において準用する第５０条第４項）の規定による依頼があったので、別紙の選挙人に代わって、投票用紙（船員の不在者投票用紙）及び不在者投票用封筒の交付を請求します。"]
[]
[]
[]
[]
[]
[]
["記"]
[]
[]
[null,null,null,null,null,null,"１",null,null,{"$f":"IF(依頼受簿!C6=0,\"\",依頼受簿!D6)","v":""},null,null,null,null,null,null,null,null,null,null,null,null,null,null,"他",null,{"$f":"COUNTA(依頼受簿!D6:D205)-1","v":-1},null,null,null,null,"名分",null,null,null,null,null,null,null,"※依頼受簿の連番1の選挙人氏名が自動入力され、他依頼者の人数を自動で数えます"]
[]
[]
[null,null,null,null,null,null,"２",null,"投票予定年月日"]
[null,null,null,null,null,null,null,null,null,null,{"$f":"DBCS(TEXT(依頼受簿!D2,\"ggge年m月d日\"))","v":"明治３３年１月０日"},null,null,null,null,null,null,null,null,null,null,null,null,null,null,{"$f":"DBCS(TEXT(依頼受簿!E2,\"hh時mm分頃\"))","v":"００時００分頃"},null,null,null,null,null,null,null,null,null,null,null,null,null,"※依頼受簿で入力した投票予定日と時間を参照して自動で入力されます"]

{"sheet":"②請求書  (直接入力用)","index":6,"n_rows":35,"n_cols":41,"rows_kept":35,"cut":false,"hidden":false,"merged":[[17,38,18,38],[20,0,24,38],[27,0,27,38],[0,0,0,38],[3,24,3,26],[3,27,3,28],[3,29,3,30],[3,31,3,32],[3,33,3,34],[3,35,3,36],[3,37,3,38],[17,0,18,0],[5,0,5,5],[9,0,10,16],[9,17,9,19],[10,17,10,19],[9,21,9,37],[12,21,12,25],[12,26,12,37],[14,20,16,34],[10,21,11,37],[17,1,18,15],[30,5,30,6],[30,8,30,21],[30,26,30,30],[17,16,18,22],[17,23,18,37],[33,5,33,6],[34,8,34,10],[34,11,34,12],[34,13,34,14],[34,15,34,16],[34,29,34,30],[34,17,34,18],[34,21,34,22],[34,27,34,28],[34,25,34,26],[34,19,34,20]]}
["請　　求　　書",null,null,null,null,null,null,null,null,null,null,null,null,null,null,null,null,null,null,null,null,null,null,null,null,null,null,null,null,null,null,null,null,null,null,null,null,null,null,null,"目次"]
[]
[]
[null,null,null,null,null,null,null,null,null,null,null,null,null,null,null,null,null,null,null,null,null,null,null,null,"令和",null,null,null,null,"年",null,null,null,"月",null,null,null,"日",null,"◀　請求年月日を入力"]
[]
["小樽",null,null,null,null,null,"市（区・町・村）",null,null,null,null,null,null,null,null,null,null,null,null,null,null,null,null,null,null,null,null,null,null,null,null,null,null,null,null,null,null,null,null,"◀　市区町村名を入力"]
["選挙管理委員会　委員長　様"]
[]
[]
["不在者投票管理者　",null,null,null,null,null,null,null,null,null,null,null,null,null,null,null,null,"住所",null,null,null,null,null,null,null,null,null,null,null,null,null,null,null,null,null,null,null,null,null,"◀　指定施設の住所を入力"]
[null,null,null,null,null,null,null,null,null,null,null,null,null,null,null,null,null,"氏名",null,null,null,null,null,null,null,null,null,null,null,null,null,null,null,null,null,null,null,null,null,"◀　指定施設の名称等を入力"]
[]
[null,null,null,null,null,null,null,null,null,null,null,null,null,null,null,null,null,null,null,null,null,null,null,null,null,null,null,null,null,null,null,null,null,null,null,null,null,null,null,"◀　不在者投票管理者の役職(院長・施設長・管理者など)及び氏名を入力"]
[]
[null,null,null,null,null,null,null,null,null,null,null,null,null,null,null,null,null,null,null,null,{"$f":"IF(入力!B3=1,VLOOKUP(入力!B3,入力!D1:G7,2,FALSE)&CHAR(10)&VLOOKUP(入力!B3,入力!D1:G7,3,FALSE)&CHAR(10)&VLOOKUP(入力!B3,入力!D1:G7,4,FALSE),IF(OR(入力!B3=2,入力!B3=3),VLOOKUP(入力!B3,入力!D1:G7,2,FALSE)&CHAR(10)&VLOOKUP(入力!B3,入力!D1:G7,3,FALSE),VLOOKUP(入力!B3,入力!D1:G7,2,FALSE)))","v":"衆議院小選挙区選出議員選挙\n衆議院比例代表選出議員選挙\n最高裁判所裁判官国民審査"}]
[{"$f":"\"　別紙の選挙人は、\"&DBCS(TEXT(入力!B2,\"ggge年m月d日\"))&\"執行の\"","v":"　別紙の選挙人は、令和８年２月８日執行の"},null,null,null,null,null,null,null,null,null,null,null,null,null,null,null,null,null,null,null,null,null,null,null,null,null,null,null,null,null,null,null,null,null,null,null,null,null,"の当日"]
[]
["当",{"$f":"IF(依頼受簿!B2=0,\"\",依頼受簿!B2)","v":""},null,null,null,null,null,null,null,null,null,null,null,null,null,null,"にあるため、当",null,null,null,null,null,null,{"$f":"B18","v":""},null,null,null,null,null,null,null,null,null,null,null,null,null,null,"に","◀　指定施設の名称2か所を入力"]
[]
[]
["において投票する見込みであり、公職選挙法施行令第５０条第４項（第５１条第２項において準用する第５０条第４項）の規定による依頼があったので、別紙の選挙人に代わって、投票用紙（船員の不在者投票用紙）及び不在者投票用封筒の交付を請求します。"]
[]
[]
[]
[]
[]
[]
["記"]
[]
[]
[null,null,null,null,null,"１",null,null,null,null,null,null,null,null,null,null,null,null,null,null,null,null,null,null,"他",null,null,null,null,null,null,"名分",null,null,null,null,null,null,null,"◀　請求者氏名(名簿の１人目)と他人数を入力"]
[]
[]
[null,null,null,null,null,"２",null,"投票予定年月日"]
[null,null,null,null,null,null,null,null,"令和",null,null,null,null,"年",null,null,null,"月",null,null,null,"日",null,null,null,null,null,"時",null,null,null,"分頃",null,null,null,null,null,null,null,"◀　投票予定年月日と投票開始時間を入力"]

{"sheet":"③投票用紙等請求者一覧","index":7,"n_rows":208,"n_cols":19,"rows_kept":208,"cut":false,"hidden":false,"merged":[[6,11,7,11],[6,12,7,12],[6,13,7,13],[6,14,7,14],[4,3,4,5],[6,5,7,5],[6,10,7,10],[6,18,7,18],[6,2,7,2],[6,3,7,3],[6,4,7,4],[4,13,4,15],[4,16,4,18],[4,1,4,2],[6,16,7,16],[6,17,7,17],[4,6,4,11],[6,6,6,9],[6,1,7,1],[6,15,7,15]]}
[null,"本シートは本人情報シートの入力内容が※の箇所に反映されますので編集可能箇所はありません。",null,null,null,null,null,null,null,null,null,null,null,null,null,null,null,null,"目次"]
[null,"直接入力で作成したい場合は直接入力用シートを使用してください。"]
[null,"本シートは印刷するのみの想定となっているので全面保護されています。"]
[]
[null,"投票用紙等請求者一覧",null,{"$f":"\"（\"&DBCS(TEXT(依頼受簿!C2,\"ggge年m月d日\"))&\"　請求分）\"","v":"（明治３３年１月０日　請求分）"},null,null,"（※の欄のみ記入してください）",null,null,null,null,null,null,"指定施設名",null,null,{"$f":"依頼受簿!B2","v":0}]
[]
[null,"選挙人名簿に記載\nされている住所\n※","選挙人氏名\n※","生年月日\n※","性別\n※","整　理\n番　号","選挙人名簿番号",null,null,null,"事 由","投票場所","施　設\nコード","点　字","船　員","選挙名","交 付 月 日","受 領 月 日","備　　　考\n※（点字等）"]
[null,null,null,null,null,null,"投票区","名簿","ページ","番号"]
[1,{"$f":"IF(OR(依頼受簿!C6=0,依頼受簿!C6=\"\"),\"\",依頼受簿!C6)","v":""},{"$f":"IF(OR(依頼受簿!D6=0,依頼受簿!D6=\"\"),\"\",依頼受簿!D6)","v":""},{"$f":"IF(OR(依頼受簿!E6=0,依頼受簿!E6=\"\"),\"\",VALUE(IF(依頼受簿!E6=1,\"M\",IF(依頼受簿!E6=2,\"T\",IF(依頼受簿!E6=3,\"S\",IF(依頼受簿!E6=4,\"H\",\"-\"))))&依頼受簿!F6&\".\"&依頼受簿!G6&\".\"&依頼受簿!H6))","v":""},{"$f":"IF(OR(依頼受簿!I6=0,依頼受簿!I6=\"\"),\"\",IF(依頼受簿!I6=1,\"男\",IF(依頼受簿!I6=2,\"女\",\"入力欄には数字で性別を入力してください\")))","v":""},null,null,null,null,null,3,2,{"$f":"IFERROR(VLOOKUP(Q5,各一覧!B1:C43,2,FALSE),\"\")","v":""},null,"－",{"$f":"VLOOKUP(入力!B3,入力!D1:M7,5,FALSE)&CHAR(10)&VLOOKUP(入力!B3,入力!D1:M7,6,FALSE)&CHAR(10)&VLOOKUP(入力!B3,入力!D1:M7,7,FALSE)","v":"衆小\n衆比\n国審"},"　.　　.　\n　.　　.　","　.　　.　\n　.　　.　",{"$f":"IF(OR(依頼受簿!J6=0,依頼受簿!J6=\"\"),\"\",依頼受簿!J6)","v":""}]
[2,{"$f":"IF(OR(依頼受簿!C7=0,依頼受簿!C7=\"\"),\"\",依頼受簿!C7)","v":""},{"$f":"IF(OR(依頼受簿!D7=0,依頼受簿!D7=\"\"),\"\",依頼受簿!D7)","v":""},{"$f":"IF(OR(依頼受簿!E7=0,依頼受簿!E7=\"\"),\"\",VALUE(IF(依頼受簿!E7=1,\"M\",IF(依頼受簿!E7=2,\"T\",IF(依頼受簿!E7=3,\"S\",IF(依頼受簿!E7=4,\"H\",\"-\"))))&依頼受簿!F7&\".\"&依頼受簿!G7&\".\"&依頼受簿!H7))","v":""},{"$f":"IF(OR(依頼受簿!I7=0,依頼受簿!I7=\"\"),\"\",IF(依頼受簿!I7=1,\"男\",IF(依頼受簿!I7=2,\"女\",\"入力欄には数字で性別を入力してください\")))","v":""},null,null,null,null,null,3,2,{"$f":"M9","v":""},null,"－",{"$f":"$P$9","v":"衆小\n衆比\n国審"},"　.　　.　\n　.　　.　","　.　　.　\n　.　　.　",{"$f":"IF(OR(依頼受簿!J7=0,依頼受簿!J7=\"\"),\"\",依頼受簿!J7)","v":""}]
[3,{"$f":"IF(OR(依頼受簿!C8=0,依頼受簿!C8=\"\"),\"\",依頼受簿!C8)","v":""},{"$f":"IF(OR(依頼受簿!D8=0,依頼受簿!D8=\"\"),\"\",依頼受簿!D8)","v":""},{"$f":"IF(OR(依頼受簿!E8=0,依頼受簿!E8=\"\"),\"\",VALUE(IF(依頼受簿!E8=1,\"M\",IF(依頼受簿!E8=2,\"T\",IF(依頼受簿!E8=3,\"S\",IF(依頼受簿!E8=4,\"H\",\"-\"))))&依頼受簿!F8&\".\"&依頼受簿!G8&\".\"&依頼受簿!H8))","v":""},{"$f":"IF(OR(依頼受簿!I8=0,依頼受簿!I8=\"\"),\"\",IF(依頼受簿!I8=1,\"男\",IF(依頼受簿!I8=2,\"女\",\"入力欄には数字で性別を入力してください\")))","v":""},null,null,null,null,null,3,2,{"$f":"M10","v":""},null,"－",{"$f":"$P$9","v":"衆小\n衆比\n国審"},"　.　　.　\n　.　　.　","　.　　.　\n　.　　.　",{"$f":"IF(OR(依頼受簿!J8=0,依頼受簿!J8=\"\"),\"\",依頼受簿!J8)","v":""}]
[4,{"$f":"IF(OR(依頼受簿!C9=0,依頼受簿!C9=\"\"),\"\",依頼受簿!C9)","v":""},{"$f":"IF(OR(依頼受簿!D9=0,依頼受簿!D9=\"\"),\"\",依頼受簿!D9)","v":""},{"$f":"IF(OR(依頼受簿!E9=0,依頼受簿!E9=\"\"),\"\",VALUE(IF(依頼受簿!E9=1,\"M\",IF(依頼受簿!E9=2,\"T\",IF(依頼受簿!E9=3,\"S\",IF(依頼受簿!E9=4,\"H\",\"-\"))))&依頼受簿!F9&\".\"&依頼受簿!G9&\".\"&依頼受簿!H9))","v":""},{"$f":"IF(OR(依頼受簿!I9=0,依頼受簿!I9=\"\"),\"\",IF(依頼受簿!I9=1,\"男\",IF(依頼受簿!I9=2,\"女\",\"入力欄には数字で性別を入力してください\")))","v":""},null,null,null,null,null,3,2,"",null,"－","衆小\n衆比\n国審","　.　　.　\n　.　　.　","　.　　.　\n　.　　.　",{"$f":"IF(OR(依頼受簿!J9=0,依頼受簿!J9=\"\"),\"\",依頼受簿!J9)","v":""}]
[5,{"$f":"IF(OR(依頼受簿!C10=0,依頼受簿!C10=\"\"),\"\",依頼受簿!C10)","v":""},{"$f":"IF(OR(依頼受簿!D10=0,依頼受簿!D10=\"\"),\"\",依頼受簿!D10)","v":""},{"$f":"IF(OR(依頼受簿!E10=0,依頼受簿!E10=\"\"),\"\",VALUE(IF(依頼受簿!E10=1,\"M\",IF(依頼受簿!E10=2,\"T\",IF(依頼受簿!E10=3,\"S\",IF(依頼受簿!E10=4,\"H\",\"-\"))))&依頼受簿!F10&\".\"&依頼受簿!G10&\".\"&依頼受簿!H10))","v":""},{"$f":"IF(OR(依頼受簿!I10=0,依頼受簿!I10=\"\"),\"\",IF(依頼受簿!I10=1,\"男\",IF(依頼受簿!I10=2,\"女\",\"入力欄には数字で性別を入力してください\")))","v":""},null,null,null,null,null,3,2,"",null,"－","衆小\n衆比\n国審","　.　　.　\n　.　　.　","　.　　.　\n　.　　.　",{"$f":"IF(OR(依頼受簿!J10=0,依頼受簿!J10=\"\"),\"\",依頼受簿!J10)","v":""}]
[6,{"$f":"IF(OR(依頼受簿!C11=0,依頼受簿!C11=\"\"),\"\",依頼受簿!C11)","v":""},{"$f":"IF(OR(依頼受簿!D11=0,依頼受簿!D11=\"\"),\"\",依頼受簿!D11)","v":""},{"$f":"IF(OR(依頼受簿!E11=0,依頼受簿!E11=\"\"),\"\",VALUE(IF(依頼受簿!E11=1,\"M\",IF(依頼受簿!E11=2,\"T\",IF(依頼受簿!E11=3,\"S\",IF(依頼受簿!E11=4,\"H\",\"-\"))))&依頼受簿!F11&\".\"&依頼受簿!G11&\".\"&依頼受簿!H11))","v":""},{"$f":"IF(OR(依頼受簿!I11=0,依頼受簿!I11=\"\"),\"\",IF(依頼受簿!I11=1,\"男\",IF(依頼受簿!I11=2,\"女\",\"入力欄には数字で性別を入力してください\")))","v":""},null,null,null,null,null,3,2,"",null,"－","衆小\n衆比\n国審","　.　　.　\n　.　　.　","　.　　.　\n　.　　.　",{"$f":"IF(OR(依頼受簿!J11=0,依頼受簿!J11=\"\"),\"\",依頼受簿!J11)","v":""}]
[7,{"$f":"IF(OR(依頼受簿!C12=0,依頼受簿!C12=\"\"),\"\",依頼受簿!C12)","v":""},{"$f":"IF(OR(依頼受簿!D12=0,依頼受簿!D12=\"\"),\"\",依頼受簿!D12)","v":""},{"$f":"IF(OR(依頼受簿!E12=0,依頼受簿!E12=\"\"),\"\",VALUE(IF(依頼受簿!E12=1,\"M\",IF(依頼受簿!E12=2,\"T\",IF(依頼受簿!E12=3,\"S\",IF(依頼受簿!E12=4,\"H\",\"-\"))))&依頼受簿!F12&\".\"&依頼受簿!G12&\".\"&依頼受簿!H12))","v":""},{"$f":"IF(OR(依頼受簿!I12=0,依頼受簿!I12=\"\"),\"\",IF(依頼受簿!I12=1,\"男\",IF(依頼受簿!I12=2,\"女\",\"入力欄には数字で性別を入力してください\")))","v":""},null,null,null,null,null,3,2,"",null,"－","衆小\n衆比\n国審","　.　　.　\n　.　　.　","　.　　.　\n　.　　.　",{"$f":"IF(OR(依頼受簿!J12=0,依頼受簿!J12=\"\"),\"\",依頼受簿!J12)","v":""}]
[8,{"$f":"IF(OR(依頼受簿!C13=0,依頼受簿!C13=\"\"),\"\",依頼受簿!C13)","v":""},{"$f":"IF(OR(依頼受簿!D13=0,依頼受簿!D13=\"\"),\"\",依頼受簿!D13)","v":""},{"$f":"IF(OR(依頼受簿!E13=0,依頼受簿!E13=\"\"),\"\",VALUE(IF(依頼受簿!E13=1,\"M\",IF(依頼受簿!E13=2,\"T\",IF(依頼受簿!E13=3,\"S\",IF(依頼受簿!E13=4,\"H\",\"-\"))))&依頼受簿!F13&\".\"&依頼受簿!G13&\".\"&依頼受簿!H13))","v":""},{"$f":"IF(OR(依頼受簿!I13=0,依頼受簿!I13=\"\"),\"\",IF(依頼受簿!I13=1,\"男\",IF(依頼受簿!I13=2,\"女\",\"入力欄には数字で性別を入力してください\")))","v":""},null,null,null,null,null,3,2,"",null,"－","衆小\n衆比\n国審","　.　　.　\n　.　　.　","　.　　.　\n　.　　.　",{"$f":"IF(OR(依頼受簿!J13=0,依頼受簿!J13=\"\"),\"\",依頼受簿!J13)","v":""}]
[9,{"$f":"IF(OR(依頼受簿!C14=0,依頼受簿!C14=\"\"),\"\",依頼受簿!C14)","v":""},{"$f":"IF(OR(依頼受簿!D14=0,依頼受簿!D14=\"\"),\"\",依頼受簿!D14)","v":""},{"$f":"IF(OR(依頼受簿!E14=0,依頼受簿!E14=\"\"),\"\",VALUE(IF(依頼受簿!E14=1,\"M\",IF(依頼受簿!E14=2,\"T\",IF(依頼受簿!E14=3,\"S\",IF(依頼受簿!E14=4,\"H\",\"-\"))))&依頼受簿!F14&\".\"&依頼受簿!G14&\".\"&依頼受簿!H14))","v":""},{"$f":"IF(OR(依頼受簿!I14=0,依頼受簿!I14=\"\"),\"\",IF(依頼受簿!I14=1,\"男\",IF(依頼受簿!I14=2,\"女\",\"入力欄には数字で性別を入力してください\")))","v":""},null,null,null,null,null,3,2,"",null,"－","衆小\n衆比\n国審","　.　　.　\n　.　　.　","　.　　.　\n　.　　.　",{"$f":"IF(OR(依頼受簿!J14=0,依頼受簿!J14=\"\"),\"\",依頼受簿!J14)","v":""}]
[10,{"$f":"IF(OR(依頼受簿!C15=0,依頼受簿!C15=\"\"),\"\",依頼受簿!C15)","v":""},{"$f":"IF(OR(依頼受簿!D15=0,依頼受簿!D15=\"\"),\"\",依頼受簿!D15)","v":""},{"$f":"IF(OR(依頼受簿!E15=0,依頼受簿!E15=\"\"),\"\",VALUE(IF(依頼受簿!E15=1,\"M\",IF(依頼受簿!E15=2,\"T\",IF(依頼受簿!E15=3,\"S\",IF(依頼受簿!E15=4,\"H\",\"-\"))))&依頼受簿!F15&\".\"&依頼受簿!G15&\".\"&依頼受簿!H15))","v":""},{"$f":"IF(OR(依頼受簿!I15=0,依頼受簿!I15=\"\"),\"\",IF(依頼受簿!I15=1,\"男\",IF(依頼受簿!I15=2,\"女\",\"入力欄には数字で性別を入力してください\")))","v":""},null,null,null,null,null,3,2,"",null,"－","衆小\n衆比\n国審","　.　　.　\n　.　　.　","　.　　.　\n　.　　.　",{"$f":"IF(OR(依頼受簿!J15=0,依頼受簿!J15=\"\"),\"\",依頼受簿!J15)","v":""}]
[11,{"$f":"IF(OR(依頼受簿!C16=0,依頼受簿!C16=\"\"),\"\",依頼受簿!C16)","v":""},{"$f":"IF(OR(依頼受簿!D16=0,依頼受簿!D16=\"\"),\"\",依頼受簿!D16)","v":""},{"$f":"IF(OR(依頼受簿!E16=0,依頼受簿!E16=\"\"),\"\",VALUE(IF(依頼受簿!E16=1,\"M\",IF(依頼受簿!E16=2,\"T\",IF(依頼受簿!E16=3,\"S\",IF(依頼受簿!E16=4,\"H\",\"-\"))))&依頼受簿!F16&\".\"&依頼受簿!G16&\".\"&依頼受簿!H16))","v":""},{"$f":"IF(OR(依頼受簿!I16=0,依頼受簿!I16=\"\"),\"\",IF(依頼受簿!I16=1,\"男\",IF(依頼受簿!I16=2,\"女\",\"入力欄には数字で性別を入力してください\")))","v":""},null,null,null,null,null,3,2,"",null,"－","衆小\n衆比\n国審","　.　　.　\n　.　　.　","　.　　.　\n　.　　.　",{"$f":"IF(OR(依頼受簿!J16=0,依頼受簿!J16=\"\"),\"\",依頼受簿!J16)","v":""}]
[12,{"$f":"IF(OR(依頼受簿!C17=0,依頼受簿!C17=\"\"),\"\",依頼受簿!C17)","v":""},{"$f":"IF(OR(依頼受簿!D17=0,依頼受簿!D17=\"\"),\"\",依頼受簿!D17)","v":""},{"$f":"IF(OR(依頼受簿!E17=0,依頼受簿!E17=\"\"),\"\",VALUE(IF(依頼受簿!E17=1,\"M\",IF(依頼受簿!E17=2,\"T\",IF(依頼受簿!E17=3,\"S\",IF(依頼受簿!E17=4,\"H\",\"-\"))))&依頼受簿!F17&\".\"&依頼受簿!G17&\".\"&依頼受簿!H17))","v":""},{"$f":"IF(OR(依頼受簿!I17=0,依頼受簿!I17=\"\"),\"\",IF(依頼受簿!I17=1,\"男\",IF(依頼受簿!I17=2,\"女\",\"入力欄には数字で性別を入力してください\")))","v":""},null,null,null,null,null,3,2,"",null,"－","衆小\n衆比\n国審","　.　　.　\n　.　　.　","　.　　.　\n　.　　.　",{"$f":"IF(OR(依頼受簿!J17=0,依頼受簿!J17=\"\"),\"\",依頼受簿!J17)","v":""}]
[13,{"$f":"IF(OR(依頼受簿!C18=0,依頼受簿!C18=\"\"),\"\",依頼受簿!C18)","v":""},{"$f":"IF(OR(依頼受簿!D18=0,依頼受簿!D18=\"\"),\"\",依頼受簿!D18)","v":""},{"$f":"IF(OR(依頼受簿!E18=0,依頼受簿!E18=\"\"),\"\",VALUE(IF(依頼受簿!E18=1,\"M\",IF(依頼受簿!E18=2,\"T\",IF(依頼受簿!E18=3,\"S\",IF(依頼受簿!E18=4,\"H\",\"-\"))))&依頼受簿!F18&\".\"&依頼受簿!G18&\".\"&依頼受簿!H18))","v":""},{"$f":"IF(OR(依頼受簿!I18=0,依頼受簿!I18=\"\"),\"\",IF(依頼受簿!I18=1,\"男\",IF(依頼受簿!I18=2,\"女\",\"入力欄には数字で性別を入力してください\")))","v":""},null,null,null,null,null,3,2,"",null,"－","衆小\n衆比\n国審","　.　　.　\n　.　　.　","　.　　.　\n　.　　.　",{"$f":"IF(OR(依頼受簿!J18=0,依頼受簿!J18=\"\"),\"\",依頼受簿!J18)","v":""}]
[14,{"$f":"IF(OR(依頼受簿!C19=0,依頼受簿!C19=\"\"),\"\",依頼受簿!C19)","v":""},{"$f":"IF(OR(依頼受簿!D19=0,依頼受簿!D19=\"\"),\"\",依頼受簿!D19)","v":""},{"$f":"IF(OR(依頼受簿!E19=0,依頼受簿!E19=\"\"),\"\",VALUE(IF(依頼受簿!E19=1,\"M\",IF(依頼受簿!E19=2,\"T\",IF(依頼受簿!E19=3,\"S\",IF(依頼受簿!E19=4,\"H\",\"-\"))))&依頼受簿!F19&\".\"&依頼受簿!G19&\".\"&依頼受簿!H19))","v":""},{"$f":"IF(OR(依頼受簿!I19=0,依頼受簿!I19=\"\"),\"\",IF(依頼受簿!I19=1,\"男\",IF(依頼受簿!I19=2,\"女\",\"入力欄には数字で性別を入力してください\")))","v":""},null,null,null,null,null,3,2,"",null,"－","衆小\n衆比\n国審","　.　　.　\n　.　　.　","　.　　.　\n　.　　.　",{"$f":"IF(OR(依頼受簿!J19=0,依頼受簿!J19=\"\"),\"\",依頼受簿!J19)","v":""}]
[15,{"$f":"IF(OR(依頼受簿!C20=0,依頼受簿!C20=\"\"),\"\",依頼受簿!C20)","v":""},{"$f":"IF(OR(依頼受簿!D20=0,依頼受簿!D20=\"\"),\"\",依頼受簿!D20)","v":""},{"$f":"IF(OR(依頼受簿!E20=0,依頼受簿!E20=\"\"),\"\",VALUE(IF(依頼受簿!E20=1,\"M\",IF(依頼受簿!E20=2,\"T\",IF(依頼受簿!E20=3,\"S\",IF(依頼受簿!E20=4,\"H\",\"-\"))))&依頼受簿!F20&\".\"&依頼受簿!G20&\".\"&依頼受簿!H20))","v":""},{"$f":"IF(OR(依頼受簿!I20=0,依頼受簿!I20=\"\"),\"\",IF(依頼受簿!I20=1,\"男\",IF(依頼受簿!I20=2,\"女\",\"入力欄には数字で性別を入力してください\")))","v":""},null,null,null,null,null,3,2,"",null,"－","衆小\n衆比\n国審","　.　　.　\n　.　　.　","　.　　.　\n　.　　.　",{"$f":"IF(OR(依頼受簿!J20=0,依頼受簿!J20=\"\"),\"\",依頼受簿!J20)","v":""}]
[16,{"$f":"IF(OR(依頼受簿!C21=0,依頼受簿!C21=\"\"),\"\",依頼受簿!C21)","v":""},{"$f":"IF(OR(依頼受簿!D21=0,依頼受簿!D21=\"\"),\"\",依頼受簿!D21)","v":""},{"$f":"IF(OR(依頼受簿!E21=0,依頼受簿!E21=\"\"),\"\",VALUE(IF(依頼受簿!E21=1,\"M\",IF(依頼受簿!E21=2,\"T\",IF(依頼受簿!E21=3,\"S\",IF(依頼受簿!E21=4,\"H\",\"-\"))))&依頼受簿!F21&\".\"&依頼受簿!G21&\".\"&依頼受簿!H21))","v":""},{"$f":"IF(OR(依頼受簿!I21=0,依頼受簿!I21=\"\"),\"\",IF(依頼受簿!I21=1,\"男\",IF(依頼受簿!I21=2,\"女\",\"入力欄には数字で性別を入力してください\")))","v":""},null,null,null,null,null,3,2,{"$f":"M23","v":""},null,"－","衆小\n衆比\n国審","　.　　.　\n　.　　.　","　.　　.　\n　.　　.　",{"$f":"IF(OR(依頼受簿!J21=0,依頼受簿!J21=\"\"),\"\",依頼受簿!J21)","v":""}]
[17,{"$f":"IF(OR(依頼受簿!C22=0,依頼受簿!C22=\"\"),\"\",依頼受簿!C22)","v":""},{"$f":"IF(OR(依頼受簿!D22=0,依頼受簿!D22=\"\"),\"\",依頼受簿!D22)","v":""},{"$f":"IF(OR(依頼受簿!E22=0,依頼受簿!E22=\"\"),\"\",VALUE(IF(依頼受簿!E22=1,\"M\",IF(依頼受簿!E22=2,\"T\",IF(依頼受簿!E22=3,\"S\",IF(依頼受簿!E22=4,\"H\",\"-\"))))&依頼受簿!F22&\".\"&依頼受簿!G22&\".\"&依頼受簿!H22))","v":""},{"$f":"IF(OR(依頼受簿!I22=0,依頼受簿!I22=\"\"),\"\",IF(依頼受簿!I22=1,\"男\",IF(依頼受簿!I22=2,\"女\",\"入力欄には数字で性別を入力してください\")))","v":""},null,null,null,null,null,3,2,"",null,"－","衆小\n衆比\n国審","　.　　.　\n　.　　.　","　.　　.　\n　.　　.　",{"$f":"IF(OR(依頼受簿!J22=0,依頼受簿!J22=\"\"),\"\",依頼受簿!J22)","v":""}]
[18,{"$f":"IF(OR(依頼受簿!C23=0,依頼受簿!C23=\"\"),\"\",依頼受簿!C23)","v":""},{"$f":"IF(OR(依頼受簿!D23=0,依頼受簿!D23=\"\"),\"\",依頼受簿!D23)","v":""},{"$f":"IF(OR(依頼受簿!E23=0,依頼受簿!E23=\"\"),\"\",VALUE(IF(依頼受簿!E23=1,\"M\",IF(依頼受簿!E23=2,\"T\",IF(依頼受簿!E23=3,\"S\",IF(依頼受簿!E23=4,\"H\",\"-\"))))&依頼受簿!F23&\".\"&依頼受簿!G23&\".\"&依頼受簿!H23))","v":""},{"$f":"IF(OR(依頼受簿!I23=0,依頼受簿!I23=\"\"),\"\",IF(依頼受簿!I23=1,\"男\",IF(依頼受簿!I23=2,\"女\",\"入力欄には数字で性別を入力してください\")))","v":""},null,null,null,null,null,3,2,"",null,"－","衆小\n衆比\n国審","　.　　.　\n　.　　.　","　.　　.　\n　.　　.　",{"$f":"IF(OR(依頼受簿!J23=0,依頼受簿!J23=\"\"),\"\",依頼受簿!J23)","v":""}]
[19,{"$f":"IF(OR(依頼受簿!C24=0,依頼受簿!C24=\"\"),\"\",依頼受簿!C24)","v":""},{"$f":"IF(OR(依頼受簿!D24=0,依頼受簿!D24=\"\"),\"\",依頼受簿!D24)","v":""},{"$f":"IF(OR(依頼受簿!E24=0,依頼受簿!E24=\"\"),\"\",VALUE(IF(依頼受簿!E24=1,\"M\",IF(依頼受簿!E24=2,\"T\",IF(依頼受簿!E24=3,\"S\",IF(依頼受簿!E24=4,\"H\",\"-\"))))&依頼受簿!F24&\".\"&依頼受簿!G24&\".\"&依頼受簿!H24))","v":""},{"$f":"IF(OR(依頼受簿!I24=0,依頼受簿!I24=\"\"),\"\",IF(依頼受簿!I24=1,\"男\",IF(依頼受簿!I24=2,\"女\",\"入力欄には数字で性別を入力してください\")))","v":""},null,null,null,null,null,3,2,"",null,"－","衆小\n衆比\n国審","　.　　.　\n　.　　.　","　.　　.　\n　.　　.　",{"$f":"IF(OR(依頼受簿!J24=0,依頼受簿!J24=\"\"),\"\",依頼受簿!J24)","v":""}]
[20,{"$f":"IF(OR(依頼受簿!C25=0,依頼受簿!C25=\"\"),\"\",依頼受簿!C25)","v":""},{"$f":"IF(OR(依頼受簿!D25=0,依頼受簿!D25=\"\"),\"\",依頼受簿!D25)","v":""},{"$f":"IF(OR(依頼受簿!E25=0,依頼受簿!E25=\"\"),\"\",VALUE(IF(依頼受簿!E25=1,\"M\",IF(依頼受簿!E25=2,\"T\",IF(依頼受簿!E25=3,\"S\",IF(依頼受簿!E25=4,\"H\",\"-\"))))&依頼受簿!F25&\".\"&依頼受簿!G25&\".\"&依頼受簿!H25))","v":""},{"$f":"IF(OR(依頼受簿!I25=0,依頼受簿!I25=\"\"),\"\",IF(依頼受簿!I25=1,\"男\",IF(依頼受簿!I25=2,\"女\",\"入力欄には数字で性別を入力してください\")))","v":""},null,null,null,null,null,3,2,"",null,"－","衆小\n衆比\n国審","　.　　.　\n　.　　.　","　.　　.　\n　.　　.　",{"$f":"IF(OR(依頼受簿!J25=0,依頼受簿!J25=\"\"),\"\",依頼受簿!J25)","v":""}]
[21,{"$f":"IF(OR(依頼受簿!C26=0,依頼受簿!C26=\"\"),\"\",依頼受簿!C26)","v":""},{"$f":"IF(OR(依頼受簿!D26=0,依頼受簿!D26=\"\"),\"\",依頼受簿!D26)","v":""},{"$f":"IF(OR(依頼受簿!E26=0,依頼受簿!E26=\"\"),\"\",VALUE(IF(依頼受簿!E26=1,\"M\",IF(依頼受簿!E26=2,\"T\",IF(依頼受簿!E26=3,\"S\",IF(依頼受簿!E26=4,\"H\",\"-\"))))&依頼受簿!F26&\".\"&依頼受簿!G26&\".\"&依頼受簿!H26))","v":""},{"$f":"IF(OR(依頼受簿!I26=0,依頼受簿!I26=\"\"),\"\",IF(依頼受簿!I26=1,\"男\",IF(依頼受簿!I26=2,\"女\",\"入力欄には数字で性別を入力してください\")))","v":""},null,null,null,null,null,3,2,"",null,"－","衆小\n衆比\n国審","　.　　.　\n　.　　.　","　.　　.　\n　.　　.　",{"$f":"IF(OR(依頼受簿!J26=0,依頼受簿!J26=\"\"),\"\",依頼受簿!J26)","v":""}]
[22,{"$f":"IF(OR(依頼受簿!C27=0,依頼受簿!C27=\"\"),\"\",依頼受簿!C27)","v":""},{"$f":"IF(OR(依頼受簿!D27=0,依頼受簿!D27=\"\"),\"\",依頼受簿!D27)","v":""},{"$f":"IF(OR(依頼受簿!E27=0,依頼受簿!E27=\"\"),\"\",VALUE(IF(依頼受簿!E27=1,\"M\",IF(依頼受簿!E27=2,\"T\",IF(依頼受簿!E27=3,\"S\",IF(依頼受簿!E27=4,\"H\",\"-\"))))&依頼受簿!F27&\".\"&依頼受簿!G27&\".\"&依頼受簿!H27))","v":""},{"$f":"IF(OR(依頼受簿!I27=0,依頼受簿!I27=\"\"),\"\",IF(依頼受簿!I27=1,\"男\",IF(依頼受簿!I27=2,\"女\",\"入力欄には数字で性別を入力してください\")))","v":""},null,null,null,null,null,3,2,"",null,"－","衆小\n衆比\n国審","　.　　.　\n　.　　.　","　.　　.　\n　.　　.　",{"$f":"IF(OR(依頼受簿!J27=0,依頼受簿!J27=\"\"),\"\",依頼受簿!J27)","v":""}]
[23,{"$f":"IF(OR(依頼受簿!C28=0,依頼受簿!C28=\"\"),\"\",依頼受簿!C28)","v":""},{"$f":"IF(OR(依頼受簿!D28=0,依頼受簿!D28=\"\"),\"\",依頼受簿!D28)","v":""},{"$f":"IF(OR(依頼受簿!E28=0,依頼受簿!E28=\"\"),\"\",VALUE(IF(依頼受簿!E28=1,\"M\",IF(依頼受簿!E28=2,\"T\",IF(依頼受簿!E28=3,\"S\",IF(依頼受簿!E28=4,\"H\",\"-\"))))&依頼受簿!F28&\".\"&依頼受簿!G28&\".\"&依頼受簿!H28))","v":""},{"$f":"IF(OR(依頼受簿!I28=0,依頼受簿!I28=\"\"),\"\",IF(依頼受簿!I28=1,\"男\",IF(依頼受簿!I28=2,\"女\",\"入力欄には数字で性別を入力してください\")))","v":""},null,null,null,null,null,3,2,"",null,"－","衆小\n衆比\n国審","　.　　.　\n　.　　.　","　.　　.　\n　.　　.　",{"$f":"IF(OR(依頼受簿!J28=0,依頼受簿!J28=\"\"),\"\",依頼受簿!J28)","v":""}]
[24,{"$f":"IF(OR(依頼受簿!C29=0,依頼受簿!C29=\"\"),\"\",依頼受簿!C29)","v":""},{"$f":"IF(OR(依頼受簿!D29=0,依頼受簿!D29=\"\"),\"\",依頼受簿!D29)","v":""},{"$f":"IF(OR(依頼受簿!E29=0,依頼受簿!E29=\"\"),\"\",VALUE(IF(依頼受簿!E29=1,\"M\",IF(依頼受簿!E29=2,\"T\",IF(依頼受簿!E29=3,\"S\",IF(依頼受簿!E29=4,\"H\",\"-\"))))&依頼受簿!F29&\".\"&依頼受簿!G29&\".\"&依頼受簿!H29))","v":""},{"$f":"IF(OR(依頼受簿!I29=0,依頼受簿!I29=\"\"),\"\",IF(依頼受簿!I29=1,\"男\",IF(依頼受簿!I29=2,\"女\",\"入力欄には数字で性別を入力してください\")))","v":""},null,null,null,null,null,3,2,"",null,"－","衆小\n衆比\n国審","　.　　.　\n　.　　.　","　.　　.　\n　.　　.　",{"$f":"IF(OR(依頼受簿!J29=0,依頼受簿!J29=\"\"),\"\",依頼受簿!J29)","v":""}]
[25,{"$f":"IF(OR(依頼受簿!C30=0,依頼受簿!C30=\"\"),\"\",依頼受簿!C30)","v":""},{"$f":"IF(OR(依頼受簿!D30=0,依頼受簿!D30=\"\"),\"\",依頼受簿!D30)","v":""},{"$f":"IF(OR(依頼受簿!E30=0,依頼受簿!E30=\"\"),\"\",VALUE(IF(依頼受簿!E30=1,\"M\",IF(依頼受簿!E30=2,\"T\",IF(依頼受簿!E30=3,\"S\",IF(依頼受簿!E30=4,\"H\",\"-\"))))&依頼受簿!F30&\".\"&依頼受簿!G30&\".\"&依頼受簿!H30))","v":""},{"$f":"IF(OR(依頼受簿!I30=0,依頼受簿!I30=\"\"),\"\",IF(依頼受簿!I30=1,\"男\",IF(依頼受簿!I30=2,\"女\",\"入力欄には数字で性別を入力してください\")))","v":""},null,null,null,null,null,3,2,"",null,"－","衆小\n衆比\n国審","　.　　.　\n　.　　.　","　.　　.　\n　.　　.　",{"$f":"IF(OR(依頼受簿!J30=0,依頼受簿!J30=\"\"),\"\",依頼受簿!J30)","v":""}]
[26,{"$f":"IF(OR(依頼受簿!C31=0,依頼受簿!C31=\"\"),\"\",依頼受簿!C31)","v":""},{"$f":"IF(OR(依頼受簿!D31=0,依頼受簿!D31=\"\"),\"\",依頼受簿!D31)","v":""},{"$f":"IF(OR(依頼受簿!E31=0,依頼受簿!E31=\"\"),\"\",VALUE(IF(依頼受簿!E31=1,\"M\",IF(依頼受簿!E31=2,\"T\",IF(依頼受簿!E31=3,\"S\",IF(依頼受簿!E31=4,\"H\",\"-\"))))&依頼受簿!F31&\".\"&依頼受簿!G31&\".\"&依頼受簿!H31))","v":""},{"$f":"IF(OR(依頼受簿!I31=0,依頼受簿!I31=\"\"),\"\",IF(依頼受簿!I31=1,\"男\",IF(依頼受簿!I31=2,\"女\",\"入力欄には数字で性別を入力してください\")))","v":""},null,null,null,null,null,3,2,"",null,"－","衆小\n衆比\n国審","　.　　.　\n　.　　.　","　.　　.　\n　.　　.　",{"$f":"IF(OR(依頼受簿!J31=0,依頼受簿!J31=\"\"),\"\",依頼受簿!J31)","v":""}]
[27,{"$f":"IF(OR(依頼受簿!C32=0,依頼受簿!C32=\"\"),\"\",依頼受簿!C32)","v":""},{"$f":"IF(OR(依頼受簿!D32=0,依頼受簿!D32=\"\"),\"\",依頼受簿!D32)","v":""},{"$f":"IF(OR(依頼受簿!E32=0,依頼受簿!E32=\"\"),\"\",VALUE(IF(依頼受簿!E32=1,\"M\",IF(依頼受簿!E32=2,\"T\",IF(依頼受簿!E32=3,\"S\",IF(依頼受簿!E32=4,\"H\",\"-\"))))&依頼受簿!F32&\".\"&依頼受簿!G32&\".\"&依頼受簿!H32))","v":""},{"$f":"IF(OR(依頼受簿!I32=0,依頼受簿!I32=\"\"),\"\",IF(依頼受簿!I32=1,\"男\",IF(依頼受簿!I32=2,\"女\",\"入力欄には数字で性別を入力してください\")))","v":""},null,null,null,null,null,3,2,"",null,"－","衆小\n衆比\n国審","　.　　.　\n　.　　.　","　.　　.　\n　.　　.　",{"$f":"IF(OR(依頼受簿!J32=0,依頼受簿!J32=\"\"),\"\",依頼受簿!J32)","v":""}]
[28,{"$f":"IF(OR(依頼受簿!C33=0,依頼受簿!C33=\"\"),\"\",依頼受簿!C33)","v":""},{"$f":"IF(OR(依頼受簿!D33=0,依頼受簿!D33=\"\"),\"\",依頼受簿!D33)","v":""},{"$f":"IF(OR(依頼受簿!E33=0,依頼受簿!E33=\"\"),\"\",VALUE(IF(依頼受簿!E33=1,\"M\",IF(依頼受簿!E33=2,\"T\",IF(依頼受簿!E33=3,\"S\",IF(依頼受簿!E33=4,\"H\",\"-\"))))&依頼受簿!F33&\".\"&依頼受簿!G33&\".\"&依頼受簿!H33))","v":""},{"$f":"IF(OR(依頼受簿!I33=0,依頼受簿!I33=\"\"),\"\",IF(依頼受簿!I33=1,\"男\",IF(依頼受簿!I33=2,\"女\",\"入力欄には数字で性別を入力してください\")))","v":""},null,null,null,null,null,3,2,"",null,"－","衆小\n衆比\n国審","　.　　.　\n　.　　.　","　.　　.　\n　.　　.　",{"$f":"IF(OR(依頼受簿!J33=0,依頼受簿!J33=\"\"),\"\",依頼受簿!J33)","v":""}]
[29,{"$f":"IF(OR(依頼受簿!C34=0,依頼受簿!C34=\"\"),\"\",依頼受簿!C34)","v":""},{"$f":"IF(OR(依頼受簿!D34=0,依頼受簿!D34=\"\"),\"\",依頼受簿!D34)","v":""},{"$f":"IF(OR(依頼受簿!E34=0,依頼受簿!E34=\"\"),\"\",VALUE(IF(依頼受簿!E34=1,\"M\",IF(依頼受簿!E34=2,\"T\",IF(依頼受簿!E34=3,\"S\",IF(依頼受簿!E34=4,\"H\",\"-\"))))&依頼受簿!F34&\".\"&依頼受簿!G34&\".\"&依頼受簿!H34))","v":""},{"$f":"IF(OR(依頼受簿!I34=0,依頼受簿!I34=\"\"),\"\",IF(依頼受簿!I34=1,\"男\",IF(依頼受簿!I34=2,\"女\",\"入力欄には数字で性別を入力してください\")))","v":""},null,null,null,null,null,3,2,"",null,"－","衆小\n衆比\n国審","　.　　.　\n　.　　.　","　.　　.　\n　.　　.　",{"$f":"IF(OR(依頼受簿!J34=0,依頼受簿!J34=\"\"),\"\",依頼受簿!J34)","v":""}]
[30,{"$f":"IF(OR(依頼受簿!C35=0,依頼受簿!C35=\"\"),\"\",依頼受簿!C35)","v":""},{"$f":"IF(OR(依頼受簿!D35=0,依頼受簿!D35=\"\"),\"\",依頼受簿!D35)","v":""},{"$f":"IF(OR(依頼受簿!E35=0,依頼受簿!E35=\"\"),\"\",VALUE(IF(依頼受簿!E35=1,\"M\",IF(依頼受簿!E35=2,\"T\",IF(依頼受簿!E35=3,\"S\",IF(依頼受簿!E35=4,\"H\",\"-\"))))&依頼受簿!F35&\".\"&依頼受簿!G35&\".\"&依頼受簿!H35))","v":""},{"$f":"IF(OR(依頼受簿!I35=0,依頼受簿!I35=\"\"),\"\",IF(依頼受簿!I35=1,\"男\",IF(依頼受簿!I35=2,\"女\",\"入力欄には数字で性別を入力してください\")))","v":""},null,null,null,null,null,3,2,"",null,"－","衆小\n衆比\n国審","　.　　.　\n　.　　.　","　.　　.　\n　.　　.　",{"$f":"IF(OR(依頼受簿!J35=0,依頼受簿!J35=\"\"),\"\",依頼受簿!J35)","v":""}]
[31,{"$f":"IF(OR(依頼受簿!C36=0,依頼受簿!C36=\"\"),\"\",依頼受簿!C36)","v":""},{"$f":"IF(OR(依頼受簿!D36=0,依頼受簿!D36=\"\"),\"\",依頼受簿!D36)","v":""},{"$f":"IF(OR(依頼受簿!E36=0,依頼受簿!E36=\"\"),\"\",VALUE(IF(依頼受簿!E36=1,\"M\",IF(依頼受簿!E36=2,\"T\",IF(依頼受簿!E36=3,\"S\",IF(依頼受簿!E36=4,\"H\",\"-\"))))&依頼受簿!F36&\".\"&依頼受簿!G36&\".\"&依頼受簿!H36))","v":""},{"$f":"IF(OR(依頼受簿!I36=0,依頼受簿!I36=\"\"),\"\",IF(依頼受簿!I36=1,\"男\",IF(依頼受簿!I36=2,\"女\",\"入力欄には数字で性別を入力してください\")))","v":""},null,null,null,null,null,3,2,"",null,"－","衆小\n衆比\n国審","　.　　.　\n　.　　.　","　.　　.　\n　.　　.　",{"$f":"IF(OR(依頼受簿!J36=0,依頼受簿!J36=\"\"),\"\",依頼受簿!J36)","v":""}]
[32,{"$f":"IF(OR(依頼受簿!C37=0,依頼受簿!C37=\"\"),\"\",依頼受簿!C37)","v":""},{"$f":"IF(OR(依頼受簿!D37=0,依頼受簿!D37=\"\"),\"\",依頼受簿!D37)","v":""},{"$f":"IF(OR(依頼受簿!E37=0,依頼受簿!E37=\"\"),\"\",VALUE(IF(依頼受簿!E37=1,\"M\",IF(依頼受簿!E37=2,\"T\",IF(依頼受簿!E37=3,\"S\",IF(依頼受簿!E37=4,\"H\",\"-\"))))&依頼受簿!F37&\".\"&依頼受簿!G37&\".\"&依頼受簿!H37))","v":""},{"$f":"IF(OR(依頼受簿!I37=0,依頼受簿!I37=\"\"),\"\",IF(依頼受簿!I37=1,\"男\",IF(依頼受簿!I37=2,\"女\",\"入力欄には数字で性別を入力してください\")))","v":""},null,null,null,null,null,3,2,"",null,"－","衆小\n衆比\n国審","　.　　.　\n　.　　.　","　.　　.　\n　.　　.　",{"$f":"IF(OR(依頼受簿!J37=0,依頼受簿!J37=\"\"),\"\",依頼受簿!J37)","v":""}]
[33,{"$f":"IF(OR(依頼受簿!C38=0,依頼受簿!C38=\"\"),\"\",依頼受簿!C38)","v":""},{"$f":"IF(OR(依頼受簿!D38=0,依頼受簿!D38=\"\"),\"\",依頼受簿!D38)","v":""},{"$f":"IF(OR(依頼受簿!E38=0,依頼受簿!E38=\"\"),\"\",VALUE(IF(依頼受簿!E38=1,\"M\",IF(依頼受簿!E38=2,\"T\",IF(依頼受簿!E38=3,\"S\",IF(依頼受簿!E38=4,\"H\",\"-\"))))&依頼受簿!F38&\".\"&依頼受簿!G38&\".\"&依頼受簿!H38))","v":""},{"$f":"IF(OR(依頼受簿!I38=0,依頼受簿!I38=\"\"),\"\",IF(依頼受簿!I38=1,\"男\",IF(依頼受簿!I38=2,\"女\",\"入力欄には数字で性別を入力してください\")))","v":""},null,null,null,null,null,3,2,"",null,"－","衆小\n衆比\n国審","　.　　.　\n　.　　.　","　.　　.　\n　.　　.　",{"$f":"IF(OR(依頼受簿!J38=0,依頼受簿!J38=\"\"),\"\",依頼受簿!J38)","v":""}]
[34,{"$f":"IF(OR(依頼受簿!C39=0,依頼受簿!C39=\"\"),\"\",依頼受簿!C39)","v":""},{"$f":"IF(OR(依頼受簿!D39=0,依頼受簿!D39=\"\"),\"\",依頼受簿!D39)","v":""},{"$f":"IF(OR(依頼受簿!E39=0,依頼受簿!E39=\"\"),\"\",VALUE(IF(依頼受簿!E39=1,\"M\",IF(依頼受簿!E39=2,\"T\",IF(依頼受簿!E39=3,\"S\",IF(依頼受簿!E39=4,\"H\",\"-\"))))&依頼受簿!F39&\".\"&依頼受簿!G39&\".\"&依頼受簿!H39))","v":""},{"$f":"IF(OR(依頼受簿!I39=0,依頼受簿!I39=\"\"),\"\",IF(依頼受簿!I39=1,\"男\",IF(依頼受簿!I39=2,\"女\",\"入力欄には数字で性別を入力してください\")))","v":""},null,null,null,null,null,3,2,"",null,"－","衆小\n衆比\n国審","　.　　.　\n　.　　.　","　.　　.　\n　.　　.　",{"$f":"IF(OR(依頼受簿!J39=0,依頼受簿!J39=\"\"),\"\",依頼受簿!J39)","v":""}]
[35,{"$f":"IF(OR(依頼受簿!C40=0,依頼受簿!C40=\"\"),\"\",依頼受簿!C40)","v":""},{"$f":"IF(OR(依頼受簿!D40=0,依頼受簿!D40=\"\"),\"\",依頼受簿!D40)","v":""},{"$f":"IF(OR(依頼受簿!E40=0,依頼受簿!E40=\"\"),\"\",VALUE(IF(依頼受簿!E40=1,\"M\",IF(依頼受簿!E40=2,\"T\",IF(依頼受簿!E40=3,\"S\",IF(依頼受簿!E40=4,\"H\",\"-\"))))&依頼受簿!F40&\".\"&依頼受簿!G40&\".\"&依頼受簿!H40))","v":""},{"$f":"IF(OR(依頼受簿!I40=0,依頼受簿!I40=\"\"),\"\",IF(依頼受簿!I40=1,\"男\",IF(依頼受簿!I40=2,\"女\",\"入力欄には数字で性別を入力してください\")))","v":""},null,null,null,null,null,3,2,"",null,"－","衆小\n衆比\n国審","　.　　.　\n　.　　.　","　.　　.　\n　.　　.　",{"$f":"IF(OR(依頼受簿!J40=0,依頼受簿!J40=\"\"),\"\",依頼受簿!J40)","v":""}]
[36,{"$f":"IF(OR(依頼受簿!C41=0,依頼受簿!C41=\"\"),\"\",依頼受簿!C41)","v":""},{"$f":"IF(OR(依頼受簿!D41=0,依頼受簿!D41=\"\"),\"\",依頼受簿!D41)","v":""},{"$f":"IF(OR(依頼受簿!E41=0,依頼受簿!E41=\"\"),\"\",VALUE(IF(依頼受簿!E41=1,\"M\",IF(依頼受簿!E41=2,\"T\",IF(依頼受簿!E41=3,\"S\",IF(依頼受簿!E41=4,\"H\",\"-\"))))&依頼受簿!F41&\".\"&依頼受簿!G41&\".\"&依頼受簿!H41))","v":""},{"$f":"IF(OR(依頼受簿!I41=0,依頼受簿!I41=\"\"),\"\",IF(依頼受簿!I41=1,\"男\",IF(依頼受簿!I41=2,\"女\",\"入力欄には数字で性別を入力してください\")))","v":""},null,null,null,null,null,3,2,"",null,"－","衆小\n衆比\n国審","　.　　.　\n　.　　.　","　.　　.　\n　.　　.　",{"$f":"IF(OR(依頼受簿!J41=0,依頼受簿!J41=\"\"),\"\",依頼受簿!J41)","v":""}]
[37,{"$f":"IF(OR(依頼受簿!C42=0,依頼受簿!C42=\"\"),\"\",依頼受簿!C42)","v":""},{"$f":"IF(OR(依頼受簿!D42=0,依頼受簿!D42=\"\"),\"\",依頼受簿!D42)","v":""},{"$f":"IF(OR(依頼受簿!E42=0,依頼受簿!E42=\"\"),\"\",VALUE(IF(依頼受簿!E42=1,\"M\",IF(依頼受簿!E42=2,\"T\",IF(依頼受簿!E42=3,\"S\",IF(依頼受簿!E42=4,\"H\",\"-\"))))&依頼受簿!F42&\".\"&依頼受簿!G42&\".\"&依頼受簿!H42))","v":""},{"$f":"IF(OR(依頼受簿!I42=0,依頼受簿!I42=\"\"),\"\",IF(依頼受簿!I42=1,\"男\",IF(依頼受簿!I42=2,\"女\",\"入力欄には数字で性別を入力してください\")))","v":""},null,null,null,null,null,3,2,"",null,"－","衆小\n衆比\n国審","　.　　.　\n　.　　.　","　.　　.　\n　.　　.　",{"$f":"IF(OR(依頼受簿!J42=0,依頼受簿!J42=\"\"),\"\",依頼受簿!J42)","v":""}]
[38,{"$f":"IF(OR(依頼受簿!C43=0,依頼受簿!C43=\"\"),\"\",依頼受簿!C43)","v":""},{"$f":"IF(OR(依頼受簿!D43=0,依頼受簿!D43=\"\"),\"\",依頼受簿!D43)","v":""},{"$f":"IF(OR(依頼受簿!E43=0,依頼受簿!E43=\"\"),\"\",VALUE(IF(依頼受簿!E43=1,\"M\",IF(依頼受簿!E43=2,\"T\",IF(依頼受簿!E43=3,\"S\",IF(依頼受簿!E43=4,\"H\",\"-\"))))&依頼受簿!F43&\".\"&依頼受簿!G43&\".\"&依頼受簿!H43))","v":""},{"$f":"IF(OR(依頼受簿!I43=0,依頼受簿!I43=\"\"),\"\",IF(依頼受簿!I43=1,\"男\",IF(依頼受簿!I43=2,\"女\",\"入力欄には数字で性別を入力してください\")))","v":""},null,null,null,null,null,3,2,"",null,"－","衆小\n衆比\n国審","　.　　.　\n　.　　.　","　.　　.　\n　.　　.　",{"$f":"IF(OR(依頼受簿!J43=0,依頼受簿!J43=\"\"),\"\",依頼受簿!J43)","v":""}]
[39,{"$f":"IF(OR(依頼受簿!C44=0,依頼受簿!C44=\"\"),\"\",依頼受簿!C44)","v":""},{"$f":"IF(OR(依頼受簿!D44=0,依頼受簿!D44=\"\"),\"\",依頼受簿!D44)","v":""},{"$f":"IF(OR(依頼受簿!E44=0,依頼受簿!E44=\"\"),\"\",VALUE(IF(依頼受簿!E44=1,\"M\",IF(依頼受簿!E44=2,\"T\",IF(依頼受簿!E44=3,\"S\",IF(依頼受簿!E44=4,\"H\",\"-\"))))&依頼受簿!F44&\".\"&依頼受簿!G44&\".\"&依頼受簿!H44))","v":""},{"$f":"IF(OR(依頼受簿!I44=0,依頼受簿!I44=\"\"),\"\",IF(依頼受簿!I44=1,\"男\",IF(依頼受簿!I44=2,\"女\",\"入力欄には数字で性別を入力してください\")))","v":""},null,null,null,null,null,3,2,"",null,"－","衆小\n衆比\n国審","　.　　.　\n　.　　.　","　.　　.　\n　.　　.　",{"$f":"IF(OR(依頼受簿!J44=0,依頼受簿!J44=\"\"),\"\",依頼受簿!J44)","v":""}]
[40,{"$f":"IF(OR(依頼受簿!C45=0,依頼受簿!C45=\"\"),\"\",依頼受簿!C45)","v":""},{"$f":"IF(OR(依頼受簿!D45=0,依頼受簿!D45=\"\"),\"\",依頼受簿!D45)","v":""},{"$f":"IF(OR(依頼受簿!E45=0,依頼受簿!E45=\"\"),\"\",VALUE(IF(依頼受簿!E45=1,\"M\",IF(依頼受簿!E45=2,\"T\",IF(依頼受簿!E45=3,\"S\",IF(依頼受簿!E45=4,\"H\",\"-\"))))&依頼受簿!F45&\".\"&依頼受簿!G45&\".\"&依頼受簿!H45))","v":""},{"$f":"IF(OR(依頼受簿!I45=0,依頼受簿!I45=\"\"),\"\",IF(依頼受簿!I45=1,\"男\",IF(依頼受簿!I45=2,\"女\",\"入力欄には数字で性別を入力してください\")))","v":""},null,null,null,null,null,3,2,"",null,"－","衆小\n衆比\n国審","　.　　.　\n　.　　.　","　.　　.　\n　.　　.　",{"$f":"IF(OR(依頼受簿!J45=0,依頼受簿!J45=\"\"),\"\",依頼受簿!J45)","v":""}]
[41,{"$f":"IF(OR(依頼受簿!C46=0,依頼受簿!C46=\"\"),\"\",依頼受簿!C46)","v":""},{"$f":"IF(OR(依頼受簿!D46=0,依頼受簿!D46=\"\"),\"\",依頼受簿!D46)","v":""},{"$f":"IF(OR(依頼受簿!E46=0,依頼受簿!E46=\"\"),\"\",VALUE(IF(依頼受簿!E46=1,\"M\",IF(依頼受簿!E46=2,\"T\",IF(依頼受簿!E46=3,\"S\",IF(依頼受簿!E46=4,\"H\",\"-\"))))&依頼受簿!F46&\".\"&依頼受簿!G46&\".\"&依頼受簿!H46))","v":""},{"$f":"IF(OR(依頼受簿!I46=0,依頼受簿!I46=\"\"),\"\",IF(依頼受簿!I46=1,\"男\",IF(依頼受簿!I46=2,\"女\",\"入力欄には数字で性別を入力してください\")))","v":""},null,null,null,null,null,3,2,"",null,"－","衆小\n衆比\n国審","　.　　.　\n　.　　.　","　.　　.　\n　.　　.　",{"$f":"IF(OR(依頼受簿!J46=0,依頼受簿!J46=\"\"),\"\",依頼受簿!J46)","v":""}]
[42,{"$f":"IF(OR(依頼受簿!C47=0,依頼受簿!C47=\"\"),\"\",依頼受簿!C47)","v":""},{"$f":"IF(OR(依頼受簿!D47=0,依頼受簿!D47=\"\"),\"\",依頼受簿!D47)","v":""},{"$f":"IF(OR(依頼受簿!E47=0,依頼受簿!E47=\"\"),\"\",VALUE(IF(依頼受簿!E47=1,\"M\",IF(依頼受簿!E47=2,\"T\",IF(依頼受簿!E47=3,\"S\",IF(依頼受簿!E47=4,\"H\",\"-\"))))&依頼受簿!F47&\".\"&依頼受簿!G47&\".\"&依頼受簿!H47))","v":""},{"$f":"IF(OR(依頼受簿!I47=0,依頼受簿!I47=\"\"),\"\",IF(依頼受簿!I47=1,\"男\",IF(依頼受簿!I47=2,\"女\",\"入力欄には数字で性別を入力してください\")))","v":""},null,null,null,null,null,3,2,"",null,"－","衆小\n衆比\n国審","　.　　.　\n　.　　.　","　.　　.　\n　.　　.　",{"$f":"IF(OR(依頼受簿!J47=0,依頼受簿!J47=\"\"),\"\",依頼受簿!J47)","v":""}]
[43,{"$f":"IF(OR(依頼受簿!C48=0,依頼受簿!C48=\"\"),\"\",依頼受簿!C48)","v":""},{"$f":"IF(OR(依頼受簿!D48=0,依頼受簿!D48=\"\"),\"\",依頼受簿!D48)","v":""},{"$f":"IF(OR(依頼受簿!E48=0,依頼受簿!E48=\"\"),\"\",VALUE(IF(依頼受簿!E48=1,\"M\",IF(依頼受簿!E48=2,\"T\",IF(依頼受簿!E48=3,\"S\",IF(依頼受簿!E48=4,\"H\",\"-\"))))&依頼受簿!F48&\".\"&依頼受簿!G48&\".\"&依頼受簿!H48))","v":""},{"$f":"IF(OR(依頼受簿!I48=0,依頼受簿!I48=\"\"),\"\",IF(依頼受簿!I48=1,\"男\",IF(依頼受簿!I48=2,\"女\",\"入力欄には数字で性別を入力してください\")))","v":""},null,null,null,null,null,3,2,"",null,"－","衆小\n衆比\n国審","　.　　.　\n　.　　.　","　.　　.　\n　.　　.　",{"$f":"IF(OR(依頼受簿!J48=0,依頼受簿!J48=\"\"),\"\",依頼受簿!J48)","v":""}]
[44,{"$f":"IF(OR(依頼受簿!C49=0,依頼受簿!C49=\"\"),\"\",依頼受簿!C49)","v":""},{"$f":"IF(OR(依頼受簿!D49=0,依頼受簿!D49=\"\"),\"\",依頼受簿!D49)","v":""},{"$f":"IF(OR(依頼受簿!E49=0,依頼受簿!E49=\"\"),\"\",VALUE(IF(依頼受簿!E49=1,\"M\",IF(依頼受簿!E49=2,\"T\",IF(依頼受簿!E49=3,\"S\",IF(依頼受簿!E49=4,\"H\",\"-\"))))&依頼受簿!F49&\".\"&依頼受簿!G49&\".\"&依頼受簿!H49))","v":""},{"$f":"IF(OR(依頼受簿!I49=0,依頼受簿!I49=\"\"),\"\",IF(依頼受簿!I49=1,\"男\",IF(依頼受簿!I49=2,\"女\",\"入力欄には数字で性別を入力してください\")))","v":""},null,null,null,null,null,3,2,"",null,"－","衆小\n衆比\n国審","　.　　.　\n　.　　.　","　.　　.　\n　.　　.　",{"$f":"IF(OR(依頼受簿!J49=0,依頼受簿!J49=\"\"),\"\",依頼受簿!J49)","v":""}]
[45,{"$f":"IF(OR(依頼受簿!C50=0,依頼受簿!C50=\"\"),\"\",依頼受簿!C50)","v":""},{"$f":"IF(OR(依頼受簿!D50=0,依頼受簿!D50=\"\"),\"\",依頼受簿!D50)","v":""},{"$f":"IF(OR(依頼受簿!E50=0,依頼受簿!E50=\"\"),\"\",VALUE(IF(依頼受簿!E50=1,\"M\",IF(依頼受簿!E50=2,\"T\",IF(依頼受簿!E50=3,\"S\",IF(依頼受簿!E50=4,\"H\",\"-\"))))&依頼受簿!F50&\".\"&依頼受簿!G50&\".\"&依頼受簿!H50))","v":""},{"$f":"IF(OR(依頼受簿!I50=0,依頼受簿!I50=\"\"),\"\",IF(依頼受簿!I50=1,\"男\",IF(依頼受簿!I50=2,\"女\",\"入力欄には数字で性別を入力してください\")))","v":""},null,null,null,null,null,3,2,"",null,"－","衆小\n衆比\n国審","　.　　.　\n　.　　.　","　.　　.　\n　.　　.　",{"$f":"IF(OR(依頼受簿!J50=0,依頼受簿!J50=\"\"),\"\",依頼受簿!J50)","v":""}]
[46,{"$f":"IF(OR(依頼受簿!C51=0,依頼受簿!C51=\"\"),\"\",依頼受簿!C51)","v":""},{"$f":"IF(OR(依頼受簿!D51=0,依頼受簿!D51=\"\"),\"\",依頼受簿!D51)","v":""},{"$f":"IF(OR(依頼受簿!E51=0,依頼受簿!E51=\"\"),\"\",VALUE(IF(依頼受簿!E51=1,\"M\",IF(依頼受簿!E51=2,\"T\",IF(依頼受簿!E51=3,\"S\",IF(依頼受簿!E51=4,\"H\",\"-\"))))&依頼受簿!F51&\".\"&依頼受簿!G51&\".\"&依頼受簿!H51))","v":""},{"$f":"IF(OR(依頼受簿!I51=0,依頼受簿!I51=\"\"),\"\",IF(依頼受簿!I51=1,\"男\",IF(依頼受簿!I51=2,\"女\",\"入力欄には数字で性別を入力してください\")))","v":""},null,null,null,null,null,3,2,"",null,"－","衆小\n衆比\n国審","　.　　.　\n　.　　.　","　.　　.　\n　.　　.　",{"$f":"IF(OR(依頼受簿!J51=0,依頼受簿!J51=\"\"),\"\",依頼受簿!J51)","v":""}]
[47,{"$f":"IF(OR(依頼受簿!C52=0,依頼受簿!C52=\"\"),\"\",依頼受簿!C52)","v":""},{"$f":"IF(OR(依頼受簿!D52=0,依頼受簿!D52=\"\"),\"\",依頼受簿!D52)","v":""},{"$f":"IF(OR(依頼受簿!E52=0,依頼受簿!E52=\"\"),\"\",VALUE(IF(依頼受簿!E52=1,\"M\",IF(依頼受簿!E52=2,\"T\",IF(依頼受簿!E52=3,\"S\",IF(依頼受簿!E52=4,\"H\",\"-\"))))&依頼受簿!F52&\".\"&依頼受簿!G52&\".\"&依頼受簿!H52))","v":""},{"$f":"IF(OR(依頼受簿!I52=0,依頼受簿!I52=\"\"),\"\",IF(依頼受簿!I52=1,\"男\",IF(依頼受簿!I52=2,\"女\",\"入力欄には数字で性別を入力してください\")))","v":""},null,null,null,null,null,3,2,"",null,"－","衆小\n衆比\n国審","　.　　.　\n　.　　.　","　.　　.　\n　.　　.　",{"$f":"IF(OR(依頼受簿!J52=0,依頼受簿!J52=\"\"),\"\",依頼受簿!J52)","v":""}]
[48,{"$f":"IF(OR(依頼受簿!C53=0,依頼受簿!C53=\"\"),\"\",依頼受簿!C53)","v":""},{"$f":"IF(OR(依頼受簿!D53=0,依頼受簿!D53=\"\"),\"\",依頼受簿!D53)","v":""},{"$f":"IF(OR(依頼受簿!E53=0,依頼受簿!E53=\"\"),\"\",VALUE(IF(依頼受簿!E53=1,\"M\",IF(依頼受簿!E53=2,\"T\",IF(依頼受簿!E53=3,\"S\",IF(依頼受簿!E53=4,\"H\",\"-\"))))&依頼受簿!F53&\".\"&依頼受簿!G53&\".\"&依頼受簿!H53))","v":""},{"$f":"IF(OR(依頼受簿!I53=0,依頼受簿!I53=\"\"),\"\",IF(依頼受簿!I53=1,\"男\",IF(依頼受簿!I53=2,\"女\",\"入力欄には数字で性別を入力してください\")))","v":""},null,null,null,null,null,3,2,"",null,"－","衆小\n衆比\n国審","　.　　.　\n　.　　.　","　.　　.　\n　.　　.　",{"$f":"IF(OR(依頼受簿!J53=0,依頼受簿!J53=\"\"),\"\",依頼受簿!J53)","v":""}]
[49,{"$f":"IF(OR(依頼受簿!C54=0,依頼受簿!C54=\"\"),\"\",依頼受簿!C54)","v":""},{"$f":"IF(OR(依頼受簿!D54=0,依頼受簿!D54=\"\"),\"\",依頼受簿!D54)","v":""},{"$f":"IF(OR(依頼受簿!E54=0,依頼受簿!E54=\"\"),\"\",VALUE(IF(依頼受簿!E54=1,\"M\",IF(依頼受簿!E54=2,\"T\",IF(依頼受簿!E54=3,\"S\",IF(依頼受簿!E54=4,\"H\",\"-\"))))&依頼受簿!F54&\".\"&依頼受簿!G54&\".\"&依頼受簿!H54))","v":""},{"$f":"IF(OR(依頼受簿!I54=0,依頼受簿!I54=\"\"),\"\",IF(依頼受簿!I54=1,\"男\",IF(依頼受簿!I54=2,\"女\",\"入力欄には数字で性別を入力してください\")))","v":""},null,null,null,null,null,3,2,"",null,"－","衆小\n衆比\n国審","　.　　.　\n　.　　.　","　.　　.　\n　.　　.　",{"$f":"IF(OR(依頼受簿!J54=0,依頼受簿!J54=\"\"),\"\",依頼受簿!J54)","v":""}]
[50,{"$f":"IF(OR(依頼受簿!C55=0,依頼受簿!C55=\"\"),\"\",依頼受簿!C55)","v":""},{"$f":"IF(OR(依頼受簿!D55=0,依頼受簿!D55=\"\"),\"\",依頼受簿!D55)","v":""},{"$f":"IF(OR(依頼受簿!E55=0,依頼受簿!E55=\"\"),\"\",VALUE(IF(依頼受簿!E55=1,\"M\",IF(依頼受簿!E55=2,\"T\",IF(依頼受簿!E55=3,\"S\",IF(依頼受簿!E55=4,\"H\",\"-\"))))&依頼受簿!F55&\".\"&依頼受簿!G55&\".\"&依頼受簿!H55))","v":""},{"$f":"IF(OR(依頼受簿!I55=0,依頼受簿!I55=\"\"),\"\",IF(依頼受簿!I55=1,\"男\",IF(依頼受簿!I55=2,\"女\",\"入力欄には数字で性別を入力してください\")))","v":""},null,null,null,null,null,3,2,"",null,"－","衆小\n衆比\n国審","　.　　.　\n　.　　.　","　.　　.　\n　.　　.　",{"$f":"IF(OR(依頼受簿!J55=0,依頼受簿!J55=\"\"),\"\",依頼受簿!J55)","v":""}]
[51,{"$f":"IF(OR(依頼受簿!C56=0,依頼受簿!C56=\"\"),\"\",依頼受簿!C56)","v":""},{"$f":"IF(OR(依頼受簿!D56=0,依頼受簿!D56=\"\"),\"\",依頼受簿!D56)","v":""},{"$f":"IF(OR(依頼受簿!E56=0,依頼受簿!E56=\"\"),\"\",VALUE(IF(依頼受簿!E56=1,\"M\",IF(依頼受簿!E56=2,\"T\",IF(依頼受簿!E56=3,\"S\",IF(依頼受簿!E56=4,\"H\",\"-\"))))&依頼受簿!F56&\".\"&依頼受簿!G56&\".\"&依頼受簿!H56))","v":""},{"$f":"IF(OR(依頼受簿!I56=0,依頼受簿!I56=\"\"),\"\",IF(依頼受簿!I56=1,\"男\",IF(依頼受簿!I56=2,\"女\",\"入力欄には数字で性別を入力してください\")))","v":""},null,null,null,null,null,3,2,"",null,"－","衆小\n衆比\n国審","　.　　.　\n　.　　.　","　.　　.　\n　.　　.　",{"$f":"IF(OR(依頼受簿!J56=0,依頼受簿!J56=\"\"),\"\",依頼受簿!J56)","v":""}]
[52,{"$f":"IF(OR(依頼受簿!C57=0,依頼受簿!C57=\"\"),\"\",依頼受簿!C57)","v":""},{"$f":"IF(OR(依頼受簿!D57=0,依頼受簿!D57=\"\"),\"\",依頼受簿!D57)","v":""},{"$f":"IF(OR(依頼受簿!E57=0,依頼受簿!E57=\"\"),\"\",VALUE(IF(依頼受簿!E57=1,\"M\",IF(依頼受簿!E57=2,\"T\",IF(依頼受簿!E57=3,\"S\",IF(依頼受簿!E57=4,\"H\",\"-\"))))&依頼受簿!F57&\".\"&依頼受簿!G57&\".\"&依頼受簿!H57))","v":""},{"$f":"IF(OR(依頼受簿!I57=0,依頼受簿!I57=\"\"),\"\",IF(依頼受簿!I57=1,\"男\",IF(依頼受簿!I57=2,\"女\",\"入力欄には数字で性別を入力してください\")))","v":""},null,null,null,null,null,3,2,"",null,"－","衆小\n衆比\n国審","　.　　.　\n　.　　.　","　.　　.　\n　.　　.　",{"$f":"IF(OR(依頼受簿!J57=0,依頼受簿!J57=\"\"),\"\",依頼受簿!J57)","v":""}]
[53,{"$f":"IF(OR(依頼受簿!C58=0,依頼受簿!C58=\"\"),\"\",依頼受簿!C58)","v":""},{"$f":"IF(OR(依頼受簿!D58=0,依頼受簿!D58=\"\"),\"\",依頼受簿!D58)","v":""},{"$f":"IF(OR(依頼受簿!E58=0,依頼受簿!E58=\"\"),\"\",VALUE(IF(依頼受簿!E58=1,\"M\",IF(依頼受簿!E58=2,\"T\",IF(依頼受簿!E58=3,\"S\",IF(依頼受簿!E58=4,\"H\",\"-\"))))&依頼受簿!F58&\".\"&依頼受簿!G58&\".\"&依頼受簿!H58))","v":""},{"$f":"IF(OR(依頼受簿!I58=0,依頼受簿!I58=\"\"),\"\",IF(依頼受簿!I58=1,\"男\",IF(依頼受簿!I58=2,\"女\",\"入力欄には数字で性別を入力してください\")))","v":""},null,null,null,null,null,3,2,"",null,"－","衆小\n衆比\n国審","　.　　.　\n　.　　.　","　.　　.　\n　.　　.　",{"$f":"IF(OR(依頼受簿!J58=0,依頼受簿!J58=\"\"),\"\",依頼受簿!J58)","v":""}]
[54,{"$f":"IF(OR(依頼受簿!C59=0,依頼受簿!C59=\"\"),\"\",依頼受簿!C59)","v":""},{"$f":"IF(OR(依頼受簿!D59=0,依頼受簿!D59=\"\"),\"\",依頼受簿!D59)","v":""},{"$f":"IF(OR(依頼受簿!E59=0,依頼受簿!E59=\"\"),\"\",VALUE(IF(依頼受簿!E59=1,\"M\",IF(依頼受簿!E59=2,\"T\",IF(依頼受簿!E59=3,\"S\",IF(依頼受簿!E59=4,\"H\",\"-\"))))&依頼受簿!F59&\".\"&依頼受簿!G59&\".\"&依頼受簿!H59))","v":""},{"$f":"IF(OR(依頼受簿!I59=0,依頼受簿!I59=\"\"),\"\",IF(依頼受簿!I59=1,\"男\",IF(依頼受簿!I59=2,\"女\",\"入力欄には数字で性別を入力してください\")))","v":""},null,null,null,null,null,3,2,"",null,"－","衆小\n衆比\n国審","　.　　.　\n　.　　.　","　.　　.　\n　.　　.　",{"$f":"IF(OR(依頼受簿!J59=0,依頼受簿!J59=\"\"),\"\",依頼受簿!J59)","v":""}]
[55,{"$f":"IF(OR(依頼受簿!C60=0,依頼受簿!C60=\"\"),\"\",依頼受簿!C60)","v":""},{"$f":"IF(OR(依頼受簿!D60=0,依頼受簿!D60=\"\"),\"\",依頼受簿!D60)","v":""},{"$f":"IF(OR(依頼受簿!E60=0,依頼受簿!E60=\"\"),\"\",VALUE(IF(依頼受簿!E60=1,\"M\",IF(依頼受簿!E60=2,\"T\",IF(依頼受簿!E60=3,\"S\",IF(依頼受簿!E60=4,\"H\",\"-\"))))&依頼受簿!F60&\".\"&依頼受簿!G60&\".\"&依頼受簿!H60))","v":""},{"$f":"IF(OR(依頼受簿!I60=0,依頼受簿!I60=\"\"),\"\",IF(依頼受簿!I60=1,\"男\",IF(依頼受簿!I60=2,\"女\",\"入力欄には数字で性別を入力してください\")))","v":""},null,null,null,null,null,3,2,"",null,"－","衆小\n衆比\n国審","　.　　.　\n　.　　.　","　.　　.　\n　.　　.　",{"$f":"IF(OR(依頼受簿!J60=0,依頼受簿!J60=\"\"),\"\",依頼受簿!J60)","v":""}]
[56,{"$f":"IF(OR(依頼受簿!C61=0,依頼受簿!C61=\"\"),\"\",依頼受簿!C61)","v":""},{"$f":"IF(OR(依頼受簿!D61=0,依頼受簿!D61=\"\"),\"\",依頼受簿!D61)","v":""},{"$f":"IF(OR(依頼受簿!E61=0,依頼受簿!E61=\"\"),\"\",VALUE(IF(依頼受簿!E61=1,\"M\",IF(依頼受簿!E61=2,\"T\",IF(依頼受簿!E61=3,\"S\",IF(依頼受簿!E61=4,\"H\",\"-\"))))&依頼受簿!F61&\".\"&依頼受簿!G61&\".\"&依頼受簿!H61))","v":""},{"$f":"IF(OR(依頼受簿!I61=0,依頼受簿!I61=\"\"),\"\",IF(依頼受簿!I61=1,\"男\",IF(依頼受簿!I61=2,\"女\",\"入力欄には数字で性別を入力してください\")))","v":""},null,null,null,null,null,3,2,"",null,"－","衆小\n衆比\n国審","　.　　.　\n　.　　.　","　.　　.　\n　.　　.　",{"$f":"IF(OR(依頼受簿!J61=0,依頼受簿!J61=\"\"),\"\",依頼受簿!J61)","v":""}]
[57,{"$f":"IF(OR(依頼受簿!C62=0,依頼受簿!C62=\"\"),\"\",依頼受簿!C62)","v":""},{"$f":"IF(OR(依頼受簿!D62=0,依頼受簿!D62=\"\"),\"\",依頼受簿!D62)","v":""},{"$f":"IF(OR(依頼受簿!E62=0,依頼受簿!E62=\"\"),\"\",VALUE(IF(依頼受簿!E62=1,\"M\",IF(依頼受簿!E62=2,\"T\",IF(依頼受簿!E62=3,\"S\",IF(依頼受簿!E62=4,\"H\",\"-\"))))&依頼受簿!F62&\".\"&依頼受簿!G62&\".\"&依頼受簿!H62))","v":""},{"$f":"IF(OR(依頼受簿!I62=0,依頼受簿!I62=\"\"),\"\",IF(依頼受簿!I62=1,\"男\",IF(依頼受簿!I62=2,\"女\",\"入力欄には数字で性別を入力してください\")))","v":""},null,null,null,null,null,3,2,"",null,"－","衆小\n衆比\n国審","　.　　.　\n　.　　.　","　.　　.　\n　.　　.　",{"$f":"IF(OR(依頼受簿!J62=0,依頼受簿!J62=\"\"),\"\",依頼受簿!J62)","v":""}]
[58,{"$f":"IF(OR(依頼受簿!C63=0,依頼受簿!C63=\"\"),\"\",依頼受簿!C63)","v":""},{"$f":"IF(OR(依頼受簿!D63=0,依頼受簿!D63=\"\"),\"\",依頼受簿!D63)","v":""},{"$f":"IF(OR(依頼受簿!E63=0,依頼受簿!E63=\"\"),\"\",VALUE(IF(依頼受簿!E63=1,\"M\",IF(依頼受簿!E63=2,\"T\",IF(依頼受簿!E63=3,\"S\",IF(依頼受簿!E63=4,\"H\",\"-\"))))&依頼受簿!F63&\".\"&依頼受簿!G63&\".\"&依頼受簿!H63))","v":""},{"$f":"IF(OR(依頼受簿!I63=0,依頼受簿!I63=\"\"),\"\",IF(依頼受簿!I63=1,\"男\",IF(依頼受簿!I63=2,\"女\",\"入力欄には数字で性別を入力してください\")))","v":""},null,null,null,null,null,3,2,"",null,"－","衆小\n衆比\n国審","　.　　.　\n　.　　.　","　.　　.　\n　.　　.　",{"$f":"IF(OR(依頼受簿!J63=0,依頼受簿!J63=\"\"),\"\",依頼受簿!J63)","v":""}]
[59,{"$f":"IF(OR(依頼受簿!C64=0,依頼受簿!C64=\"\"),\"\",依頼受簿!C64)","v":""},{"$f":"IF(OR(依頼受簿!D64=0,依頼受簿!D64=\"\"),\"\",依頼受簿!D64)","v":""},{"$f":"IF(OR(依頼受簿!E64=0,依頼受簿!E64=\"\"),\"\",VALUE(IF(依頼受簿!E64=1,\"M\",IF(依頼受簿!E64=2,\"T\",IF(依頼受簿!E64=3,\"S\",IF(依頼受簿!E64=4,\"H\",\"-\"))))&依頼受簿!F64&\".\"&依頼受簿!G64&\".\"&依頼受簿!H64))","v":""},{"$f":"IF(OR(依頼受簿!I64=0,依頼受簿!I64=\"\"),\"\",IF(依頼受簿!I64=1,\"男\",IF(依頼受簿!I64=2,\"女\",\"入力欄には数字で性別を入力してください\")))","v":""},null,null,null,null,null,3,2,"",null,"－","衆小\n衆比\n国審","　.　　.　\n　.　　.　","　.　　.　\n　.　　.　",{"$f":"IF(OR(依頼受簿!J64=0,依頼受簿!J64=\"\"),\"\",依頼受簿!J64)","v":""}]
[60,{"$f":"IF(OR(依頼受簿!C65=0,依頼受簿!C65=\"\"),\"\",依頼受簿!C65)","v":""},{"$f":"IF(OR(依頼受簿!D65=0,依頼受簿!D65=\"\"),\"\",依頼受簿!D65)","v":""},{"$f":"IF(OR(依頼受簿!E65=0,依頼受簿!E65=\"\"),\"\",VALUE(IF(依頼受簿!E65=1,\"M\",IF(依頼受簿!E65=2,\"T\",IF(依頼受簿!E65=3,\"S\",IF(依頼受簿!E65=4,\"H\",\"-\"))))&依頼受簿!F65&\".\"&依頼受簿!G65&\".\"&依頼受簿!H65))","v":""},{"$f":"IF(OR(依頼受簿!I65=0,依頼受簿!I65=\"\"),\"\",IF(依頼受簿!I65=1,\"男\",IF(依頼受簿!I65=2,\"女\",\"入力欄には数字で性別を入力してください\")))","v":""},null,null,null,null,null,3,2,"",null,"－","衆小\n衆比\n国審","　.　　.　\n　.　　.　","　.　　.　\n　.　　.　",{"$f":"IF(OR(依頼受簿!J65=0,依頼受簿!J65=\"\"),\"\",依頼受簿!J65)","v":""}]
[61,{"$f":"IF(OR(依頼受簿!C66=0,依頼受簿!C66=\"\"),\"\",依頼受簿!C66)","v":""},{"$f":"IF(OR(依頼受簿!D66=0,依頼受簿!D66=\"\"),\"\",依頼受簿!D66)","v":""},{"$f":"IF(OR(依頼受簿!E66=0,依頼受簿!E66=\"\"),\"\",VALUE(IF(依頼受簿!E66=1,\"M\",IF(依頼受簿!E66=2,\"T\",IF(依頼受簿!E66=3,\"S\",IF(依頼受簿!E66=4,\"H\",\"-\"))))&依頼受簿!F66&\".\"&依頼受簿!G66&\".\"&依頼受簿!H66))","v":""},{"$f":"IF(OR(依頼受簿!I66=0,依頼受簿!I66=\"\"),\"\",IF(依頼受簿!I66=1,\"男\",IF(依頼受簿!I66=2,\"女\",\"入力欄には数字で性別を入力してください\")))","v":""},null,null,null,null,null,3,2,"",null,"－","衆小\n衆比\n国審","　.　　.　\n　.　　.　","　.　　.　\n　.　　.　",{"$f":"IF(OR(依頼受簿!J66=0,依頼受簿!J66=\"\"),\"\",依頼受簿!J66)","v":""}]
[62,{"$f":"IF(OR(依頼受簿!C67=0,依頼受簿!C67=\"\"),\"\",依頼受簿!C67)","v":""},{"$f":"IF(OR(依頼受簿!D67=0,依頼受簿!D67=\"\"),\"\",依頼受簿!D67)","v":""},{"$f":"IF(OR(依頼受簿!E67=0,依頼受簿!E67=\"\"),\"\",VALUE(IF(依頼受簿!E67=1,\"M\",IF(依頼受簿!E67=2,\"T\",IF(依頼受簿!E67=3,\"S\",IF(依頼受簿!E67=4,\"H\",\"-\"))))&依頼受簿!F67&\".\"&依頼受簿!G67&\".\"&依頼受簿!H67))","v":""},{"$f":"IF(OR(依頼受簿!I67=0,依頼受簿!I67=\"\"),\"\",IF(依頼受簿!I67=1,\"男\",IF(依頼受簿!I67=2,\"女\",\"入力欄には数字で性別を入力してください\")))","v":""},null,null,null,null,null,3,2,"",null,"－","衆小\n衆比\n国審","　.　　.　\n　.　　.　","　.　　.　\n　.　　.　",{"$f":"IF(OR(依頼受簿!J67=0,依頼受簿!J67=\"\"),\"\",依頼受簿!J67)","v":""}]
[63,{"$f":"IF(OR(依頼受簿!C68=0,依頼受簿!C68=\"\"),\"\",依頼受簿!C68)","v":""},{"$f":"IF(OR(依頼受簿!D68=0,依頼受簿!D68=\"\"),\"\",依頼受簿!D68)","v":""},{"$f":"IF(OR(依頼受簿!E68=0,依頼受簿!E68=\"\"),\"\",VALUE(IF(依頼受簿!E68=1,\"M\",IF(依頼受簿!E68=2,\"T\",IF(依頼受簿!E68=3,\"S\",IF(依頼受簿!E68=4,\"H\",\"-\"))))&依頼受簿!F68&\".\"&依頼受簿!G68&\".\"&依頼受簿!H68))","v":""},{"$f":"IF(OR(依頼受簿!I68=0,依頼受簿!I68=\"\"),\"\",IF(依頼受簿!I68=1,\"男\",IF(依頼受簿!I68=2,\"女\",\"入力欄には数字で性別を入力してください\")))","v":""},null,null,null,null,null,3,2,"",null,"－","衆小\n衆比\n国審","　.　　.　\n　.　　.　","　.　　.　\n　.　　.　",{"$f":"IF(OR(依頼受簿!J68=0,依頼受簿!J68=\"\"),\"\",依頼受簿!J68)","v":""}]
[64,{"$f":"IF(OR(依頼受簿!C69=0,依頼受簿!C69=\"\"),\"\",依頼受簿!C69)","v":""},{"$f":"IF(OR(依頼受簿!D69=0,依頼受簿!D69=\"\"),\"\",依頼受簿!D69)","v":""},{"$f":"IF(OR(依頼受簿!E69=0,依頼受簿!E69=\"\"),\"\",VALUE(IF(依頼受簿!E69=1,\"M\",IF(依頼受簿!E69=2,\"T\",IF(依頼受簿!E69=3,\"S\",IF(依頼受簿!E69=4,\"H\",\"-\"))))&依頼受簿!F69&\".\"&依頼受簿!G69&\".\"&依頼受簿!H69))","v":""},{"$f":"IF(OR(依頼受簿!I69=0,依頼受簿!I69=\"\"),\"\",IF(依頼受簿!I69=1,\"男\",IF(依頼受簿!I69=2,\"女\",\"入力欄には数字で性別を入力してください\")))","v":""},null,null,null,null,null,3,2,"",null,"－","衆小\n衆比\n国審","　.　　.　\n　.　　.　","　.　　.　\n　.　　.　",{"$f":"IF(OR(依頼受簿!J69=0,依頼受簿!J69=\"\"),\"\",依頼受簿!J69)","v":""}]
[65,{"$f":"IF(OR(依頼受簿!C70=0,依頼受簿!C70=\"\"),\"\",依頼受簿!C70)","v":""},{"$f":"IF(OR(依頼受簿!D70=0,依頼受簿!D70=\"\"),\"\",依頼受簿!D70)","v":""},{"$f":"IF(OR(依頼受簿!E70=0,依頼受簿!E70=\"\"),\"\",VALUE(IF(依頼受簿!E70=1,\"M\",IF(依頼受簿!E70=2,\"T\",IF(依頼受簿!E70=3,\"S\",IF(依頼受簿!E70=4,\"H\",\"-\"))))&依頼受簿!F70&\".\"&依頼受簿!G70&\".\"&依頼受簿!H70))","v":""},{"$f":"IF(OR(依頼受簿!I70=0,依頼受簿!I70=\"\"),\"\",IF(依頼受簿!I70=1,\"男\",IF(依頼受簿!I70=2,\"女\",\"入力欄には数字で性別を入力してください\")))","v":""},null,null,null,null,null,3,2,"",null,"－","衆小\n衆比\n国審","　.　　.　\n　.　　.　","　.　　.　\n　.　　.　",{"$f":"IF(OR(依頼受簿!J70=0,依頼受簿!J70=\"\"),\"\",依頼受簿!J70)","v":""}]
[66,{"$f":"IF(OR(依頼受簿!C71=0,依頼受簿!C71=\"\"),\"\",依頼受簿!C71)","v":""},{"$f":"IF(OR(依頼受簿!D71=0,依頼受簿!D71=\"\"),\"\",依頼受簿!D71)","v":""},{"$f":"IF(OR(依頼受簿!E71=0,依頼受簿!E71=\"\"),\"\",VALUE(IF(依頼受簿!E71=1,\"M\",IF(依頼受簿!E71=2,\"T\",IF(依頼受簿!E71=3,\"S\",IF(依頼受簿!E71=4,\"H\",\"-\"))))&依頼受簿!F71&\".\"&依頼受簿!G71&\".\"&依頼受簿!H71))","v":""},{"$f":"IF(OR(依頼受簿!I71=0,依頼受簿!I71=\"\"),\"\",IF(依頼受簿!I71=1,\"男\",IF(依頼受簿!I71=2,\"女\",\"入力欄には数字で性別を入力してください\")))","v":""},null,null,null,null,null,3,2,"",null,"－","衆小\n衆比\n国審","　.　　.　\n　.　　.　","　.　　.　\n　.　　.　",{"$f":"IF(OR(依頼受簿!J71=0,依頼受簿!J71=\"\"),\"\",依頼受簿!J71)","v":""}]
[67,{"$f":"IF(OR(依頼受簿!C72=0,依頼受簿!C72=\"\"),\"\",依頼受簿!C72)","v":""},{"$f":"IF(OR(依頼受簿!D72=0,依頼受簿!D72=\"\"),\"\",依頼受簿!D72)","v":""},{"$f":"IF(OR(依頼受簿!E72=0,依頼受簿!E72=\"\"),\"\",VALUE(IF(依頼受簿!E72=1,\"M\",IF(依頼受簿!E72=2,\"T\",IF(依頼受簿!E72=3,\"S\",IF(依頼受簿!E72=4,\"H\",\"-\"))))&依頼受簿!F72&\".\"&依頼受簿!G72&\".\"&依頼受簿!H72))","v":""},{"$f":"IF(OR(依頼受簿!I72=0,依頼受簿!I72=\"\"),\"\",IF(依頼受簿!I72=1,\"男\",IF(依頼受簿!I72=2,\"女\",\"入力欄には数字で性別を入力してください\")))","v":""},null,null,null,null,null,3,2,{"$f":"M74","v":""},null,"－",{"$f":"$P$9","v":"衆小\n衆比\n国審"},"　.　　.　\n　.　　.　","　.　　.　\n　.　　.　",{"$f":"IF(OR(依頼受簿!J72=0,依頼受簿!J72=\"\"),\"\",依頼受簿!J72)","v":""}]
[68,{"$f":"IF(OR(依頼受簿!C73=0,依頼受簿!C73=\"\"),\"\",依頼受簿!C73)","v":""},{"$f":"IF(OR(依頼受簿!D73=0,依頼受簿!D73=\"\"),\"\",依頼受簿!D73)","v":""},{"$f":"IF(OR(依頼受簿!E73=0,依頼受簿!E73=\"\"),\"\",VALUE(IF(依頼受簿!E73=1,\"M\",IF(依頼受簿!E73=2,\"T\",IF(依頼受簿!E73=3,\"S\",IF(依頼受簿!E73=4,\"H\",\"-\"))))&依頼受簿!F73&\".\"&依頼受簿!G73&\".\"&依頼受簿!H73))","v":""},{"$f":"IF(OR(依頼受簿!I73=0,依頼受簿!I73=\"\"),\"\",IF(依頼受簿!I73=1,\"男\",IF(依頼受簿!I73=2,\"女\",\"入力欄には数字で性別を入力してください\")))","v":""},null,null,null,null,null,3,2,"",null,"－","衆小\n衆比\n国審","　.　　.　\n　.　　.　","　.　　.　\n　.　　.　",{"$f":"IF(OR(依頼受簿!J73=0,依頼受簿!J73=\"\"),\"\",依頼受簿!J73)","v":""}]
[69,{"$f":"IF(OR(依頼受簿!C74=0,依頼受簿!C74=\"\"),\"\",依頼受簿!C74)","v":""},{"$f":"IF(OR(依頼受簿!D74=0,依頼受簿!D74=\"\"),\"\",依頼受簿!D74)","v":""},{"$f":"IF(OR(依頼受簿!E74=0,依頼受簿!E74=\"\"),\"\",VALUE(IF(依頼受簿!E74=1,\"M\",IF(依頼受簿!E74=2,\"T\",IF(依頼受簿!E74=3,\"S\",IF(依頼受簿!E74=4,\"H\",\"-\"))))&依頼受簿!F74&\".\"&依頼受簿!G74&\".\"&依頼受簿!H74))","v":""},{"$f":"IF(OR(依頼受簿!I74=0,依頼受簿!I74=\"\"),\"\",IF(依頼受簿!I74=1,\"男\",IF(依頼受簿!I74=2,\"女\",\"入力欄には数字で性別を入力してください\")))","v":""},null,null,null,null,null,3,2,"",null,"－","衆小\n衆比\n国審","　.　　.　\n　.　　.　","　.　　.　\n　.　　.　",{"$f":"IF(OR(依頼受簿!J74=0,依頼受簿!J74=\"\"),\"\",依頼受簿!J74)","v":""}]
[70,{"$f":"IF(OR(依頼受簿!C75=0,依頼受簿!C75=\"\"),\"\",依頼受簿!C75)","v":""},{"$f":"IF(OR(依頼受簿!D75=0,依頼受簿!D75=\"\"),\"\",依頼受簿!D75)","v":""},{"$f":"IF(OR(依頼受簿!E75=0,依頼受簿!E75=\"\"),\"\",VALUE(IF(依頼受簿!E75=1,\"M\",IF(依頼受簿!E75=2,\"T\",IF(依頼受簿!E75=3,\"S\",IF(依頼受簿!E75=4,\"H\",\"-\"))))&依頼受簿!F75&\".\"&依頼受簿!G75&\".\"&依頼受簿!H75))","v":""},{"$f":"IF(OR(依頼受簿!I75=0,依頼受簿!I75=\"\"),\"\",IF(依頼受簿!I75=1,\"男\",IF(依頼受簿!I75=2,\"女\",\"入力欄には数字で性別を入力してください\")))","v":""},null,null,null,null,null,3,2,"",null,"－","衆小\n衆比\n国審","　.　　.　\n　.　　.　","　.　　.　\n　.　　.　",{"$f":"IF(OR(依頼受簿!J75=0,依頼受簿!J75=\"\"),\"\",依頼受簿!J75)","v":""}]
[71,{"$f":"IF(OR(依頼受簿!C76=0,依頼受簿!C76=\"\"),\"\",依頼受簿!C76)","v":""},{"$f":"IF(OR(依頼受簿!D76=0,依頼受簿!D76=\"\"),\"\",依頼受簿!D76)","v":""},{"$f":"IF(OR(依頼受簿!E76=0,依頼受簿!E76=\"\"),\"\",VALUE(IF(依頼受簿!E76=1,\"M\",IF(依頼受簿!E76=2,\"T\",IF(依頼受簿!E76=3,\"S\",IF(依頼受簿!E76=4,\"H\",\"-\"))))&依頼受簿!F76&\".\"&依頼受簿!G76&\".\"&依頼受簿!H76))","v":""},{"$f":"IF(OR(依頼受簿!I76=0,依頼受簿!I76=\"\"),\"\",IF(依頼受簿!I76=1,\"男\",IF(依頼受簿!I76=2,\"女\",\"入力欄には数字で性別を入力してください\")))","v":""},null,null,null,null,null,3,2,"",null,"－","衆小\n衆比\n国審","　.　　.　\n　.　　.　","　.　　.　\n　.　　.　",{"$f":"IF(OR(依頼受簿!J76=0,依頼受簿!J76=\"\"),\"\",依頼受簿!J76)","v":""}]
[72,{"$f":"IF(OR(依頼受簿!C77=0,依頼受簿!C77=\"\"),\"\",依頼受簿!C77)","v":""},{"$f":"IF(OR(依頼受簿!D77=0,依頼受簿!D77=\"\"),\"\",依頼受簿!D77)","v":""},{"$f":"IF(OR(依頼受簿!E77=0,依頼受簿!E77=\"\"),\"\",VALUE(IF(依頼受簿!E77=1,\"M\",IF(依頼受簿!E77=2,\"T\",IF(依頼受簿!E77=3,\"S\",IF(依頼受簿!E77=4,\"H\",\"-\"))))&依頼受簿!F77&\".\"&依頼受簿!G77&\".\"&依頼受簿!H77))","v":""},{"$f":"IF(OR(依頼受簿!I77=0,依頼受簿!I77=\"\"),\"\",IF(依頼受簿!I77=1,\"男\",IF(依頼受簿!I77=2,\"女\",\"入力欄には数字で性別を入力してください\")))","v":""},null,null,null,null,null,3,2,"",null,"－","衆小\n衆比\n国審","　.　　.　\n　.　　.　","　.　　.　\n　.　　.　",{"$f":"IF(OR(依頼受簿!J77=0,依頼受簿!J77=\"\"),\"\",依頼受簿!J77)","v":""}]
[73,{"$f":"IF(OR(依頼受簿!C78=0,依頼受簿!C78=\"\"),\"\",依頼受簿!C78)","v":""},{"$f":"IF(OR(依頼受簿!D78=0,依頼受簿!D78=\"\"),\"\",依頼受簿!D78)","v":""},{"$f":"IF(OR(依頼受簿!E78=0,依頼受簿!E78=\"\"),\"\",VALUE(IF(依頼受簿!E78=1,\"M\",IF(依頼受簿!E78=2,\"T\",IF(依頼受簿!E78=3,\"S\",IF(依頼受簿!E78=4,\"H\",\"-\"))))&依頼受簿!F78&\".\"&依頼受簿!G78&\".\"&依頼受簿!H78))","v":""},{"$f":"IF(OR(依頼受簿!I78=0,依頼受簿!I78=\"\"),\"\",IF(依頼受簿!I78=1,\"男\",IF(依頼受簿!I78=2,\"女\",\"入力欄には数字で性別を入力してください\")))","v":""},null,null,null,null,null,3,2,"",null,"－","衆小\n衆比\n国審","　.　　.　\n　.　　.　","　.　　.　\n　.　　.　",{"$f":"IF(OR(依頼受簿!J78=0,依頼受簿!J78=\"\"),\"\",依頼受簿!J78)","v":""}]
[74,{"$f":"IF(OR(依頼受簿!C79=0,依頼受簿!C79=\"\"),\"\",依頼受簿!C79)","v":""},{"$f":"IF(OR(依頼受簿!D79=0,依頼受簿!D79=\"\"),\"\",依頼受簿!D79)","v":""},{"$f":"IF(OR(依頼受簿!E79=0,依頼受簿!E79=\"\"),\"\",VALUE(IF(依頼受簿!E79=1,\"M\",IF(依頼受簿!E79=2,\"T\",IF(依頼受簿!E79=3,\"S\",IF(依頼受簿!E79=4,\"H\",\"-\"))))&依頼受簿!F79&\".\"&依頼受簿!G79&\".\"&依頼受簿!H79))","v":""},{"$f":"IF(OR(依頼受簿!I79=0,依頼受簿!I79=\"\"),\"\",IF(依頼受簿!I79=1,\"男\",IF(依頼受簿!I79=2,\"女\",\"入力欄には数字で性別を入力してください\")))","v":""},null,null,null,null,null,3,2,"",null,"－","衆小\n衆比\n国審","　.　　.　\n　.　　.　","　.　　.　\n　.　　.　",{"$f":"IF(OR(依頼受簿!J79=0,依頼受簿!J79=\"\"),\"\",依頼受簿!J79)","v":""}]
[75,{"$f":"IF(OR(依頼受簿!C80=0,依頼受簿!C80=\"\"),\"\",依頼受簿!C80)","v":""},{"$f":"IF(OR(依頼受簿!D80=0,依頼受簿!D80=\"\"),\"\",依頼受簿!D80)","v":""},{"$f":"IF(OR(依頼受簿!E80=0,依頼受簿!E80=\"\"),\"\",VALUE(IF(依頼受簿!E80=1,\"M\",IF(依頼受簿!E80=2,\"T\",IF(依頼受簿!E80=3,\"S\",IF(依頼受簿!E80=4,\"H\",\"-\"))))&依頼受簿!F80&\".\"&依頼受簿!G80&\".\"&依頼受簿!H80))","v":""},{"$f":"IF(OR(依頼受簿!I80=0,依頼受簿!I80=\"\"),\"\",IF(依頼受簿!I80=1,\"男\",IF(依頼受簿!I80=2,\"女\",\"入力欄には数字で性別を入力してください\")))","v":""},null,null,null,null,null,3,2,"",null,"－","衆小\n衆比\n国審","　.　　.　\n　.　　.　","　.　　.　\n　.　　.　",{"$f":"IF(OR(依頼受簿!J80=0,依頼受簿!J80=\"\"),\"\",依頼受簿!J80)","v":""}]
[76,{"$f":"IF(OR(依頼受簿!C81=0,依頼受簿!C81=\"\"),\"\",依頼受簿!C81)","v":""},{"$f":"IF(OR(依頼受簿!D81=0,依頼受簿!D81=\"\"),\"\",依頼受簿!D81)","v":""},{"$f":"IF(OR(依頼受簿!E81=0,依頼受簿!E81=\"\"),\"\",VALUE(IF(依頼受簿!E81=1,\"M\",IF(依頼受簿!E81=2,\"T\",IF(依頼受簿!E81=3,\"S\",IF(依頼受簿!E81=4,\"H\",\"-\"))))&依頼受簿!F81&\".\"&依頼受簿!G81&\".\"&依頼受簿!H81))","v":""},{"$f":"IF(OR(依頼受簿!I81=0,依頼受簿!I81=\"\"),\"\",IF(依頼受簿!I81=1,\"男\",IF(依頼受簿!I81=2,\"女\",\"入力欄には数字で性別を入力してください\")))","v":""},null,null,null,null,null,3,2,"",null,"－","衆小\n衆比\n国審","　.　　.　\n　.　　.　","　.　　.　\n　.　　.　",{"$f":"IF(OR(依頼受簿!J81=0,依頼受簿!J81=\"\"),\"\",依頼受簿!J81)","v":""}]
[77,{"$f":"IF(OR(依頼受簿!C82=0,依頼受簿!C82=\"\"),\"\",依頼受簿!C82)","v":""},{"$f":"IF(OR(依頼受簿!D82=0,依頼受簿!D82=\"\"),\"\",依頼受簿!D82)","v":""},{"$f":"IF(OR(依頼受簿!E82=0,依頼受簿!E82=\"\"),\"\",VALUE(IF(依頼受簿!E82=1,\"M\",IF(依頼受簿!E82=2,\"T\",IF(依頼受簿!E82=3,\"S\",IF(依頼受簿!E82=4,\"H\",\"-\"))))&依頼受簿!F82&\".\"&依頼受簿!G82&\".\"&依頼受簿!H82))","v":""},{"$f":"IF(OR(依頼受簿!I82=0,依頼受簿!I82=\"\"),\"\",IF(依頼受簿!I82=1,\"男\",IF(依頼受簿!I82=2,\"女\",\"入力欄には数字で性別を入力してください\")))","v":""},null,null,null,null,null,3,2,"",null,"－","衆小\n衆比\n国審","　.　　.　\n　.　　.　","　.　　.　\n　.　　.　",{"$f":"IF(OR(依頼受簿!J82=0,依頼受簿!J82=\"\"),\"\",依頼受簿!J82)","v":""}]
[78,{"$f":"IF(OR(依頼受簿!C83=0,依頼受簿!C83=\"\"),\"\",依頼受簿!C83)","v":""},{"$f":"IF(OR(依頼受簿!D83=0,依頼受簿!D83=\"\"),\"\",依頼受簿!D83)","v":""},{"$f":"IF(OR(依頼受簿!E83=0,依頼受簿!E83=\"\"),\"\",VALUE(IF(依頼受簿!E83=1,\"M\",IF(依頼受簿!E83=2,\"T\",IF(依頼受簿!E83=3,\"S\",IF(依頼受簿!E83=4,\"H\",\"-\"))))&依頼受簿!F83&\".\"&依頼受簿!G83&\".\"&依頼受簿!H83))","v":""},{"$f":"IF(OR(依頼受簿!I83=0,依頼受簿!I83=\"\"),\"\",IF(依頼受簿!I83=1,\"男\",IF(依頼受簿!I83=2,\"女\",\"入力欄には数字で性別を入力してください\")))","v":""},null,null,null,null,null,3,2,"",null,"－","衆小\n衆比\n国審","　.　　.　\n　.　　.　","　.　　.　\n　.　　.　",{"$f":"IF(OR(依頼受簿!J83=0,依頼受簿!J83=\"\"),\"\",依頼受簿!J83)","v":""}]
[79,{"$f":"IF(OR(依頼受簿!C84=0,依頼受簿!C84=\"\"),\"\",依頼受簿!C84)","v":""},{"$f":"IF(OR(依頼受簿!D84=0,依頼受簿!D84=\"\"),\"\",依頼受簿!D84)","v":""},{"$f":"IF(OR(依頼受簿!E84=0,依頼受簿!E84=\"\"),\"\",VALUE(IF(依頼受簿!E84=1,\"M\",IF(依頼受簿!E84=2,\"T\",IF(依頼受簿!E84=3,\"S\",IF(依頼受簿!E84=4,\"H\",\"-\"))))&依頼受簿!F84&\".\"&依頼受簿!G84&\".\"&依頼受簿!H84))","v":""},{"$f":"IF(OR(依頼受簿!I84=0,依頼受簿!I84=\"\"),\"\",IF(依頼受簿!I84=1,\"男\",IF(依頼受簿!I84=2,\"女\",\"入力欄には数字で性別を入力してください\")))","v":""},null,null,null,null,null,3,2,"",null,"－","衆小\n衆比\n国審","　.　　.　\n　.　　.　","　.　　.　\n　.　　.　",{"$f":"IF(OR(依頼受簿!J84=0,依頼受簿!J84=\"\"),\"\",依頼受簿!J84)","v":""}]
[80,{"$f":"IF(OR(依頼受簿!C85=0,依頼受簿!C85=\"\"),\"\",依頼受簿!C85)","v":""},{"$f":"IF(OR(依頼受簿!D85=0,依頼受簿!D85=\"\"),\"\",依頼受簿!D85)","v":""},{"$f":"IF(OR(依頼受簿!E85=0,依頼受簿!E85=\"\"),\"\",VALUE(IF(依頼受簿!E85=1,\"M\",IF(依頼受簿!E85=2,\"T\",IF(依頼受簿!E85=3,\"S\",IF(依頼受簿!E85=4,\"H\",\"-\"))))&依頼受簿!F85&\".\"&依頼受簿!G85&\".\"&依頼受簿!H85))","v":""},{"$f":"IF(OR(依頼受簿!I85=0,依頼受簿!I85=\"\"),\"\",IF(依頼受簿!I85=1,\"男\",IF(依頼受簿!I85=2,\"女\",\"入力欄には数字で性別を入力してください\")))","v":""},null,null,null,null,null,3,2,"",null,"－","衆小\n衆比\n国審","　.　　.　\n　.　　.　","　.　　.　\n　.　　.　",{"$f":"IF(OR(依頼受簿!J85=0,依頼受簿!J85=\"\"),\"\",依頼受簿!J85)","v":""}]
[81,{"$f":"IF(OR(依頼受簿!C86=0,依頼受簿!C86=\"\"),\"\",依頼受簿!C86)","v":""},{"$f":"IF(OR(依頼受簿!D86=0,依頼受簿!D86=\"\"),\"\",依頼受簿!D86)","v":""},{"$f":"IF(OR(依頼受簿!E86=0,依頼受簿!E86=\"\"),\"\",VALUE(IF(依頼受簿!E86=1,\"M\",IF(依頼受簿!E86=2,\"T\",IF(依頼受簿!E86=3,\"S\",IF(依頼受簿!E86=4,\"H\",\"-\"))))&依頼受簿!F86&\".\"&依頼受簿!G86&\".\"&依頼受簿!H86))","v":""},{"$f":"IF(OR(依頼受簿!I86=0,依頼受簿!I86=\"\"),\"\",IF(依頼受簿!I86=1,\"男\",IF(依頼受簿!I86=2,\"女\",\"入力欄には数字で性別を入力してください\")))","v":""},null,null,null,null,null,3,2,"",null,"－","衆小\n衆比\n国審","　.　　.　\n　.　　.　","　.　　.　\n　.　　.　",{"$f":"IF(OR(依頼受簿!J86=0,依頼受簿!J86=\"\"),\"\",依頼受簿!J86)","v":""}]
[82,{"$f":"IF(OR(依頼受簿!C87=0,依頼受簿!C87=\"\"),\"\",依頼受簿!C87)","v":""},{"$f":"IF(OR(依頼受簿!D87=0,依頼受簿!D87=\"\"),\"\",依頼受簿!D87)","v":""},{"$f":"IF(OR(依頼受簿!E87=0,依頼受簿!E87=\"\"),\"\",VALUE(IF(依頼受簿!E87=1,\"M\",IF(依頼受簿!E87=2,\"T\",IF(依頼受簿!E87=3,\"S\",IF(依頼受簿!E87=4,\"H\",\"-\"))))&依頼受簿!F87&\".\"&依頼受簿!G87&\".\"&依頼受簿!H87))","v":""},{"$f":"IF(OR(依頼受簿!I87=0,依頼受簿!I87=\"\"),\"\",IF(依頼受簿!I87=1,\"男\",IF(依頼受簿!I87=2,\"女\",\"入力欄には数字で性別を入力してください\")))","v":""},null,null,null,null,null,3,2,"",null,"－","衆小\n衆比\n国審","　.　　.　\n　.　　.　","　.　　.　\n　.　　.　",{"$f":"IF(OR(依頼受簿!J87=0,依頼受簿!J87=\"\"),\"\",依頼受簿!J87)","v":""}]
[83,{"$f":"IF(OR(依頼受簿!C88=0,依頼受簿!C88=\"\"),\"\",依頼受簿!C88)","v":""},{"$f":"IF(OR(依頼受簿!D88=0,依頼受簿!D88=\"\"),\"\",依頼受簿!D88)","v":""},{"$f":"IF(OR(依頼受簿!E88=0,依頼受簿!E88=\"\"),\"\",VALUE(IF(依頼受簿!E88=1,\"M\",IF(依頼受簿!E88=2,\"T\",IF(依頼受簿!E88=3,\"S\",IF(依頼受簿!E88=4,\"H\",\"-\"))))&依頼受簿!F88&\".\"&依頼受簿!G88&\".\"&依頼受簿!H88))","v":""},{"$f":"IF(OR(依頼受簿!I88=0,依頼受簿!I88=\"\"),\"\",IF(依頼受簿!I88=1,\"男\",IF(依頼受簿!I88=2,\"女\",\"入力欄には数字で性別を入力してください\")))","v":""},null,null,null,null,null,3,2,"",null,"－","衆小\n衆比\n国審","　.　　.　\n　.　　.　","　.　　.　\n　.　　.　",{"$f":"IF(OR(依頼受簿!J88=0,依頼受簿!J88=\"\"),\"\",依頼受簿!J88)","v":""}]
[84,{"$f":"IF(OR(依頼受簿!C89=0,依頼受簿!C89=\"\"),\"\",依頼受簿!C89)","v":""},{"$f":"IF(OR(依頼受簿!D89=0,依頼受簿!D89=\"\"),\"\",依頼受簿!D89)","v":""},{"$f":"IF(OR(依頼受簿!E89=0,依頼受簿!E89=\"\"),\"\",VALUE(IF(依頼受簿!E89=1,\"M\",IF(依頼受簿!E89=2,\"T\",IF(依頼受簿!E89=3,\"S\",IF(依頼受簿!E89=4,\"H\",\"-\"))))&依頼受簿!F89&\".\"&依頼受簿!G89&\".\"&依頼受簿!H89))","v":""},{"$f":"IF(OR(依頼受簿!I89=0,依頼受簿!I89=\"\"),\"\",IF(依頼受簿!I89=1,\"男\",IF(依頼受簿!I89=2,\"女\",\"入力欄には数字で性別を入力してください\")))","v":""},null,null,null,null,null,3,2,"",null,"－","衆小\n衆比\n国審","　.　　.　\n　.　　.　","　.　　.　\n　.　　.　",{"$f":"IF(OR(依頼受簿!J89=0,依頼受簿!J89=\"\"),\"\",依頼受簿!J89)","v":""}]
[85,{"$f":"IF(OR(依頼受簿!C90=0,依頼受簿!C90=\"\"),\"\",依頼受簿!C90)","v":""},{"$f":"IF(OR(依頼受簿!D90=0,依頼受簿!D90=\"\"),\"\",依頼受簿!D90)","v":""},{"$f":"IF(OR(依頼受簿!E90=0,依頼受簿!E90=\"\"),\"\",VALUE(IF(依頼受簿!E90=1,\"M\",IF(依頼受簿!E90=2,\"T\",IF(依頼受簿!E90=3,\"S\",IF(依頼受簿!E90=4,\"H\",\"-\"))))&依頼受簿!F90&\".\"&依頼受簿!G90&\".\"&依頼受簿!H90))","v":""},{"$f":"IF(OR(依頼受簿!I90=0,依頼受簿!I90=\"\"),\"\",IF(依頼受簿!I90=1,\"男\",IF(依頼受簿!I90=2,\"女\",\"入力欄には数字で性別を入力してください\")))","v":""},null,null,null,null,null,3,2,"",null,"－","衆小\n衆比\n国審","　.　　.　\n　.　　.　","　.　　.　\n　.　　.　",{"$f":"IF(OR(依頼受簿!J90=0,依頼受簿!J90=\"\"),\"\",依頼受簿!J90)","v":""}]
[86,{"$f":"IF(OR(依頼受簿!C91=0,依頼受簿!C91=\"\"),\"\",依頼受簿!C91)","v":""},{"$f":"IF(OR(依頼受簿!D91=0,依頼受簿!D91=\"\"),\"\",依頼受簿!D91)","v":""},{"$f":"IF(OR(依頼受簿!E91=0,依頼受簿!E91=\"\"),\"\",VALUE(IF(依頼受簿!E91=1,\"M\",IF(依頼受簿!E91=2,\"T\",IF(依頼受簿!E91=3,\"S\",IF(依頼受簿!E91=4,\"H\",\"-\"))))&依頼受簿!F91&\".\"&依頼受簿!G91&\".\"&依頼受簿!H91))","v":""},{"$f":"IF(OR(依頼受簿!I91=0,依頼受簿!I91=\"\"),\"\",IF(依頼受簿!I91=1,\"男\",IF(依頼受簿!I91=2,\"女\",\"入力欄には数字で性別を入力してください\")))","v":""},null,null,null,null,null,3,2,"",null,"－","衆小\n衆比\n国審","　.　　.　\n　.　　.　","　.　　.　\n　.　　.　",{"$f":"IF(OR(依頼受簿!J91=0,依頼受簿!J91=\"\"),\"\",依頼受簿!J91)","v":""}]
[87,{"$f":"IF(OR(依頼受簿!C92=0,依頼受簿!C92=\"\"),\"\",依頼受簿!C92)","v":""},{"$f":"IF(OR(依頼受簿!D92=0,依頼受簿!D92=\"\"),\"\",依頼受簿!D92)","v":""},{"$f":"IF(OR(依頼受簿!E92=0,依頼受簿!E92=\"\"),\"\",VALUE(IF(依頼受簿!E92=1,\"M\",IF(依頼受簿!E92=2,\"T\",IF(依頼受簿!E92=3,\"S\",IF(依頼受簿!E92=4,\"H\",\"-\"))))&依頼受簿!F92&\".\"&依頼受簿!G92&\".\"&依頼受簿!H92))","v":""},{"$f":"IF(OR(依頼受簿!I92=0,依頼受簿!I92=\"\"),\"\",IF(依頼受簿!I92=1,\"男\",IF(依頼受簿!I92=2,\"女\",\"入力欄には数字で性別を入力してください\")))","v":""},null,null,null,null,null,3,2,"",null,"－","衆小\n衆比\n国審","　.　　.　\n　.　　.　","　.　　.　\n　.　　.　",{"$f":"IF(OR(依頼受簿!J92=0,依頼受簿!J92=\"\"),\"\",依頼受簿!J92)","v":""}]
[88,{"$f":"IF(OR(依頼受簿!C93=0,依頼受簿!C93=\"\"),\"\",依頼受簿!C93)","v":""},{"$f":"IF(OR(依頼受簿!D93=0,依頼受簿!D93=\"\"),\"\",依頼受簿!D93)","v":""},{"$f":"IF(OR(依頼受簿!E93=0,依頼受簿!E93=\"\"),\"\",VALUE(IF(依頼受簿!E93=1,\"M\",IF(依頼受簿!E93=2,\"T\",IF(依頼受簿!E93=3,\"S\",IF(依頼受簿!E93=4,\"H\",\"-\"))))&依頼受簿!F93&\".\"&依頼受簿!G93&\".\"&依頼受簿!H93))","v":""},{"$f":"IF(OR(依頼受簿!I93=0,依頼受簿!I93=\"\"),\"\",IF(依頼受簿!I93=1,\"男\",IF(依頼受簿!I93=2,\"女\",\"入力欄には数字で性別を入力してください\")))","v":""},null,null,null,null,null,3,2,"",null,"－","衆小\n衆比\n国審","　.　　.　\n　.　　.　","　.　　.　\n　.　　.　",{"$f":"IF(OR(依頼受簿!J93=0,依頼受簿!J93=\"\"),\"\",依頼受簿!J93)","v":""}]
[89,{"$f":"IF(OR(依頼受簿!C94=0,依頼受簿!C94=\"\"),\"\",依頼受簿!C94)","v":""},{"$f":"IF(OR(依頼受簿!D94=0,依頼受簿!D94=\"\"),\"\",依頼受簿!D94)","v":""},{"$f":"IF(OR(依頼受簿!E94=0,依頼受簿!E94=\"\"),\"\",VALUE(IF(依頼受簿!E94=1,\"M\",IF(依頼受簿!E94=2,\"T\",IF(依頼受簿!E94=3,\"S\",IF(依頼受簿!E94=4,\"H\",\"-\"))))&依頼受簿!F94&\".\"&依頼受簿!G94&\".\"&依頼受簿!H94))","v":""},{"$f":"IF(OR(依頼受簿!I94=0,依頼受簿!I94=\"\"),\"\",IF(依頼受簿!I94=1,\"男\",IF(依頼受簿!I94=2,\"女\",\"入力欄には数字で性別を入力してください\")))","v":""},null,null,null,null,null,3,2,"",null,"－","衆小\n衆比\n国審","　.　　.　\n　.　　.　","　.　　.　\n　.　　.　",{"$f":"IF(OR(依頼受簿!J94=0,依頼受簿!J94=\"\"),\"\",依頼受簿!J94)","v":""}]
[90,{"$f":"IF(OR(依頼受簿!C95=0,依頼受簿!C95=\"\"),\"\",依頼受簿!C95)","v":""},{"$f":"IF(OR(依頼受簿!D95=0,依頼受簿!D95=\"\"),\"\",依頼受簿!D95)","v":""},{"$f":"IF(OR(依頼受簿!E95=0,依頼受簿!E95=\"\"),\"\",VALUE(IF(依頼受簿!E95=1,\"M\",IF(依頼受簿!E95=2,\"T\",IF(依頼受簿!E95=3,\"S\",IF(依頼受簿!E95=4,\"H\",\"-\"))))&依頼受簿!F95&\".\"&依頼受簿!G95&\".\"&依頼受簿!H95))","v":""},{"$f":"IF(OR(依頼受簿!I95=0,依頼受簿!I95=\"\"),\"\",IF(依頼受簿!I95=1,\"男\",IF(依頼受簿!I95=2,\"女\",\"入力欄には数字で性別を入力してください\")))","v":""},null,null,null,null,null,3,2,"",null,"－","衆小\n衆比\n国審","　.　　.　\n　.　　.　","　.　　.　\n　.　　.　",{"$f":"IF(OR(依頼受簿!J95=0,依頼受簿!J95=\"\"),\"\",依頼受簿!J95)","v":""}]
[91,{"$f":"IF(OR(依頼受簿!C96=0,依頼受簿!C96=\"\"),\"\",依頼受簿!C96)","v":""},{"$f":"IF(OR(依頼受簿!D96=0,依頼受簿!D96=\"\"),\"\",依頼受簿!D96)","v":""},{"$f":"IF(OR(依頼受簿!E96=0,依頼受簿!E96=\"\"),\"\",VALUE(IF(依頼受簿!E96=1,\"M\",IF(依頼受簿!E96=2,\"T\",IF(依頼受簿!E96=3,\"S\",IF(依頼受簿!E96=4,\"H\",\"-\"))))&依頼受簿!F96&\".\"&依頼受簿!G96&\".\"&依頼受簿!H96))","v":""},{"$f":"IF(OR(依頼受簿!I96=0,依頼受簿!I96=\"\"),\"\",IF(依頼受簿!I96=1,\"男\",IF(依頼受簿!I96=2,\"女\",\"入力欄には数字で性別を入力してください\")))","v":""},null,null,null,null,null,3,2,"",null,"－","衆小\n衆比\n国審","　.　　.　\n　.　　.　","　.　　.　\n　.　　.　",{"$f":"IF(OR(依頼受簿!J96=0,依頼受簿!J96=\"\"),\"\",依頼受簿!J96)","v":""}]
[92,{"$f":"IF(OR(依頼受簿!C97=0,依頼受簿!C97=\"\"),\"\",依頼受簿!C97)","v":""},{"$f":"IF(OR(依頼受簿!D97=0,依頼受簿!D97=\"\"),\"\",依頼受簿!D97)","v":""},{"$f":"IF(OR(依頼受簿!E97=0,依頼受簿!E97=\"\"),\"\",VALUE(IF(依頼受簿!E97=1,\"M\",IF(依頼受簿!E97=2,\"T\",IF(依頼受簿!E97=3,\"S\",IF(依頼受簿!E97=4,\"H\",\"-\"))))&依頼受簿!F97&\".\"&依頼受簿!G97&\".\"&依頼受簿!H97))","v":""},{"$f":"IF(OR(依頼受簿!I97=0,依頼受簿!I97=\"\"),\"\",IF(依頼受簿!I97=1,\"男\",IF(依頼受簿!I97=2,\"女\",\"入力欄には数字で性別を入力してください\")))","v":""},null,null,null,null,null,3,2,"",null,"－","衆小\n衆比\n国審","　.　　.　\n　.　　.　","　.　　.　\n　.　　.　",{"$f":"IF(OR(依頼受簿!J97=0,依頼受簿!J97=\"\"),\"\",依頼受簿!J97)","v":""}]
[93,{"$f":"IF(OR(依頼受簿!C98=0,依頼受簿!C98=\"\"),\"\",依頼受簿!C98)","v":""},{"$f":"IF(OR(依頼受簿!D98=0,依頼受簿!D98=\"\"),\"\",依頼受簿!D98)","v":""},{"$f":"IF(OR(依頼受簿!E98=0,依頼受簿!E98=\"\"),\"\",VALUE(IF(依頼受簿!E98=1,\"M\",IF(依頼受簿!E98=2,\"T\",IF(依頼受簿!E98=3,\"S\",IF(依頼受簿!E98=4,\"H\",\"-\"))))&依頼受簿!F98&\".\"&依頼受簿!G98&\".\"&依頼受簿!H98))","v":""},{"$f":"IF(OR(依頼受簿!I98=0,依頼受簿!I98=\"\"),\"\",IF(依頼受簿!I98=1,\"男\",IF(依頼受簿!I98=2,\"女\",\"入力欄には数字で性別を入力してください\")))","v":""},null,null,null,null,null,3,2,"",null,"－","衆小\n衆比\n国審","　.　　.　\n　.　　.　","　.　　.　\n　.　　.　",{"$f":"IF(OR(依頼受簿!J98=0,依頼受簿!J98=\"\"),\"\",依頼受簿!J98)","v":""}]
[94,{"$f":"IF(OR(依頼受簿!C99=0,依頼受簿!C99=\"\"),\"\",依頼受簿!C99)","v":""},{"$f":"IF(OR(依頼受簿!D99=0,依頼受簿!D99=\"\"),\"\",依頼受簿!D99)","v":""},{"$f":"IF(OR(依頼受簿!E99=0,依頼受簿!E99=\"\"),\"\",VALUE(IF(依頼受簿!E99=1,\"M\",IF(依頼受簿!E99=2,\"T\",IF(依頼受簿!E99=3,\"S\",IF(依頼受簿!E99=4,\"H\",\"-\"))))&依頼受簿!F99&\".\"&依頼受簿!G99&\".\"&依頼受簿!H99))","v":""},{"$f":"IF(OR(依頼受簿!I99=0,依頼受簿!I99=\"\"),\"\",IF(依頼受簿!I99=1,\"男\",IF(依頼受簿!I99=2,\"女\",\"入力欄には数字で性別を入力してください\")))","v":""},null,null,null,null,null,3,2,"",null,"－","衆小\n衆比\n国審","　.　　.　\n　.　　.　","　.　　.　\n　.　　.　",{"$f":"IF(OR(依頼受簿!J99=0,依頼受簿!J99=\"\"),\"\",依頼受簿!J99)","v":""}]
[95,{"$f":"IF(OR(依頼受簿!C100=0,依頼受簿!C100=\"\"),\"\",依頼受簿!C100)","v":""},{"$f":"IF(OR(依頼受簿!D100=0,依頼受簿!D100=\"\"),\"\",依頼受簿!D100)","v":""},{"$f":"IF(OR(依頼受簿!E100=0,依頼受簿!E100=\"\"),\"\",VALUE(IF(依頼受簿!E100=1,\"M\",IF(依頼受簿!E100=2,\"T\",IF(依頼受簿!E100=3,\"S\",IF(依頼受簿!E100=4,\"H\",\"-\"))))&依頼受簿!F100&\".\"&依頼受簿!G100&\".\"&依頼受簿!H100))","v":""},{"$f":"IF(OR(依頼受簿!I100=0,依頼受簿!I100=\"\"),\"\",IF(依頼受簿!I100=1,\"男\",IF(依頼受簿!I100=2,\"女\",\"入力欄には数字で性別を入力してください\")))","v":""},null,null,null,null,null,3,2,"",null,"－","衆小\n衆比\n国審","　.　　.　\n　.　　.　","　.　　.　\n　.　　.　",{"$f":"IF(OR(依頼受簿!J100=0,依頼受簿!J100=\"\"),\"\",依頼受簿!J100)","v":""}]
[96,{"$f":"IF(OR(依頼受簿!C101=0,依頼受簿!C101=\"\"),\"\",依頼受簿!C101)","v":""},{"$f":"IF(OR(依頼受簿!D101=0,依頼受簿!D101=\"\"),\"\",依頼受簿!D101)","v":""},{"$f":"IF(OR(依頼受簿!E101=0,依頼受簿!E101=\"\"),\"\",VALUE(IF(依頼受簿!E101=1,\"M\",IF(依頼受簿!E101=2,\"T\",IF(依頼受簿!E101=3,\"S\",IF(依頼受簿!E101=4,\"H\",\"-\"))))&依頼受簿!F101&\".\"&依頼受簿!G101&\".\"&依頼受簿!H101))","v":""},{"$f":"IF(OR(依頼受簿!I101=0,依頼受簿!I101=\"\"),\"\",IF(依頼受簿!I101=1,\"男\",IF(依頼受簿!I101=2,\"女\",\"入力欄には数字で性別を入力してください\")))","v":""},null,null,null,null,null,3,2,"",null,"－","衆小\n衆比\n国審","　.　　.　\n　.　　.　","　.　　.　\n　.　　.　",{"$f":"IF(OR(依頼受簿!J101=0,依頼受簿!J101=\"\"),\"\",依頼受簿!J101)","v":""}]
[97,{"$f":"IF(OR(依頼受簿!C102=0,依頼受簿!C102=\"\"),\"\",依頼受簿!C102)","v":""},{"$f":"IF(OR(依頼受簿!D102=0,依頼受簿!D102=\"\"),\"\",依頼受簿!D102)","v":""},{"$f":"IF(OR(依頼受簿!E102=0,依頼受簿!E102=\"\"),\"\",VALUE(IF(依頼受簿!E102=1,\"M\",IF(依頼受簿!E102=2,\"T\",IF(依頼受簿!E102=3,\"S\",IF(依頼受簿!E102=4,\"H\",\"-\"))))&依頼受簿!F102&\".\"&依頼受簿!G102&\".\"&依頼受簿!H102))","v":""},{"$f":"IF(OR(依頼受簿!I102=0,依頼受簿!I102=\"\"),\"\",IF(依頼受簿!I102=1,\"男\",IF(依頼受簿!I102=2,\"女\",\"入力欄には数字で性別を入力してください\")))","v":""},null,null,null,null,null,3,2,"",null,"－","衆小\n衆比\n国審","　.　　.　\n　.　　.　","　.　　.　\n　.　　.　",{"$f":"IF(OR(依頼受簿!J102=0,依頼受簿!J102=\"\"),\"\",依頼受簿!J102)","v":""}]
[98,{"$f":"IF(OR(依頼受簿!C103=0,依頼受簿!C103=\"\"),\"\",依頼受簿!C103)","v":""},{"$f":"IF(OR(依頼受簿!D103=0,依頼受簿!D103=\"\"),\"\",依頼受簿!D103)","v":""},{"$f":"IF(OR(依頼受簿!E103=0,依頼受簿!E103=\"\"),\"\",VALUE(IF(依頼受簿!E103=1,\"M\",IF(依頼受簿!E103=2,\"T\",IF(依頼受簿!E103=3,\"S\",IF(依頼受簿!E103=4,\"H\",\"-\"))))&依頼受簿!F103&\".\"&依頼受簿!G103&\".\"&依頼受簿!H103))","v":""},{"$f":"IF(OR(依頼受簿!I103=0,依頼受簿!I103=\"\"),\"\",IF(依頼受簿!I103=1,\"男\",IF(依頼受簿!I103=2,\"女\",\"入力欄には数字で性別を入力してください\")))","v":""},null,null,null,null,null,3,2,"",null,"－","衆小\n衆比\n国審","　.　　.　\n　.　　.　","　.　　.　\n　.　　.　",{"$f":"IF(OR(依頼受簿!J103=0,依頼受簿!J103=\"\"),\"\",依頼受簿!J103)","v":""}]
[99,{"$f":"IF(OR(依頼受簿!C104=0,依頼受簿!C104=\"\"),\"\",依頼受簿!C104)","v":""},{"$f":"IF(OR(依頼受簿!D104=0,依頼受簿!D104=\"\"),\"\",依頼受簿!D104)","v":""},{"$f":"IF(OR(依頼受簿!E104=0,依頼受簿!E104=\"\"),\"\",VALUE(IF(依頼受簿!E104=1,\"M\",IF(依頼受簿!E104=2,\"T\",IF(依頼受簿!E104=3,\"S\",IF(依頼受簿!E104=4,\"H\",\"-\"))))&依頼受簿!F104&\".\"&依頼受簿!G104&\".\"&依頼受簿!H104))","v":""},{"$f":"IF(OR(依頼受簿!I104=0,依頼受簿!I104=\"\"),\"\",IF(依頼受簿!I104=1,\"男\",IF(依頼受簿!I104=2,\"女\",\"入力欄には数字で性別を入力してください\")))","v":""},null,null,null,null,null,3,2,"",null,"－","衆小\n衆比\n国審","　.　　.　\n　.　　.　","　.　　.　\n　.　　.　",{"$f":"IF(OR(依頼受簿!J104=0,依頼受簿!J104=\"\"),\"\",依頼受簿!J104)","v":""}]
[100,{"$f":"IF(OR(依頼受簿!C105=0,依頼受簿!C105=\"\"),\"\",依頼受簿!C105)","v":""},{"$f":"IF(OR(依頼受簿!D105=0,依頼受簿!D105=\"\"),\"\",依頼受簿!D105)","v":""},{"$f":"IF(OR(依頼受簿!E105=0,依頼受簿!E105=\"\"),\"\",VALUE(IF(依頼受簿!E105=1,\"M\",IF(依頼受簿!E105=2,\"T\",IF(依頼受簿!E105=3,\"S\",IF(依頼受簿!E105=4,\"H\",\"-\"))))&依頼受簿!F105&\".\"&依頼受簿!G105&\".\"&依頼受簿!H105))","v":""},{"$f":"IF(OR(依頼受簿!I105=0,依頼受簿!I105=\"\"),\"\",IF(依頼受簿!I105=1,\"男\",IF(依頼受簿!I105=2,\"女\",\"入力欄には数字で性別を入力してください\")))","v":""},null,null,null,null,null,3,2,"",null,"－","衆小\n衆比\n国審","　.　　.　\n　.　　.　","　.　　.　\n　.　　.　",{"$f":"IF(OR(依頼受簿!J105=0,依頼受簿!J105=\"\"),\"\",依頼受簿!J105)","v":""}]
[101,{"$f":"IF(OR(依頼受簿!C106=0,依頼受簿!C106=\"\"),\"\",依頼受簿!C106)","v":""},{"$f":"IF(OR(依頼受簿!D106=0,依頼受簿!D106=\"\"),\"\",依頼受簿!D106)","v":""},{"$f":"IF(OR(依頼受簿!E106=0,依頼受簿!E106=\"\"),\"\",VALUE(IF(依頼受簿!E106=1,\"M\",IF(依頼受簿!E106=2,\"T\",IF(依頼受簿!E106=3,\"S\",IF(依頼受簿!E106=4,\"H\",\"-\"))))&依頼受簿!F106&\".\"&依頼受簿!G106&\".\"&依頼受簿!H106))","v":""},{"$f":"IF(OR(依頼受簿!I106=0,依頼受簿!I106=\"\"),\"\",IF(依頼受簿!I106=1,\"男\",IF(依頼受簿!I106=2,\"女\",\"入力欄には数字で性別を入力してください\")))","v":""},null,null,null,null,null,3,2,"",null,"－","衆小\n衆比\n国審","　.　　.　\n　.　　.　","　.　　.　\n　.　　.　",{"$f":"IF(OR(依頼受簿!J106=0,依頼受簿!J106=\"\"),\"\",依頼受簿!J106)","v":""}]
[102,{"$f":"IF(OR(依頼受簿!C107=0,依頼受簿!C107=\"\"),\"\",依頼受簿!C107)","v":""},{"$f":"IF(OR(依頼受簿!D107=0,依頼受簿!D107=\"\"),\"\",依頼受簿!D107)","v":""},{"$f":"IF(OR(依頼受簿!E107=0,依頼受簿!E107=\"\"),\"\",VALUE(IF(依頼受簿!E107=1,\"M\",IF(依頼受簿!E107=2,\"T\",IF(依頼受簿!E107=3,\"S\",IF(依頼受簿!E107=4,\"H\",\"-\"))))&依頼受簿!F107&\".\"&依頼受簿!G107&\".\"&依頼受簿!H107))","v":""},{"$f":"IF(OR(依頼受簿!I107=0,依頼受簿!I107=\"\"),\"\",IF(依頼受簿!I107=1,\"男\",IF(依頼受簿!I107=2,\"女\",\"入力欄には数字で性別を入力してください\")))","v":""},null,null,null,null,null,3,2,"",null,"－","衆小\n衆比\n国審","　.　　.　\n　.　　.　","　.　　.　\n　.　　.　",{"$f":"IF(OR(依頼受簿!J107=0,依頼受簿!J107=\"\"),\"\",依頼受簿!J107)","v":""}]
[103,{"$f":"IF(OR(依頼受簿!C108=0,依頼受簿!C108=\"\"),\"\",依頼受簿!C108)","v":""},{"$f":"IF(OR(依頼受簿!D108=0,依頼受簿!D108=\"\"),\"\",依頼受簿!D108)","v":""},{"$f":"IF(OR(依頼受簿!E108=0,依頼受簿!E108=\"\"),\"\",VALUE(IF(依頼受簿!E108=1,\"M\",IF(依頼受簿!E108=2,\"T\",IF(依頼受簿!E108=3,\"S\",IF(依頼受簿!E108=4,\"H\",\"-\"))))&依頼受簿!F108&\".\"&依頼受簿!G108&\".\"&依頼受簿!H108))","v":""},{"$f":"IF(OR(依頼受簿!I108=0,依頼受簿!I108=\"\"),\"\",IF(依頼受簿!I108=1,\"男\",IF(依頼受簿!I108=2,\"女\",\"入力欄には数字で性別を入力してください\")))","v":""},null,null,null,null,null,3,2,"",null,"－","衆小\n衆比\n国審","　.　　.　\n　.　　.　","　.　　.　\n　.　　.　",{"$f":"IF(OR(依頼受簿!J108=0,依頼受簿!J108=\"\"),\"\",依頼受簿!J108)","v":""}]
[104,{"$f":"IF(OR(依頼受簿!C109=0,依頼受簿!C109=\"\"),\"\",依頼受簿!C109)","v":""},{"$f":"IF(OR(依頼受簿!D109=0,依頼受簿!D109=\"\"),\"\",依頼受簿!D109)","v":""},{"$f":"IF(OR(依頼受簿!E109=0,依頼受簿!E109=\"\"),\"\",VALUE(IF(依頼受簿!E109=1,\"M\",IF(依頼受簿!E109=2,\"T\",IF(依頼受簿!E109=3,\"S\",IF(依頼受簿!E109=4,\"H\",\"-\"))))&依頼受簿!F109&\".\"&依頼受簿!G109&\".\"&依頼受簿!H109))","v":""},{"$f":"IF(OR(依頼受簿!I109=0,依頼受簿!I109=\"\"),\"\",IF(依頼受簿!I109=1,\"男\",IF(依頼受簿!I109=2,\"女\",\"入力欄には数字で性別を入力してください\")))","v":""},null,null,null,null,null,3,2,"",null,"－","衆小\n衆比\n国審","　.　　.　\n　.　　.　","　.　　.　\n　.　　.　",{"$f":"IF(OR(依頼受簿!J109=0,依頼受簿!J109=\"\"),\"\",依頼受簿!J109)","v":""}]
[105,{"$f":"IF(OR(依頼受簿!C110=0,依頼受簿!C110=\"\"),\"\",依頼受簿!C110)","v":""},{"$f":"IF(OR(依頼受簿!D110=0,依頼受簿!D110=\"\"),\"\",依頼受簿!D110)","v":""},{"$f":"IF(OR(依頼受簿!E110=0,依頼受簿!E110=\"\"),\"\",VALUE(IF(依頼受簿!E110=1,\"M\",IF(依頼受簿!E110=2,\"T\",IF(依頼受簿!E110=3,\"S\",IF(依頼受簿!E110=4,\"H\",\"-\"))))&依頼受簿!F110&\".\"&依頼受簿!G110&\".\"&依頼受簿!H110))","v":""},{"$f":"IF(OR(依頼受簿!I110=0,依頼受簿!I110=\"\"),\"\",IF(依頼受簿!I110=1,\"男\",IF(依頼受簿!I110=2,\"女\",\"入力欄には数字で性別を入力してください\")))","v":""},null,null,null,null,null,3,2,"",null,"－","衆小\n衆比\n国審","　.　　.　\n　.　　.　","　.　　.　\n　.　　.　",{"$f":"IF(OR(依頼受簿!J110=0,依頼受簿!J110=\"\"),\"\",依頼受簿!J110)","v":""}]
[106,{"$f":"IF(OR(依頼受簿!C111=0,依頼受簿!C111=\"\"),\"\",依頼受簿!C111)","v":""},{"$f":"IF(OR(依頼受簿!D111=0,依頼受簿!D111=\"\"),\"\",依頼受簿!D111)","v":""},{"$f":"IF(OR(依頼受簿!E111=0,依頼受簿!E111=\"\"),\"\",VALUE(IF(依頼受簿!E111=1,\"M\",IF(依頼受簿!E111=2,\"T\",IF(依頼受簿!E111=3,\"S\",IF(依頼受簿!E111=4,\"H\",\"-\"))))&依頼受簿!F111&\".\"&依頼受簿!G111&\".\"&依頼受簿!H111))","v":""},{"$f":"IF(OR(依頼受簿!I111=0,依頼受簿!I111=\"\"),\"\",IF(依頼受簿!I111=1,\"男\",IF(依頼受簿!I111=2,\"女\",\"入力欄には数字で性別を入力してください\")))","v":""},null,null,null,null,null,3,2,"",null,"－","衆小\n衆比\n国審","　.　　.　\n　.　　.　","　.　　.　\n　.　　.　",{"$f":"IF(OR(依頼受簿!J111=0,依頼受簿!J111=\"\"),\"\",依頼受簿!J111)","v":""}]
[107,{"$f":"IF(OR(依頼受簿!C112=0,依頼受簿!C112=\"\"),\"\",依頼受簿!C112)","v":""},{"$f":"IF(OR(依頼受簿!D112=0,依頼受簿!D112=\"\"),\"\",依頼受簿!D112)","v":""},{"$f":"IF(OR(依頼受簿!E112=0,依頼受簿!E112=\"\"),\"\",VALUE(IF(依頼受簿!E112=1,\"M\",IF(依頼受簿!E112=2,\"T\",IF(依頼受簿!E112=3,\"S\",IF(依頼受簿!E112=4,\"H\",\"-\"))))&依頼受簿!F112&\".\"&依頼受簿!G112&\".\"&依頼受簿!H112))","v":""},{"$f":"IF(OR(依頼受簿!I112=0,依頼受簿!I112=\"\"),\"\",IF(依頼受簿!I112=1,\"男\",IF(依頼受簿!I112=2,\"女\",\"入力欄には数字で性別を入力してください\")))","v":""},null,null,null,null,null,3,2,"",null,"－","衆小\n衆比\n国審","　.　　.　\n　.　　.　","　.　　.　\n　.　　.　",{"$f":"IF(OR(依頼受簿!J112=0,依頼受簿!J112=\"\"),\"\",依頼受簿!J112)","v":""}]
[108,{"$f":"IF(OR(依頼受簿!C113=0,依頼受簿!C113=\"\"),\"\",依頼受簿!C113)","v":""},{"$f":"IF(OR(依頼受簿!D113=0,依頼受簿!D113=\"\"),\"\",依頼受簿!D113)","v":""},{"$f":"IF(OR(依頼受簿!E113=0,依頼受簿!E113=\"\"),\"\",VALUE(IF(依頼受簿!E113=1,\"M\",IF(依頼受簿!E113=2,\"T\",IF(依頼受簿!E113=3,\"S\",IF(依頼受簿!E113=4,\"H\",\"-\"))))&依頼受簿!F113&\".\"&依頼受簿!G113&\".\"&依頼受簿!H113))","v":""},{"$f":"IF(OR(依頼受簿!I113=0,依頼受簿!I113=\"\"),\"\",IF(依頼受簿!I113=1,\"男\",IF(依頼受簿!I113=2,\"女\",\"入力欄には数字で性別を入力してください\")))","v":""},null,null,null,null,null,3,2,"",null,"－","衆小\n衆比\n国審","　.　　.　\n　.　　.　","　.　　.　\n　.　　.　",{"$f":"IF(OR(依頼受簿!J113=0,依頼受簿!J113=\"\"),\"\",依頼受簿!J113)","v":""}]
[109,{"$f":"IF(OR(依頼受簿!C114=0,依頼受簿!C114=\"\"),\"\",依頼受簿!C114)","v":""},{"$f":"IF(OR(依頼受簿!D114=0,依頼受簿!D114=\"\"),\"\",依頼受簿!D114)","v":""},{"$f":"IF(OR(依頼受簿!E114=0,依頼受簿!E114=\"\"),\"\",VALUE(IF(依頼受簿!E114=1,\"M\",IF(依頼受簿!E114=2,\"T\",IF(依頼受簿!E114=3,\"S\",IF(依頼受簿!E114=4,\"H\",\"-\"))))&依頼受簿!F114&\".\"&依頼受簿!G114&\".\"&依頼受簿!H114))","v":""},{"$f":"IF(OR(依頼受簿!I114=0,依頼受簿!I114=\"\"),\"\",IF(依頼受簿!I114=1,\"男\",IF(依頼受簿!I114=2,\"女\",\"入力欄には数字で性別を入力してください\")))","v":""},null,null,null,null,null,3,2,"",null,"－","衆小\n衆比\n国審","　.　　.　\n　.　　.　","　.　　.　\n　.　　.　",{"$f":"IF(OR(依頼受簿!J114=0,依頼受簿!J114=\"\"),\"\",依頼受簿!J114)","v":""}]
[110,{"$f":"IF(OR(依頼受簿!C115=0,依頼受簿!C115=\"\"),\"\",依頼受簿!C115)","v":""},{"$f":"IF(OR(依頼受簿!D115=0,依頼受簿!D115=\"\"),\"\",依頼受簿!D115)","v":""},{"$f":"IF(OR(依頼受簿!E115=0,依頼受簿!E115=\"\"),\"\",VALUE(IF(依頼受簿!E115=1,\"M\",IF(依頼受簿!E115=2,\"T\",IF(依頼受簿!E115=3,\"S\",IF(依頼受簿!E115=4,\"H\",\"-\"))))&依頼受簿!F115&\".\"&依頼受簿!G115&\".\"&依頼受簿!H115))","v":""},{"$f":"IF(OR(依頼受簿!I115=0,依頼受簿!I115=\"\"),\"\",IF(依頼受簿!I115=1,\"男\",IF(依頼受簿!I115=2,\"女\",\"入力欄には数字で性別を入力してください\")))","v":""},null,null,null,null,null,3,2,"",null,"－","衆小\n衆比\n国審","　.　　.　\n　.　　.　","　.　　.　\n　.　　.　",{"$f":"IF(OR(依頼受簿!J115=0,依頼受簿!J115=\"\"),\"\",依頼受簿!J115)","v":""}]
[111,{"$f":"IF(OR(依頼受簿!C116=0,依頼受簿!C116=\"\"),\"\",依頼受簿!C116)","v":""},{"$f":"IF(OR(依頼受簿!D116=0,依頼受簿!D116=\"\"),\"\",依頼受簿!D116)","v":""},{"$f":"IF(OR(依頼受簿!E116=0,依頼受簿!E116=\"\"),\"\",VALUE(IF(依頼受簿!E116=1,\"M\",IF(依頼受簿!E116=2,\"T\",IF(依頼受簿!E116=3,\"S\",IF(依頼受簿!E116=4,\"H\",\"-\"))))&依頼受簿!F116&\".\"&依頼受簿!G116&\".\"&依頼受簿!H116))","v":""},{"$f":"IF(OR(依頼受簿!I116=0,依頼受簿!I116=\"\"),\"\",IF(依頼受簿!I116=1,\"男\",IF(依頼受簿!I116=2,\"女\",\"入力欄には数字で性別を入力してください\")))","v":""},null,null,null,null,null,3,2,"",null,"－","衆小\n衆比\n国審","　.　　.　\n　.　　.　","　.　　.　\n　.　　.　",{"$f":"IF(OR(依頼受簿!J116=0,依頼受簿!J116=\"\"),\"\",依頼受簿!J116)","v":""}]
[112,{"$f":"IF(OR(依頼受簿!C117=0,依頼受簿!C117=\"\"),\"\",依頼受簿!C117)","v":""},{"$f":"IF(OR(依頼受簿!D117=0,依頼受簿!D117=\"\"),\"\",依頼受簿!D117)","v":""},{"$f":"IF(OR(依頼受簿!E117=0,依頼受簿!E117=\"\"),\"\",VALUE(IF(依頼受簿!E117=1,\"M\",IF(依頼受簿!E117=2,\"T\",IF(依頼受簿!E117=3,\"S\",IF(依頼受簿!E117=4,\"H\",\"-\"))))&依頼受簿!F117&\".\"&依頼受簿!G117&\".\"&依頼受簿!H117))","v":""},{"$f":"IF(OR(依頼受簿!I117=0,依頼受簿!I117=\"\"),\"\",IF(依頼受簿!I117=1,\"男\",IF(依頼受簿!I117=2,\"女\",\"入力欄には数字で性別を入力してください\")))","v":""},null,null,null,null,null,3,2,"",null,"－","衆小\n衆比\n国審","　.　　.　\n　.　　.　","　.　　.　\n　.　　.　",{"$f":"IF(OR(依頼受簿!J117=0,依頼受簿!J117=\"\"),\"\",依頼受簿!J117)","v":""}]
[113,{"$f":"IF(OR(依頼受簿!C118=0,依頼受簿!C118=\"\"),\"\",依頼受簿!C118)","v":""},{"$f":"IF(OR(依頼受簿!D118=0,依頼受簿!D118=\"\"),\"\",依頼受簿!D118)","v":""},{"$f":"IF(OR(依頼受簿!E118=0,依頼受簿!E118=\"\"),\"\",VALUE(IF(依頼受簿!E118=1,\"M\",IF(依頼受簿!E118=2,\"T\",IF(依頼受簿!E118=3,\"S\",IF(依頼受簿!E118=4,\"H\",\"-\"))))&依頼受簿!F118&\".\"&依頼受簿!G118&\".\"&依頼受簿!H118))","v":""},{"$f":"IF(OR(依頼受簿!I118=0,依頼受簿!I118=\"\"),\"\",IF(依頼受簿!I118=1,\"男\",IF(依頼受簿!I118=2,\"女\",\"入力欄には数字で性別を入力してください\")))","v":""},null,null,null,null,null,3,2,"",null,"－","衆小\n衆比\n国審","　.　　.　\n　.　　.　","　.　　.　\n　.　　.　",{"$f":"IF(OR(依頼受簿!J118=0,依頼受簿!J118=\"\"),\"\",依頼受簿!J118)","v":""}]
[114,{"$f":"IF(OR(依頼受簿!C119=0,依頼受簿!C119=\"\"),\"\",依頼受簿!C119)","v":""},{"$f":"IF(OR(依頼受簿!D119=0,依頼受簿!D119=\"\"),\"\",依頼受簿!D119)","v":""},{"$f":"IF(OR(依頼受簿!E119=0,依頼受簿!E119=\"\"),\"\",VALUE(IF(依頼受簿!E119=1,\"M\",IF(依頼受簿!E119=2,\"T\",IF(依頼受簿!E119=3,\"S\",IF(依頼受簿!E119=4,\"H\",\"-\"))))&依頼受簿!F119&\".\"&依頼受簿!G119&\".\"&依頼受簿!H119))","v":""},{"$f":"IF(OR(依頼受簿!I119=0,依頼受簿!I119=\"\"),\"\",IF(依頼受簿!I119=1,\"男\",IF(依頼受簿!I119=2,\"女\",\"入力欄には数字で性別を入力してください\")))","v":""},null,null,null,null,null,3,2,"",null,"－","衆小\n衆比\n国審","　.　　.　\n　.　　.　","　.　　.　\n　.　　.　",{"$f":"IF(OR(依頼受簿!J119=0,依頼受簿!J119=\"\"),\"\",依頼受簿!J119)","v":""}]
[115,{"$f":"IF(OR(依頼受簿!C120=0,依頼受簿!C120=\"\"),\"\",依頼受簿!C120)","v":""},{"$f":"IF(OR(依頼受簿!D120=0,依頼受簿!D120=\"\"),\"\",依頼受簿!D120)","v":""},{"$f":"IF(OR(依頼受簿!E120=0,依頼受簿!E120=\"\"),\"\",VALUE(IF(依頼受簿!E120=1,\"M\",IF(依頼受簿!E120=2,\"T\",IF(依頼受簿!E120=3,\"S\",IF(依頼受簿!E120=4,\"H\",\"-\"))))&依頼受簿!F120&\".\"&依頼受簿!G120&\".\"&依頼受簿!H120))","v":""},{"$f":"IF(OR(依頼受簿!I120=0,依頼受簿!I120=\"\"),\"\",IF(依頼受簿!I120=1,\"男\",IF(依頼受簿!I120=2,\"女\",\"入力欄には数字で性別を入力してください\")))","v":""},null,null,null,null,null,3,2,"",null,"－","衆小\n衆比\n国審","　.　　.　\n　.　　.　","　.　　.　\n　.　　.　",{"$f":"IF(OR(依頼受簿!J120=0,依頼受簿!J120=\"\"),\"\",依頼受簿!J120)","v":""}]
[116,{"$f":"IF(OR(依頼受簿!C121=0,依頼受簿!C121=\"\"),\"\",依頼受簿!C121)","v":""},{"$f":"IF(OR(依頼受簿!D121=0,依頼受簿!D121=\"\"),\"\",依頼受簿!D121)","v":""},{"$f":"IF(OR(依頼受簿!E121=0,依頼受簿!E121=\"\"),\"\",VALUE(IF(依頼受簿!E121=1,\"M\",IF(依頼受簿!E121=2,\"T\",IF(依頼受簿!E121=3,\"S\",IF(依頼受簿!E121=4,\"H\",\"-\"))))&依頼受簿!F121&\".\"&依頼受簿!G121&\".\"&依頼受簿!H121))","v":""},{"$f":"IF(OR(依頼受簿!I121=0,依頼受簿!I121=\"\"),\"\",IF(依頼受簿!I121=1,\"男\",IF(依頼受簿!I121=2,\"女\",\"入力欄には数字で性別を入力してください\")))","v":""},null,null,null,null,null,3,2,"",null,"－","衆小\n衆比\n国審","　.　　.　\n　.　　.　","　.　　.　\n　.　　.　",{"$f":"IF(OR(依頼受簿!J121=0,依頼受簿!J121=\"\"),\"\",依頼受簿!J121)","v":""}]
[117,{"$f":"IF(OR(依頼受簿!C122=0,依頼受簿!C122=\"\"),\"\",依頼受簿!C122)","v":""},{"$f":"IF(OR(依頼受簿!D122=0,依頼受簿!D122=\"\"),\"\",依頼受簿!D122)","v":""},{"$f":"IF(OR(依頼受簿!E122=0,依頼受簿!E122=\"\"),\"\",VALUE(IF(依頼受簿!E122=1,\"M\",IF(依頼受簿!E122=2,\"T\",IF(依頼受簿!E122=3,\"S\",IF(依頼受簿!E122=4,\"H\",\"-\"))))&依頼受簿!F122&\".\"&依頼受簿!G122&\".\"&依頼受簿!H122))","v":""},{"$f":"IF(OR(依頼受簿!I122=0,依頼受簿!I122=\"\"),\"\",IF(依頼受簿!I122=1,\"男\",IF(依頼受簿!I122=2,\"女\",\"入力欄には数字で性別を入力してください\")))","v":""},null,null,null,null,null,3,2,"",null,"－","衆小\n衆比\n国審","　.　　.　\n　.　　.　","　.　　.　\n　.　　.　",{"$f":"IF(OR(依頼受簿!J122=0,依頼受簿!J122=\"\"),\"\",依頼受簿!J122)","v":""}]
[118,{"$f":"IF(OR(依頼受簿!C123=0,依頼受簿!C123=\"\"),\"\",依頼受簿!C123)","v":""},{"$f":"IF(OR(依頼受簿!D123=0,依頼受簿!D123=\"\"),\"\",依頼受簿!D123)","v":""},{"$f":"IF(OR(依頼受簿!E123=0,依頼受簿!E123=\"\"),\"\",VALUE(IF(依頼受簿!E123=1,\"M\",IF(依頼受簿!E123=2,\"T\",IF(依頼受簿!E123=3,\"S\",IF(依頼受簿!E123=4,\"H\",\"-\"))))&依頼受簿!F123&\".\"&依頼受簿!G123&\".\"&依頼受簿!H123))","v":""},{"$f":"IF(OR(依頼受簿!I123=0,依頼受簿!I123=\"\"),\"\",IF(依頼受簿!I123=1,\"男\",IF(依頼受簿!I123=2,\"女\",\"入力欄には数字で性別を入力してください\")))","v":""},null,null,null,null,null,3,2,"",null,"－","衆小\n衆比\n国審","　.　　.　\n　.　　.　","　.　　.　\n　.　　.　",{"$f":"IF(OR(依頼受簿!J123=0,依頼受簿!J123=\"\"),\"\",依頼受簿!J123)","v":""}]
[119,{"$f":"IF(OR(依頼受簿!C124=0,依頼受簿!C124=\"\"),\"\",依頼受簿!C124)","v":""},{"$f":"IF(OR(依頼受簿!D124=0,依頼受簿!D124=\"\"),\"\",依頼受簿!D124)","v":""},{"$f":"IF(OR(依頼受簿!E124=0,依頼受簿!E124=\"\"),\"\",VALUE(IF(依頼受簿!E124=1,\"M\",IF(依頼受簿!E124=2,\"T\",IF(依頼受簿!E124=3,\"S\",IF(依頼受簿!E124=4,\"H\",\"-\"))))&依頼受簿!F124&\".\"&依頼受簿!G124&\".\"&依頼受簿!H124))","v":""},{"$f":"IF(OR(依頼受簿!I124=0,依頼受簿!I124=\"\"),\"\",IF(依頼受簿!I124=1,\"男\",IF(依頼受簿!I124=2,\"女\",\"入力欄には数字で性別を入力してください\")))","v":""},null,null,null,null,null,3,2,"",null,"－","衆小\n衆比\n国審","　.　　.　\n　.　　.　","　.　　.　\n　.　　.　",{"$f":"IF(OR(依頼受簿!J124=0,依頼受簿!J124=\"\"),\"\",依頼受簿!J124)","v":""}]
[120,{"$f":"IF(OR(依頼受簿!C125=0,依頼受簿!C125=\"\"),\"\",依頼受簿!C125)","v":""},{"$f":"IF(OR(依頼受簿!D125=0,依頼受簿!D125=\"\"),\"\",依頼受簿!D125)","v":""},{"$f":"IF(OR(依頼受簿!E125=0,依頼受簿!E125=\"\"),\"\",VALUE(IF(依頼受簿!E125=1,\"M\",IF(依頼受簿!E125=2,\"T\",IF(依頼受簿!E125=3,\"S\",IF(依頼受簿!E125=4,\"H\",\"-\"))))&依頼受簿!F125&\".\"&依頼受簿!G125&\".\"&依頼受簿!H125))","v":""},{"$f":"IF(OR(依頼受簿!I125=0,依頼受簿!I125=\"\"),\"\",IF(依頼受簿!I125=1,\"男\",IF(依頼受簿!I125=2,\"女\",\"入力欄には数字で性別を入力してください\")))","v":""},null,null,null,null,null,3,2,"",null,"－","衆小\n衆比\n国審","　.　　.　\n　.　　.　","　.　　.　\n　.　　.　",{"$f":"IF(OR(依頼受簿!J125=0,依頼受簿!J125=\"\"),\"\",依頼受簿!J125)","v":""}]
[121,{"$f":"IF(OR(依頼受簿!C126=0,依頼受簿!C126=\"\"),\"\",依頼受簿!C126)","v":""},{"$f":"IF(OR(依頼受簿!D126=0,依頼受簿!D126=\"\"),\"\",依頼受簿!D126)","v":""},{"$f":"IF(OR(依頼受簿!E126=0,依頼受簿!E126=\"\"),\"\",VALUE(IF(依頼受簿!E126=1,\"M\",IF(依頼受簿!E126=2,\"T\",IF(依頼受簿!E126=3,\"S\",IF(依頼受簿!E126=4,\"H\",\"-\"))))&依頼受簿!F126&\".\"&依頼受簿!G126&\".\"&依頼受簿!H126))","v":""},{"$f":"IF(OR(依頼受簿!I126=0,依頼受簿!I126=\"\"),\"\",IF(依頼受簿!I126=1,\"男\",IF(依頼受簿!I126=2,\"女\",\"入力欄には数字で性別を入力してください\")))","v":""},null,null,null,null,null,3,2,"",null,"－","衆小\n衆比\n国審","　.　　.　\n　.　　.　","　.　　.　\n　.　　.　",{"$f":"IF(OR(依頼受簿!J126=0,依頼受簿!J126=\"\"),\"\",依頼受簿!J126)","v":""}]
[122,{"$f":"IF(OR(依頼受簿!C127=0,依頼受簿!C127=\"\"),\"\",依頼受簿!C127)","v":""},{"$f":"IF(OR(依頼受簿!D127=0,依頼受簿!D127=\"\"),\"\",依頼受簿!D127)","v":""},{"$f":"IF(OR(依頼受簿!E127=0,依頼受簿!E127=\"\"),\"\",VALUE(IF(依頼受簿!E127=1,\"M\",IF(依頼受簿!E127=2,\"T\",IF(依頼受簿!E127=3,\"S\",IF(依頼受簿!E127=4,\"H\",\"-\"))))&依頼受簿!F127&\".\"&依頼受簿!G127&\".\"&依頼受簿!H127))","v":""},{"$f":"IF(OR(依頼受簿!I127=0,依頼受簿!I127=\"\"),\"\",IF(依頼受簿!I127=1,\"男\",IF(依頼受簿!I127=2,\"女\",\"入力欄には数字で性別を入力してください\")))","v":""},null,null,null,null,null,3,2,"",null,"－","衆小\n衆比\n国審","　.　　.　\n　.　　.　","　.　　.　\n　.　　.　",{"$f":"IF(OR(依頼受簿!J127=0,依頼受簿!J127=\"\"),\"\",依頼受簿!J127)","v":""}]
[123,{"$f":"IF(OR(依頼受簿!C128=0,依頼受簿!C128=\"\"),\"\",依頼受簿!C128)","v":""},{"$f":"IF(OR(依頼受簿!D128=0,依頼受簿!D128=\"\"),\"\",依頼受簿!D128)","v":""},{"$f":"IF(OR(依頼受簿!E128=0,依頼受簿!E128=\"\"),\"\",VALUE(IF(依頼受簿!E128=1,\"M\",IF(依頼受簿!E128=2,\"T\",IF(依頼受簿!E128=3,\"S\",IF(依頼受簿!E128=4,\"H\",\"-\"))))&依頼受簿!F128&\".\"&依頼受簿!G128&\".\"&依頼受簿!H128))","v":""},{"$f":"IF(OR(依頼受簿!I128=0,依頼受簿!I128=\"\"),\"\",IF(依頼受簿!I128=1,\"男\",IF(依頼受簿!I128=2,\"女\",\"入力欄には数字で性別を入力してください\")))","v":""},null,null,null,null,null,3,2,"",null,"－","衆小\n衆比\n国審","　.　　.　\n　.　　.　","　.　　.　\n　.　　.　",{"$f":"IF(OR(依頼受簿!J128=0,依頼受簿!J128=\"\"),\"\",依頼受簿!J128)","v":""}]
[124,{"$f":"IF(OR(依頼受簿!C129=0,依頼受簿!C129=\"\"),\"\",依頼受簿!C129)","v":""},{"$f":"IF(OR(依頼受簿!D129=0,依頼受簿!D129=\"\"),\"\",依頼受簿!D129)","v":""},{"$f":"IF(OR(依頼受簿!E129=0,依頼受簿!E129=\"\"),\"\",VALUE(IF(依頼受簿!E129=1,\"M\",IF(依頼受簿!E129=2,\"T\",IF(依頼受簿!E129=3,\"S\",IF(依頼受簿!E129=4,\"H\",\"-\"))))&依頼受簿!F129&\".\"&依頼受簿!G129&\".\"&依頼受簿!H129))","v":""},{"$f":"IF(OR(依頼受簿!I129=0,依頼受簿!I129=\"\"),\"\",IF(依頼受簿!I129=1,\"男\",IF(依頼受簿!I129=2,\"女\",\"入力欄には数字で性別を入力してください\")))","v":""},null,null,null,null,null,3,2,"",null,"－","衆小\n衆比\n国審","　.　　.　\n　.　　.　","　.　　.　\n　.　　.　",{"$f":"IF(OR(依頼受簿!J129=0,依頼受簿!J129=\"\"),\"\",依頼受簿!J129)","v":""}]
[125,{"$f":"IF(OR(依頼受簿!C130=0,依頼受簿!C130=\"\"),\"\",依頼受簿!C130)","v":""},{"$f":"IF(OR(依頼受簿!D130=0,依頼受簿!D130=\"\"),\"\",依頼受簿!D130)","v":""},{"$f":"IF(OR(依頼受簿!E130=0,依頼受簿!E130=\"\"),\"\",VALUE(IF(依頼受簿!E130=1,\"M\",IF(依頼受簿!E130=2,\"T\",IF(依頼受簿!E130=3,\"S\",IF(依頼受簿!E130=4,\"H\",\"-\"))))&依頼受簿!F130&\".\"&依頼受簿!G130&\".\"&依頼受簿!H130))","v":""},{"$f":"IF(OR(依頼受簿!I130=0,依頼受簿!I130=\"\"),\"\",IF(依頼受簿!I130=1,\"男\",IF(依頼受簿!I130=2,\"女\",\"入力欄には数字で性別を入力してください\")))","v":""},null,null,null,null,null,3,2,"",null,"－","衆小\n衆比\n国審","　.　　.　\n　.　　.　","　.　　.　\n　.　　.　",{"$f":"IF(OR(依頼受簿!J130=0,依頼受簿!J130=\"\"),\"\",依頼受簿!J130)","v":""}]
[126,{"$f":"IF(OR(依頼受簿!C131=0,依頼受簿!C131=\"\"),\"\",依頼受簿!C131)","v":""},{"$f":"IF(OR(依頼受簿!D131=0,依頼受簿!D131=\"\"),\"\",依頼受簿!D131)","v":""},{"$f":"IF(OR(依頼受簿!E131=0,依頼受簿!E131=\"\"),\"\",VALUE(IF(依頼受簿!E131=1,\"M\",IF(依頼受簿!E131=2,\"T\",IF(依頼受簿!E131=3,\"S\",IF(依頼受簿!E131=4,\"H\",\"-\"))))&依頼受簿!F131&\".\"&依頼受簿!G131&\".\"&依頼受簿!H131))","v":""},{"$f":"IF(OR(依頼受簿!I131=0,依頼受簿!I131=\"\"),\"\",IF(依頼受簿!I131=1,\"男\",IF(依頼受簿!I131=2,\"女\",\"入力欄には数字で性別を入力してください\")))","v":""},null,null,null,null,null,3,2,"",null,"－","衆小\n衆比\n国審","　.　　.　\n　.　　.　","　.　　.　\n　.　　.　",{"$f":"IF(OR(依頼受簿!J131=0,依頼受簿!J131=\"\"),\"\",依頼受簿!J131)","v":""}]
[127,{"$f":"IF(OR(依頼受簿!C132=0,依頼受簿!C132=\"\"),\"\",依頼受簿!C132)","v":""},{"$f":"IF(OR(依頼受簿!D132=0,依頼受簿!D132=\"\"),\"\",依頼受簿!D132)","v":""},{"$f":"IF(OR(依頼受簿!E132=0,依頼受簿!E132=\"\"),\"\",VALUE(IF(依頼受簿!E132=1,\"M\",IF(依頼受簿!E132=2,\"T\",IF(依頼受簿!E132=3,\"S\",IF(依頼受簿!E132=4,\"H\",\"-\"))))&依頼受簿!F132&\".\"&依頼受簿!G132&\".\"&依頼受簿!H132))","v":""},{"$f":"IF(OR(依頼受簿!I132=0,依頼受簿!I132=\"\"),\"\",IF(依頼受簿!I132=1,\"男\",IF(依頼受簿!I132=2,\"女\",\"入力欄には数字で性別を入力してください\")))","v":""},null,null,null,null,null,3,2,"",null,"－","衆小\n衆比\n国審","　.　　.　\n　.　　.　","　.　　.　\n　.　　.　",{"$f":"IF(OR(依頼受簿!J132=0,依頼受簿!J132=\"\"),\"\",依頼受簿!J132)","v":""}]
[128,{"$f":"IF(OR(依頼受簿!C133=0,依頼受簿!C133=\"\"),\"\",依頼受簿!C133)","v":""},{"$f":"IF(OR(依頼受簿!D133=0,依頼受簿!D133=\"\"),\"\",依頼受簿!D133)","v":""},{"$f":"IF(OR(依頼受簿!E133=0,依頼受簿!E133=\"\"),\"\",VALUE(IF(依頼受簿!E133=1,\"M\",IF(依頼受簿!E133=2,\"T\",IF(依頼受簿!E133=3,\"S\",IF(依頼受簿!E133=4,\"H\",\"-\"))))&依頼受簿!F133&\".\"&依頼受簿!G133&\".\"&依頼受簿!H133))","v":""},{"$f":"IF(OR(依頼受簿!I133=0,依頼受簿!I133=\"\"),\"\",IF(依頼受簿!I133=1,\"男\",IF(依頼受簿!I133=2,\"女\",\"入力欄には数字で性別を入力してください\")))","v":""},null,null,null,null,null,3,2,"",null,"－","衆小\n衆比\n国審","　.　　.　\n　.　　.　","　.　　.　\n　.　　.　",{"$f":"IF(OR(依頼受簿!J133=0,依頼受簿!J133=\"\"),\"\",依頼受簿!J133)","v":""}]
[129,{"$f":"IF(OR(依頼受簿!C134=0,依頼受簿!C134=\"\"),\"\",依頼受簿!C134)","v":""},{"$f":"IF(OR(依頼受簿!D134=0,依頼受簿!D134=\"\"),\"\",依頼受簿!D134)","v":""},{"$f":"IF(OR(依頼受簿!E134=0,依頼受簿!E134=\"\"),\"\",VALUE(IF(依頼受簿!E134=1,\"M\",IF(依頼受簿!E134=2,\"T\",IF(依頼受簿!E134=3,\"S\",IF(依頼受簿!E134=4,\"H\",\"-\"))))&依頼受簿!F134&\".\"&依頼受簿!G134&\".\"&依頼受簿!H134))","v":""},{"$f":"IF(OR(依頼受簿!I134=0,依頼受簿!I134=\"\"),\"\",IF(依頼受簿!I134=1,\"男\",IF(依頼受簿!I134=2,\"女\",\"入力欄には数字で性別を入力してください\")))","v":""},null,null,null,null,null,3,2,"",null,"－","衆小\n衆比\n国審","　.　　.　\n　.　　.　","　.　　.　\n　.　　.　",{"$f":"IF(OR(依頼受簿!J134=0,依頼受簿!J134=\"\"),\"\",依頼受簿!J134)","v":""}]
[130,{"$f":"IF(OR(依頼受簿!C135=0,依頼受簿!C135=\"\"),\"\",依頼受簿!C135)","v":""},{"$f":"IF(OR(依頼受簿!D135=0,依頼受簿!D135=\"\"),\"\",依頼受簿!D135)","v":""},{"$f":"IF(OR(依頼受簿!E135=0,依頼受簿!E135=\"\"),\"\",VALUE(IF(依頼受簿!E135=1,\"M\",IF(依頼受簿!E135=2,\"T\",IF(依頼受簿!E135=3,\"S\",IF(依頼受簿!E135=4,\"H\",\"-\"))))&依頼受簿!F135&\".\"&依頼受簿!G135&\".\"&依頼受簿!H135))","v":""},{"$f":"IF(OR(依頼受簿!I135=0,依頼受簿!I135=\"\"),\"\",IF(依頼受簿!I135=1,\"男\",IF(依頼受簿!I135=2,\"女\",\"入力欄には数字で性別を入力してください\")))","v":""},null,null,null,null,null,3,2,"",null,"－","衆小\n衆比\n国審","　.　　.　\n　.　　.　","　.　　.　\n　.　　.　",{"$f":"IF(OR(依頼受簿!J135=0,依頼受簿!J135=\"\"),\"\",依頼受簿!J135)","v":""}]
[131,{"$f":"IF(OR(依頼受簿!C136=0,依頼受簿!C136=\"\"),\"\",依頼受簿!C136)","v":""},{"$f":"IF(OR(依頼受簿!D136=0,依頼受簿!D136=\"\"),\"\",依頼受簿!D136)","v":""},{"$f":"IF(OR(依頼受簿!E136=0,依頼受簿!E136=\"\"),\"\",VALUE(IF(依頼受簿!E136=1,\"M\",IF(依頼受簿!E136=2,\"T\",IF(依頼受簿!E136=3,\"S\",IF(依頼受簿!E136=4,\"H\",\"-\"))))&依頼受簿!F136&\".\"&依頼受簿!G136&\".\"&依頼受簿!H136))","v":""},{"$f":"IF(OR(依頼受簿!I136=0,依頼受簿!I136=\"\"),\"\",IF(依頼受簿!I136=1,\"男\",IF(依頼受簿!I136=2,\"女\",\"入力欄には数字で性別を入力してください\")))","v":""},null,null,null,null,null,3,2,{"$f":"M138","v":""},null,"－",{"$f":"$P$9","v":"衆小\n衆比\n国審"},"　.　　.　\n　.　　.　","　.　　.　\n　.　　.　",{"$f":"IF(OR(依頼受簿!J136=0,依頼受簿!J136=\"\"),\"\",依頼受簿!J136)","v":""}]
[132,{"$f":"IF(OR(依頼受簿!C137=0,依頼受簿!C137=\"\"),\"\",依頼受簿!C137)","v":""},{"$f":"IF(OR(依頼受簿!D137=0,依頼受簿!D137=\"\"),\"\",依頼受簿!D137)","v":""},{"$f":"IF(OR(依頼受簿!E137=0,依頼受簿!E137=\"\"),\"\",VALUE(IF(依頼受簿!E137=1,\"M\",IF(依頼受簿!E137=2,\"T\",IF(依頼受簿!E137=3,\"S\",IF(依頼受簿!E137=4,\"H\",\"-\"))))&依頼受簿!F137&\".\"&依頼受簿!G137&\".\"&依頼受簿!H137))","v":""},{"$f":"IF(OR(依頼受簿!I137=0,依頼受簿!I137=\"\"),\"\",IF(依頼受簿!I137=1,\"男\",IF(依頼受簿!I137=2,\"女\",\"入力欄には数字で性別を入力してください\")))","v":""},null,null,null,null,null,3,2,"",null,"－","衆小\n衆比\n国審","　.　　.　\n　.　　.　","　.　　.　\n　.　　.　",{"$f":"IF(OR(依頼受簿!J137=0,依頼受簿!J137=\"\"),\"\",依頼受簿!J137)","v":""}]
[133,{"$f":"IF(OR(依頼受簿!C138=0,依頼受簿!C138=\"\"),\"\",依頼受簿!C138)","v":""},{"$f":"IF(OR(依頼受簿!D138=0,依頼受簿!D138=\"\"),\"\",依頼受簿!D138)","v":""},{"$f":"IF(OR(依頼受簿!E138=0,依頼受簿!E138=\"\"),\"\",VALUE(IF(依頼受簿!E138=1,\"M\",IF(依頼受簿!E138=2,\"T\",IF(依頼受簿!E138=3,\"S\",IF(依頼受簿!E138=4,\"H\",\"-\"))))&依頼受簿!F138&\".\"&依頼受簿!G138&\".\"&依頼受簿!H138))","v":""},{"$f":"IF(OR(依頼受簿!I138=0,依頼受簿!I138=\"\"),\"\",IF(依頼受簿!I138=1,\"男\",IF(依頼受簿!I138=2,\"女\",\"入力欄には数字で性別を入力してください\")))","v":""},null,null,null,null,null,3,2,"",null,"－","衆小\n衆比\n国審","　.　　.　\n　.　　.　","　.　　.　\n　.　　.　",{"$f":"IF(OR(依頼受簿!J138=0,依頼受簿!J138=\"\"),\"\",依頼受簿!J138)","v":""}]
[134,{"$f":"IF(OR(依頼受簿!C139=0,依頼受簿!C139=\"\"),\"\",依頼受簿!C139)","v":""},{"$f":"IF(OR(依頼受簿!D139=0,依頼受簿!D139=\"\"),\"\",依頼受簿!D139)","v":""},{"$f":"IF(OR(依頼受簿!E139=0,依頼受簿!E139=\"\"),\"\",VALUE(IF(依頼受簿!E139=1,\"M\",IF(依頼受簿!E139=2,\"T\",IF(依頼受簿!E139=3,\"S\",IF(依頼受簿!E139=4,\"H\",\"-\"))))&依頼受簿!F139&\".\"&依頼受簿!G139&\".\"&依頼受簿!H139))","v":""},{"$f":"IF(OR(依頼受簿!I139=0,依頼受簿!I139=\"\"),\"\",IF(依頼受簿!I139=1,\"男\",IF(依頼受簿!I139=2,\"女\",\"入力欄には数字で性別を入力してください\")))","v":""},null,null,null,null,null,3,2,"",null,"－","衆小\n衆比\n国審","　.　　.　\n　.　　.　","　.　　.　\n　.　　.　",{"$f":"IF(OR(依頼受簿!J139=0,依頼受簿!J139=\"\"),\"\",依頼受簿!J139)","v":""}]
[135,{"$f":"IF(OR(依頼受簿!C140=0,依頼受簿!C140=\"\"),\"\",依頼受簿!C140)","v":""},{"$f":"IF(OR(依頼受簿!D140=0,依頼受簿!D140=\"\"),\"\",依頼受簿!D140)","v":""},{"$f":"IF(OR(依頼受簿!E140=0,依頼受簿!E140=\"\"),\"\",VALUE(IF(依頼受簿!E140=1,\"M\",IF(依頼受簿!E140=2,\"T\",IF(依頼受簿!E140=3,\"S\",IF(依頼受簿!E140=4,\"H\",\"-\"))))&依頼受簿!F140&\".\"&依頼受簿!G140&\".\"&依頼受簿!H140))","v":""},{"$f":"IF(OR(依頼受簿!I140=0,依頼受簿!I140=\"\"),\"\",IF(依頼受簿!I140=1,\"男\",IF(依頼受簿!I140=2,\"女\",\"入力欄には数字で性別を入力してください\")))","v":""},null,null,null,null,null,3,2,"",null,"－","衆小\n衆比\n国審","　.　　.　\n　.　　.　","　.　　.　\n　.　　.　",{"$f":"IF(OR(依頼受簿!J140=0,依頼受簿!J140=\"\"),\"\",依頼受簿!J140)","v":""}]
[136,{"$f":"IF(OR(依頼受簿!C141=0,依頼受簿!C141=\"\"),\"\",依頼受簿!C141)","v":""},{"$f":"IF(OR(依頼受簿!D141=0,依頼受簿!D141=\"\"),\"\",依頼受簿!D141)","v":""},{"$f":"IF(OR(依頼受簿!E141=0,依頼受簿!E141=\"\"),\"\",VALUE(IF(依頼受簿!E141=1,\"M\",IF(依頼受簿!E141=2,\"T\",IF(依頼受簿!E141=3,\"S\",IF(依頼受簿!E141=4,\"H\",\"-\"))))&依頼受簿!F141&\".\"&依頼受簿!G141&\".\"&依頼受簿!H141))","v":""},{"$f":"IF(OR(依頼受簿!I141=0,依頼受簿!I141=\"\"),\"\",IF(依頼受簿!I141=1,\"男\",IF(依頼受簿!I141=2,\"女\",\"入力欄には数字で性別を入力してください\")))","v":""},null,null,null,null,null,3,2,"",null,"－","衆小\n衆比\n国審","　.　　.　\n　.　　.　","　.　　.　\n　.　　.　",{"$f":"IF(OR(依頼受簿!J141=0,依頼受簿!J141=\"\"),\"\",依頼受簿!J141)","v":""}]
[137,{"$f":"IF(OR(依頼受簿!C142=0,依頼受簿!C142=\"\"),\"\",依頼受簿!C142)","v":""},{"$f":"IF(OR(依頼受簿!D142=0,依頼受簿!D142=\"\"),\"\",依頼受簿!D142)","v":""},{"$f":"IF(OR(依頼受簿!E142=0,依頼受簿!E142=\"\"),\"\",VALUE(IF(依頼受簿!E142=1,\"M\",IF(依頼受簿!E142=2,\"T\",IF(依頼受簿!E142=3,\"S\",IF(依頼受簿!E142=4,\"H\",\"-\"))))&依頼受簿!F142&\".\"&依頼受簿!G142&\".\"&依頼受簿!H142))","v":""},{"$f":"IF(OR(依頼受簿!I142=0,依頼受簿!I142=\"\"),\"\",IF(依頼受簿!I142=1,\"男\",IF(依頼受簿!I142=2,\"女\",\"入力欄には数字で性別を入力してください\")))","v":""},null,null,null,null,null,3,2,"",null,"－","衆小\n衆比\n国審","　.　　.　\n　.　　.　","　.　　.　\n　.　　.　",{"$f":"IF(OR(依頼受簿!J142=0,依頼受簿!J142=\"\"),\"\",依頼受簿!J142)","v":""}]
[138,{"$f":"IF(OR(依頼受簿!C143=0,依頼受簿!C143=\"\"),\"\",依頼受簿!C143)","v":""},{"$f":"IF(OR(依頼受簿!D143=0,依頼受簿!D143=\"\"),\"\",依頼受簿!D143)","v":""},{"$f":"IF(OR(依頼受簿!E143=0,依頼受簿!E143=\"\"),\"\",VALUE(IF(依頼受簿!E143=1,\"M\",IF(依頼受簿!E143=2,\"T\",IF(依頼受簿!E143=3,\"S\",IF(依頼受簿!E143=4,\"H\",\"-\"))))&依頼受簿!F143&\".\"&依頼受簿!G143&\".\"&依頼受簿!H143))","v":""},{"$f":"IF(OR(依頼受簿!I143=0,依頼受簿!I143=\"\"),\"\",IF(依頼受簿!I143=1,\"男\",IF(依頼受簿!I143=2,\"女\",\"入力欄には数字で性別を入力してください\")))","v":""},null,null,null,null,null,3,2,"",null,"－","衆小\n衆比\n国審","　.　　.　\n　.　　.　","　.　　.　\n　.　　.　",{"$f":"IF(OR(依頼受簿!J143=0,依頼受簿!J143=\"\"),\"\",依頼受簿!J143)","v":""}]
[139,{"$f":"IF(OR(依頼受簿!C144=0,依頼受簿!C144=\"\"),\"\",依頼受簿!C144)","v":""},{"$f":"IF(OR(依頼受簿!D144=0,依頼受簿!D144=\"\"),\"\",依頼受簿!D144)","v":""},{"$f":"IF(OR(依頼受簿!E144=0,依頼受簿!E144=\"\"),\"\",VALUE(IF(依頼受簿!E144=1,\"M\",IF(依頼受簿!E144=2,\"T\",IF(依頼受簿!E144=3,\"S\",IF(依頼受簿!E144=4,\"H\",\"-\"))))&依頼受簿!F144&\".\"&依頼受簿!G144&\".\"&依頼受簿!H144))","v":""},{"$f":"IF(OR(依頼受簿!I144=0,依頼受簿!I144=\"\"),\"\",IF(依頼受簿!I144=1,\"男\",IF(依頼受簿!I144=2,\"女\",\"入力欄には数字で性別を入力してください\")))","v":""},null,null,null,null,null,3,2,"",null,"－","衆小\n衆比\n国審","　.　　.　\n　.　　.　","　.　　.　\n　.　　.　",{"$f":"IF(OR(依頼受簿!J144=0,依頼受簿!J144=\"\"),\"\",依頼受簿!J144)","v":""}]
[140,{"$f":"IF(OR(依頼受簿!C145=0,依頼受簿!C145=\"\"),\"\",依頼受簿!C145)","v":""},{"$f":"IF(OR(依頼受簿!D145=0,依頼受簿!D145=\"\"),\"\",依頼受簿!D145)","v":""},{"$f":"IF(OR(依頼受簿!E145=0,依頼受簿!E145=\"\"),\"\",VALUE(IF(依頼受簿!E145=1,\"M\",IF(依頼受簿!E145=2,\"T\",IF(依頼受簿!E145=3,\"S\",IF(依頼受簿!E145=4,\"H\",\"-\"))))&依頼受簿!F145&\".\"&依頼受簿!G145&\".\"&依頼受簿!H145))","v":""},{"$f":"IF(OR(依頼受簿!I145=0,依頼受簿!I145=\"\"),\"\",IF(依頼受簿!I145=1,\"男\",IF(依頼受簿!I145=2,\"女\",\"入力欄には数字で性別を入力してください\")))","v":""},null,null,null,null,null,3,2,"",null,"－","衆小\n衆比\n国審","　.　　.　\n　.　　.　","　.　　.　\n　.　　.　",{"$f":"IF(OR(依頼受簿!J145=0,依頼受簿!J145=\"\"),\"\",依頼受簿!J145)","v":""}]
[141,{"$f":"IF(OR(依頼受簿!C146=0,依頼受簿!C146=\"\"),\"\",依頼受簿!C146)","v":""},{"$f":"IF(OR(依頼受簿!D146=0,依頼受簿!D146=\"\"),\"\",依頼受簿!D146)","v":""},{"$f":"IF(OR(依頼受簿!E146=0,依頼受簿!E146=\"\"),\"\",VALUE(IF(依頼受簿!E146=1,\"M\",IF(依頼受簿!E146=2,\"T\",IF(依頼受簿!E146=3,\"S\",IF(依頼受簿!E146=4,\"H\",\"-\"))))&依頼受簿!F146&\".\"&依頼受簿!G146&\".\"&依頼受簿!H146))","v":""},{"$f":"IF(OR(依頼受簿!I146=0,依頼受簿!I146=\"\"),\"\",IF(依頼受簿!I146=1,\"男\",IF(依頼受簿!I146=2,\"女\",\"入力欄には数字で性別を入力してください\")))","v":""},null,null,null,null,null,3,2,"",null,"－","衆小\n衆比\n国審","　.　　.　\n　.　　.　","　.　　.　\n　.　　.　",{"$f":"IF(OR(依頼受簿!J146=0,依頼受簿!J146=\"\"),\"\",依頼受簿!J146)","v":""}]
[142,{"$f":"IF(OR(依頼受簿!C147=0,依頼受簿!C147=\"\"),\"\",依頼受簿!C147)","v":""},{"$f":"IF(OR(依頼受簿!D147=0,依頼受簿!D147=\"\"),\"\",依頼受簿!D147)","v":""},{"$f":"IF(OR(依頼受簿!E147=0,依頼受簿!E147=\"\"),\"\",VALUE(IF(依頼受簿!E147=1,\"M\",IF(依頼受簿!E147=2,\"T\",IF(依頼受簿!E147=3,\"S\",IF(依頼受簿!E147=4,\"H\",\"-\"))))&依頼受簿!F147&\".\"&依頼受簿!G147&\".\"&依頼受簿!H147))","v":""},{"$f":"IF(OR(依頼受簿!I147=0,依頼受簿!I147=\"\"),\"\",IF(依頼受簿!I147=1,\"男\",IF(依頼受簿!I147=2,\"女\",\"入力欄には数字で性別を入力してください\")))","v":""},null,null,null,null,null,3,2,"",null,"－","衆小\n衆比\n国審","　.　　.　\n　.　　.　","　.　　.　\n　.　　.　",{"$f":"IF(OR(依頼受簿!J147=0,依頼受簿!J147=\"\"),\"\",依頼受簿!J147)","v":""}]
[143,{"$f":"IF(OR(依頼受簿!C148=0,依頼受簿!C148=\"\"),\"\",依頼受簿!C148)","v":""},{"$f":"IF(OR(依頼受簿!D148=0,依頼受簿!D148=\"\"),\"\",依頼受簿!D148)","v":""},{"$f":"IF(OR(依頼受簿!E148=0,依頼受簿!E148=\"\"),\"\",VALUE(IF(依頼受簿!E148=1,\"M\",IF(依頼受簿!E148=2,\"T\",IF(依頼受簿!E148=3,\"S\",IF(依頼受簿!E148=4,\"H\",\"-\"))))&依頼受簿!F148&\".\"&依頼受簿!G148&\".\"&依頼受簿!H148))","v":""},{"$f":"IF(OR(依頼受簿!I148=0,依頼受簿!I148=\"\"),\"\",IF(依頼受簿!I148=1,\"男\",IF(依頼受簿!I148=2,\"女\",\"入力欄には数字で性別を入力してください\")))","v":""},null,null,null,null,null,3,2,"",null,"－","衆小\n衆比\n国審","　.　　.　\n　.　　.　","　.　　.　\n　.　　.　",{"$f":"IF(OR(依頼受簿!J148=0,依頼受簿!J148=\"\"),\"\",依頼受簿!J148)","v":""}]
[144,{"$f":"IF(OR(依頼受簿!C149=0,依頼受簿!C149=\"\"),\"\",依頼受簿!C149)","v":""},{"$f":"IF(OR(依頼受簿!D149=0,依頼受簿!D149=\"\"),\"\",依頼受簿!D149)","v":""},{"$f":"IF(OR(依頼受簿!E149=0,依頼受簿!E149=\"\"),\"\",VALUE(IF(依頼受簿!E149=1,\"M\",IF(依頼受簿!E149=2,\"T\",IF(依頼受簿!E149=3,\"S\",IF(依頼受簿!E149=4,\"H\",\"-\"))))&依頼受簿!F149&\".\"&依頼受簿!G149&\".\"&依頼受簿!H149))","v":""},{"$f":"IF(OR(依頼受簿!I149=0,依頼受簿!I149=\"\"),\"\",IF(依頼受簿!I149=1,\"男\",IF(依頼受簿!I149=2,\"女\",\"入力欄には数字で性別を入力してください\")))","v":""},null,null,null,null,null,3,2,"",null,"－","衆小\n衆比\n国審","　.　　.　\n　.　　.　","　.　　.　\n　.　　.　",{"$f":"IF(OR(依頼受簿!J149=0,依頼受簿!J149=\"\"),\"\",依頼受簿!J149)","v":""}]
[145,{"$f":"IF(OR(依頼受簿!C150=0,依頼受簿!C150=\"\"),\"\",依頼受簿!C150)","v":""},{"$f":"IF(OR(依頼受簿!D150=0,依頼受簿!D150=\"\"),\"\",依頼受簿!D150)","v":""},{"$f":"IF(OR(依頼受簿!E150=0,依頼受簿!E150=\"\"),\"\",VALUE(IF(依頼受簿!E150=1,\"M\",IF(依頼受簿!E150=2,\"T\",IF(依頼受簿!E150=3,\"S\",IF(依頼受簿!E150=4,\"H\",\"-\"))))&依頼受簿!F150&\".\"&依頼受簿!G150&\".\"&依頼受簿!H150))","v":""},{"$f":"IF(OR(依頼受簿!I150=0,依頼受簿!I150=\"\"),\"\",IF(依頼受簿!I150=1,\"男\",IF(依頼受簿!I150=2,\"女\",\"入力欄には数字で性別を入力してください\")))","v":""},null,null,null,null,null,3,2,"",null,"－","衆小\n衆比\n国審","　.　　.　\n　.　　.　","　.　　.　\n　.　　.　",{"$f":"IF(OR(依頼受簿!J150=0,依頼受簿!J150=\"\"),\"\",依頼受簿!J150)","v":""}]
[146,{"$f":"IF(OR(依頼受簿!C151=0,依頼受簿!C151=\"\"),\"\",依頼受簿!C151)","v":""},{"$f":"IF(OR(依頼受簿!D151=0,依頼受簿!D151=\"\"),\"\",依頼受簿!D151)","v":""},{"$f":"IF(OR(依頼受簿!E151=0,依頼受簿!E151=\"\"),\"\",VALUE(IF(依頼受簿!E151=1,\"M\",IF(依頼受簿!E151=2,\"T\",IF(依頼受簿!E151=3,\"S\",IF(依頼受簿!E151=4,\"H\",\"-\"))))&依頼受簿!F151&\".\"&依頼受簿!G151&\".\"&依頼受簿!H151))","v":""},{"$f":"IF(OR(依頼受簿!I151=0,依頼受簿!I151=\"\"),\"\",IF(依頼受簿!I151=1,\"男\",IF(依頼受簿!I151=2,\"女\",\"入力欄には数字で性別を入力してください\")))","v":""},null,null,null,null,null,3,2,"",null,"－","衆小\n衆比\n国審","　.　　.　\n　.　　.　","　.　　.　\n　.　　.　",{"$f":"IF(OR(依頼受簿!J151=0,依頼受簿!J151=\"\"),\"\",依頼受簿!J151)","v":""}]
[147,{"$f":"IF(OR(依頼受簿!C152=0,依頼受簿!C152=\"\"),\"\",依頼受簿!C152)","v":""},{"$f":"IF(OR(依頼受簿!D152=0,依頼受簿!D152=\"\"),\"\",依頼受簿!D152)","v":""},{"$f":"IF(OR(依頼受簿!E152=0,依頼受簿!E152=\"\"),\"\",VALUE(IF(依頼受簿!E152=1,\"M\",IF(依頼受簿!E152=2,\"T\",IF(依頼受簿!E152=3,\"S\",IF(依頼受簿!E152=4,\"H\",\"-\"))))&依頼受簿!F152&\".\"&依頼受簿!G152&\".\"&依頼受簿!H152))","v":""},{"$f":"IF(OR(依頼受簿!I152=0,依頼受簿!I152=\"\"),\"\",IF(依頼受簿!I152=1,\"男\",IF(依頼受簿!I152=2,\"女\",\"入力欄には数字で性別を入力してください\")))","v":""},null,null,null,null,null,3,2,"",null,"－","衆小\n衆比\n国審","　.　　.　\n　.　　.　","　.　　.　\n　.　　.　",{"$f":"IF(OR(依頼受簿!J152=0,依頼受簿!J152=\"\"),\"\",依頼受簿!J152)","v":""}]
[148,{"$f":"IF(OR(依頼受簿!C153=0,依頼受簿!C153=\"\"),\"\",依頼受簿!C153)","v":""},{"$f":"IF(OR(依頼受簿!D153=0,依頼受簿!D153=\"\"),\"\",依頼受簿!D153)","v":""},{"$f":"IF(OR(依頼受簿!E153=0,依頼受簿!E153=\"\"),\"\",VALUE(IF(依頼受簿!E153=1,\"M\",IF(依頼受簿!E153=2,\"T\",IF(依頼受簿!E153=3,\"S\",IF(依頼受簿!E153=4,\"H\",\"-\"))))&依頼受簿!F153&\".\"&依頼受簿!G153&\".\"&依頼受簿!H153))","v":""},{"$f":"IF(OR(依頼受簿!I153=0,依頼受簿!I153=\"\"),\"\",IF(依頼受簿!I153=1,\"男\",IF(依頼受簿!I153=2,\"女\",\"入力欄には数字で性別を入力してください\")))","v":""},null,null,null,null,null,3,2,"",null,"－","衆小\n衆比\n国審","　.　　.　\n　.　　.　","　.　　.　\n　.　　.　",{"$f":"IF(OR(依頼受簿!J153=0,依頼受簿!J153=\"\"),\"\",依頼受簿!J153)","v":""}]
[149,{"$f":"IF(OR(依頼受簿!C154=0,依頼受簿!C154=\"\"),\"\",依頼受簿!C154)","v":""},{"$f":"IF(OR(依頼受簿!D154=0,依頼受簿!D154=\"\"),\"\",依頼受簿!D154)","v":""},{"$f":"IF(OR(依頼受簿!E154=0,依頼受簿!E154=\"\"),\"\",VALUE(IF(依頼受簿!E154=1,\"M\",IF(依頼受簿!E154=2,\"T\",IF(依頼受簿!E154=3,\"S\",IF(依頼受簿!E154=4,\"H\",\"-\"))))&依頼受簿!F154&\".\"&依頼受簿!G154&\".\"&依頼受簿!H154))","v":""},{"$f":"IF(OR(依頼受簿!I154=0,依頼受簿!I154=\"\"),\"\",IF(依頼受簿!I154=1,\"男\",IF(依頼受簿!I154=2,\"女\",\"入力欄には数字で性別を入力してください\")))","v":""},null,null,null,null,null,3,2,"",null,"－","衆小\n衆比\n国審","　.　　.　\n　.　　.　","　.　　.　\n　.　　.　",{"$f":"IF(OR(依頼受簿!J154=0,依頼受簿!J154=\"\"),\"\",依頼受簿!J154)","v":""}]
[150,{"$f":"IF(OR(依頼受簿!C155=0,依頼受簿!C155=\"\"),\"\",依頼受簿!C155)","v":""},{"$f":"IF(OR(依頼受簿!D155=0,依頼受簿!D155=\"\"),\"\",依頼受簿!D155)","v":""},{"$f":"IF(OR(依頼受簿!E155=0,依頼受簿!E155=\"\"),\"\",VALUE(IF(依頼受簿!E155=1,\"M\",IF(依頼受簿!E155=2,\"T\",IF(依頼受簿!E155=3,\"S\",IF(依頼受簿!E155=4,\"H\",\"-\"))))&依頼受簿!F155&\".\"&依頼受簿!G155&\".\"&依頼受簿!H155))","v":""},{"$f":"IF(OR(依頼受簿!I155=0,依頼受簿!I155=\"\"),\"\",IF(依頼受簿!I155=1,\"男\",IF(依頼受簿!I155=2,\"女\",\"入力欄には数字で性別を入力してください\")))","v":""},null,null,null,null,null,3,2,"",null,"－","衆小\n衆比\n国審","　.　　.　\n　.　　.　","　.　　.　\n　.　　.　",{"$f":"IF(OR(依頼受簿!J155=0,依頼受簿!J155=\"\"),\"\",依頼受簿!J155)","v":""}]
[151,{"$f":"IF(OR(依頼受簿!C156=0,依頼受簿!C156=\"\"),\"\",依頼受簿!C156)","v":""},{"$f":"IF(OR(依頼受簿!D156=0,依頼受簿!D156=\"\"),\"\",依頼受簿!D156)","v":""},{"$f":"IF(OR(依頼受簿!E156=0,依頼受簿!E156=\"\"),\"\",VALUE(IF(依頼受簿!E156=1,\"M\",IF(依頼受簿!E156=2,\"T\",IF(依頼受簿!E156=3,\"S\",IF(依頼受簿!E156=4,\"H\",\"-\"))))&依頼受簿!F156&\".\"&依頼受簿!G156&\".\"&依頼受簿!H156))","v":""},{"$f":"IF(OR(依頼受簿!I156=0,依頼受簿!I156=\"\"),\"\",IF(依頼受簿!I156=1,\"男\",IF(依頼受簿!I156=2,\"女\",\"入力欄には数字で性別を入力してください\")))","v":""},null,null,null,null,null,3,2,"",null,"－","衆小\n衆比\n国審","　.　　.　\n　.　　.　","　.　　.　\n　.　　.　",{"$f":"IF(OR(依頼受簿!J156=0,依頼受簿!J156=\"\"),\"\",依頼受簿!J156)","v":""}]
[152,{"$f":"IF(OR(依頼受簿!C157=0,依頼受簿!C157=\"\"),\"\",依頼受簿!C157)","v":""},{"$f":"IF(OR(依頼受簿!D157=0,依頼受簿!D157=\"\"),\"\",依頼受簿!D157)","v":""},{"$f":"IF(OR(依頼受簿!E157=0,依頼受簿!E157=\"\"),\"\",VALUE(IF(依頼受簿!E157=1,\"M\",IF(依頼受簿!E157=2,\"T\",IF(依頼受簿!E157=3,\"S\",IF(依頼受簿!E157=4,\"H\",\"-\"))))&依頼受簿!F157&\".\"&依頼受簿!G157&\".\"&依頼受簿!H157))","v":""},{"$f":"IF(OR(依頼受簿!I157=0,依頼受簿!I157=\"\"),\"\",IF(依頼受簿!I157=1,\"男\",IF(依頼受簿!I157=2,\"女\",\"入力欄には数字で性別を入力してください\")))","v":""},null,null,null,null,null,3,2,"",null,"－","衆小\n衆比\n国審","　.　　.　\n　.　　.　","　.　　.　\n　.　　.　",{"$f":"IF(OR(依頼受簿!J157=0,依頼受簿!J157=\"\"),\"\",依頼受簿!J157)","v":""}]
[153,{"$f":"IF(OR(依頼受簿!C158=0,依頼受簿!C158=\"\"),\"\",依頼受簿!C158)","v":""},{"$f":"IF(OR(依頼受簿!D158=0,依頼受簿!D158=\"\"),\"\",依頼受簿!D158)","v":""},{"$f":"IF(OR(依頼受簿!E158=0,依頼受簿!E158=\"\"),\"\",VALUE(IF(依頼受簿!E158=1,\"M\",IF(依頼受簿!E158=2,\"T\",IF(依頼受簿!E158=3,\"S\",IF(依頼受簿!E158=4,\"H\",\"-\"))))&依頼受簿!F158&\".\"&依頼受簿!G158&\".\"&依頼受簿!H158))","v":""},{"$f":"IF(OR(依頼受簿!I158=0,依頼受簿!I158=\"\"),\"\",IF(依頼受簿!I158=1,\"男\",IF(依頼受簿!I158=2,\"女\",\"入力欄には数字で性別を入力してください\")))","v":""},null,null,null,null,null,3,2,"",null,"－","衆小\n衆比\n国審","　.　　.　\n　.　　.　","　.　　.　\n　.　　.　",{"$f":"IF(OR(依頼受簿!J158=0,依頼受簿!J158=\"\"),\"\",依頼受簿!J158)","v":""}]
[154,{"$f":"IF(OR(依頼受簿!C159=0,依頼受簿!C159=\"\"),\"\",依頼受簿!C159)","v":""},{"$f":"IF(OR(依頼受簿!D159=0,依頼受簿!D159=\"\"),\"\",依頼受簿!D159)","v":""},{"$f":"IF(OR(依頼受簿!E159=0,依頼受簿!E159=\"\"),\"\",VALUE(IF(依頼受簿!E159=1,\"M\",IF(依頼受簿!E159=2,\"T\",IF(依頼受簿!E159=3,\"S\",IF(依頼受簿!E159=4,\"H\",\"-\"))))&依頼受簿!F159&\".\"&依頼受簿!G159&\".\"&依頼受簿!H159))","v":""},{"$f":"IF(OR(依頼受簿!I159=0,依頼受簿!I159=\"\"),\"\",IF(依頼受簿!I159=1,\"男\",IF(依頼受簿!I159=2,\"女\",\"入力欄には数字で性別を入力してください\")))","v":""},null,null,null,null,null,3,2,"",null,"－","衆小\n衆比\n国審","　.　　.　\n　.　　.　","　.　　.　\n　.　　.　",{"$f":"IF(OR(依頼受簿!J159=0,依頼受簿!J159=\"\"),\"\",依頼受簿!J159)","v":""}]
[155,{"$f":"IF(OR(依頼受簿!C160=0,依頼受簿!C160=\"\"),\"\",依頼受簿!C160)","v":""},{"$f":"IF(OR(依頼受簿!D160=0,依頼受簿!D160=\"\"),\"\",依頼受簿!D160)","v":""},{"$f":"IF(OR(依頼受簿!E160=0,依頼受簿!E160=\"\"),\"\",VALUE(IF(依頼受簿!E160=1,\"M\",IF(依頼受簿!E160=2,\"T\",IF(依頼受簿!E160=3,\"S\",IF(依頼受簿!E160=4,\"H\",\"-\"))))&依頼受簿!F160&\".\"&依頼受簿!G160&\".\"&依頼受簿!H160))","v":""},{"$f":"IF(OR(依頼受簿!I160=0,依頼受簿!I160=\"\"),\"\",IF(依頼受簿!I160=1,\"男\",IF(依頼受簿!I160=2,\"女\",\"入力欄には数字で性別を入力してください\")))","v":""},null,null,null,null,null,3,2,"",null,"－","衆小\n衆比\n国審","　.　　.　\n　.　　.　","　.　　.　\n　.　　.　",{"$f":"IF(OR(依頼受簿!J160=0,依頼受簿!J160=\"\"),\"\",依頼受簿!J160)","v":""}]
[156,{"$f":"IF(OR(依頼受簿!C161=0,依頼受簿!C161=\"\"),\"\",依頼受簿!C161)","v":""},{"$f":"IF(OR(依頼受簿!D161=0,依頼受簿!D161=\"\"),\"\",依頼受簿!D161)","v":""},{"$f":"IF(OR(依頼受簿!E161=0,依頼受簿!E161=\"\"),\"\",VALUE(IF(依頼受簿!E161=1,\"M\",IF(依頼受簿!E161=2,\"T\",IF(依頼受簿!E161=3,\"S\",IF(依頼受簿!E161=4,\"H\",\"-\"))))&依頼受簿!F161&\".\"&依頼受簿!G161&\".\"&依頼受簿!H161))","v":""},{"$f":"IF(OR(依頼受簿!I161=0,依頼受簿!I161=\"\"),\"\",IF(依頼受簿!I161=1,\"男\",IF(依頼受簿!I161=2,\"女\",\"入力欄には数字で性別を入力してください\")))","v":""},null,null,null,null,null,3,2,"",null,"－","衆小\n衆比\n国審","　.　　.　\n　.　　.　","　.　　.　\n　.　　.　",{"$f":"IF(OR(依頼受簿!J161=0,依頼受簿!J161=\"\"),\"\",依頼受簿!J161)","v":""}]
[157,{"$f":"IF(OR(依頼受簿!C162=0,依頼受簿!C162=\"\"),\"\",依頼受簿!C162)","v":""},{"$f":"IF(OR(依頼受簿!D162=0,依頼受簿!D162=\"\"),\"\",依頼受簿!D162)","v":""},{"$f":"IF(OR(依頼受簿!E162=0,依頼受簿!E162=\"\"),\"\",VALUE(IF(依頼受簿!E162=1,\"M\",IF(依頼受簿!E162=2,\"T\",IF(依頼受簿!E162=3,\"S\",IF(依頼受簿!E162=4,\"H\",\"-\"))))&依頼受簿!F162&\".\"&依頼受簿!G162&\".\"&依頼受簿!H162))","v":""},{"$f":"IF(OR(依頼受簿!I162=0,依頼受簿!I162=\"\"),\"\",IF(依頼受簿!I162=1,\"男\",IF(依頼受簿!I162=2,\"女\",\"入力欄には数字で性別を入力してください\")))","v":""},null,null,null,null,null,3,2,"",null,"－","衆小\n衆比\n国審","　.　　.　\n　.　　.　","　.　　.　\n　.　　.　",{"$f":"IF(OR(依頼受簿!J162=0,依頼受簿!J162=\"\"),\"\",依頼受簿!J162)","v":""}]
[158,{"$f":"IF(OR(依頼受簿!C163=0,依頼受簿!C163=\"\"),\"\",依頼受簿!C163)","v":""},{"$f":"IF(OR(依頼受簿!D163=0,依頼受簿!D163=\"\"),\"\",依頼受簿!D163)","v":""},{"$f":"IF(OR(依頼受簿!E163=0,依頼受簿!E163=\"\"),\"\",VALUE(IF(依頼受簿!E163=1,\"M\",IF(依頼受簿!E163=2,\"T\",IF(依頼受簿!E163=3,\"S\",IF(依頼受簿!E163=4,\"H\",\"-\"))))&依頼受簿!F163&\".\"&依頼受簿!G163&\".\"&依頼受簿!H163))","v":""},{"$f":"IF(OR(依頼受簿!I163=0,依頼受簿!I163=\"\"),\"\",IF(依頼受簿!I163=1,\"男\",IF(依頼受簿!I163=2,\"女\",\"入力欄には数字で性別を入力してください\")))","v":""},null,null,null,null,null,3,2,"",null,"－","衆小\n衆比\n国審","　.　　.　\n　.　　.　","　.　　.　\n　.　　.　",{"$f":"IF(OR(依頼受簿!J163=0,依頼受簿!J163=\"\"),\"\",依頼受簿!J163)","v":""}]
[159,{"$f":"IF(OR(依頼受簿!C164=0,依頼受簿!C164=\"\"),\"\",依頼受簿!C164)","v":""},{"$f":"IF(OR(依頼受簿!D164=0,依頼受簿!D164=\"\"),\"\",依頼受簿!D164)","v":""},{"$f":"IF(OR(依頼受簿!E164=0,依頼受簿!E164=\"\"),\"\",VALUE(IF(依頼受簿!E164=1,\"M\",IF(依頼受簿!E164=2,\"T\",IF(依頼受簿!E164=3,\"S\",IF(依頼受簿!E164=4,\"H\",\"-\"))))&依頼受簿!F164&\".\"&依頼受簿!G164&\".\"&依頼受簿!H164))","v":""},{"$f":"IF(OR(依頼受簿!I164=0,依頼受簿!I164=\"\"),\"\",IF(依頼受簿!I164=1,\"男\",IF(依頼受簿!I164=2,\"女\",\"入力欄には数字で性別を入力してください\")))","v":""},null,null,null,null,null,3,2,"",null,"－","衆小\n衆比\n国審","　.　　.　\n　.　　.　","　.　　.　\n　.　　.　",{"$f":"IF(OR(依頼受簿!J164=0,依頼受簿!J164=\"\"),\"\",依頼受簿!J164)","v":""}]
[160,{"$f":"IF(OR(依頼受簿!C165=0,依頼受簿!C165=\"\"),\"\",依頼受簿!C165)","v":""},{"$f":"IF(OR(依頼受簿!D165=0,依頼受簿!D165=\"\"),\"\",依頼受簿!D165)","v":""},{"$f":"IF(OR(依頼受簿!E165=0,依頼受簿!E165=\"\"),\"\",VALUE(IF(依頼受簿!E165=1,\"M\",IF(依頼受簿!E165=2,\"T\",IF(依頼受簿!E165=3,\"S\",IF(依頼受簿!E165=4,\"H\",\"-\"))))&依頼受簿!F165&\".\"&依頼受簿!G165&\".\"&依頼受簿!H165))","v":""},{"$f":"IF(OR(依頼受簿!I165=0,依頼受簿!I165=\"\"),\"\",IF(依頼受簿!I165=1,\"男\",IF(依頼受簿!I165=2,\"女\",\"入力欄には数字で性別を入力してください\")))","v":""},null,null,null,null,null,3,2,"",null,"－","衆小\n衆比\n国審","　.　　.　\n　.　　.　","　.　　.　\n　.　　.　",{"$f":"IF(OR(依頼受簿!J165=0,依頼受簿!J165=\"\"),\"\",依頼受簿!J165)","v":""}]
[161,{"$f":"IF(OR(依頼受簿!C166=0,依頼受簿!C166=\"\"),\"\",依頼受簿!C166)","v":""},{"$f":"IF(OR(依頼受簿!D166=0,依頼受簿!D166=\"\"),\"\",依頼受簿!D166)","v":""},{"$f":"IF(OR(依頼受簿!E166=0,依頼受簿!E166=\"\"),\"\",VALUE(IF(依頼受簿!E166=1,\"M\",IF(依頼受簿!E166=2,\"T\",IF(依頼受簿!E166=3,\"S\",IF(依頼受簿!E166=4,\"H\",\"-\"))))&依頼受簿!F166&\".\"&依頼受簿!G166&\".\"&依頼受簿!H166))","v":""},{"$f":"IF(OR(依頼受簿!I166=0,依頼受簿!I166=\"\"),\"\",IF(依頼受簿!I166=1,\"男\",IF(依頼受簿!I166=2,\"女\",\"入力欄には数字で性別を入力してください\")))","v":""},null,null,null,null,null,3,2,"",null,"－","衆小\n衆比\n国審","　.　　.　\n　.　　.　","　.　　.　\n　.　　.　",{"$f":"IF(OR(依頼受簿!J166=0,依頼受簿!J166=\"\"),\"\",依頼受簿!J166)","v":""}]
[162,{"$f":"IF(OR(依頼受簿!C167=0,依頼受簿!C167=\"\"),\"\",依頼受簿!C167)","v":""},{"$f":"IF(OR(依頼受簿!D167=0,依頼受簿!D167=\"\"),\"\",依頼受簿!D167)","v":""},{"$f":"IF(OR(依頼受簿!E167=0,依頼受簿!E167=\"\"),\"\",VALUE(IF(依頼受簿!E167=1,\"M\",IF(依頼受簿!E167=2,\"T\",IF(依頼受簿!E167=3,\"S\",IF(依頼受簿!E167=4,\"H\",\"-\"))))&依頼受簿!F167&\".\"&依頼受簿!G167&\".\"&依頼受簿!H167))","v":""},{"$f":"IF(OR(依頼受簿!I167=0,依頼受簿!I167=\"\"),\"\",IF(依頼受簿!I167=1,\"男\",IF(依頼受簿!I167=2,\"女\",\"入力欄には数字で性別を入力してください\")))","v":""},null,null,null,null,null,3,2,"",null,"－","衆小\n衆比\n国審","　.　　.　\n　.　　.　","　.　　.　\n　.　　.　",{"$f":"IF(OR(依頼受簿!J167=0,依頼受簿!J167=\"\"),\"\",依頼受簿!J167)","v":""}]
[163,{"$f":"IF(OR(依頼受簿!C168=0,依頼受簿!C168=\"\"),\"\",依頼受簿!C168)","v":""},{"$f":"IF(OR(依頼受簿!D168=0,依頼受簿!D168=\"\"),\"\",依頼受簿!D168)","v":""},{"$f":"IF(OR(依頼受簿!E168=0,依頼受簿!E168=\"\"),\"\",VALUE(IF(依頼受簿!E168=1,\"M\",IF(依頼受簿!E168=2,\"T\",IF(依頼受簿!E168=3,\"S\",IF(依頼受簿!E168=4,\"H\",\"-\"))))&依頼受簿!F168&\".\"&依頼受簿!G168&\".\"&依頼受簿!H168))","v":""},{"$f":"IF(OR(依頼受簿!I168=0,依頼受簿!I168=\"\"),\"\",IF(依頼受簿!I168=1,\"男\",IF(依頼受簿!I168=2,\"女\",\"入力欄には数字で性別を入力してください\")))","v":""},null,null,null,null,null,3,2,"",null,"－","衆小\n衆比\n国審","　.　　.　\n　.　　.　","　.　　.　\n　.　　.　",{"$f":"IF(OR(依頼受簿!J168=0,依頼受簿!J168=\"\"),\"\",依頼受簿!J168)","v":""}]
[164,{"$f":"IF(OR(依頼受簿!C169=0,依頼受簿!C169=\"\"),\"\",依頼受簿!C169)","v":""},{"$f":"IF(OR(依頼受簿!D169=0,依頼受簿!D169=\"\"),\"\",依頼受簿!D169)","v":""},{"$f":"IF(OR(依頼受簿!E169=0,依頼受簿!E169=\"\"),\"\",VALUE(IF(依頼受簿!E169=1,\"M\",IF(依頼受簿!E169=2,\"T\",IF(依頼受簿!E169=3,\"S\",IF(依頼受簿!E169=4,\"H\",\"-\"))))&依頼受簿!F169&\".\"&依頼受簿!G169&\".\"&依頼受簿!H169))","v":""},{"$f":"IF(OR(依頼受簿!I169=0,依頼受簿!I169=\"\"),\"\",IF(依頼受簿!I169=1,\"男\",IF(依頼受簿!I169=2,\"女\",\"入力欄には数字で性別を入力してください\")))","v":""},null,null,null,null,null,3,2,"",null,"－","衆小\n衆比\n国審","　.　　.　\n　.　　.　","　.　　.　\n　.　　.　",{"$f":"IF(OR(依頼受簿!J169=0,依頼受簿!J169=\"\"),\"\",依頼受簿!J169)","v":""}]
[165,{"$f":"IF(OR(依頼受簿!C170=0,依頼受簿!C170=\"\"),\"\",依頼受簿!C170)","v":""},{"$f":"IF(OR(依頼受簿!D170=0,依頼受簿!D170=\"\"),\"\",依頼受簿!D170)","v":""},{"$f":"IF(OR(依頼受簿!E170=0,依頼受簿!E170=\"\"),\"\",VALUE(IF(依頼受簿!E170=1,\"M\",IF(依頼受簿!E170=2,\"T\",IF(依頼受簿!E170=3,\"S\",IF(依頼受簿!E170=4,\"H\",\"-\"))))&依頼受簿!F170&\".\"&依頼受簿!G170&\".\"&依頼受簿!H170))","v":""},{"$f":"IF(OR(依頼受簿!I170=0,依頼受簿!I170=\"\"),\"\",IF(依頼受簿!I170=1,\"男\",IF(依頼受簿!I170=2,\"女\",\"入力欄には数字で性別を入力してください\")))","v":""},null,null,null,null,null,3,2,"",null,"－","衆小\n衆比\n国審","　.　　.　\n　.　　.　","　.　　.　\n　.　　.　",{"$f":"IF(OR(依頼受簿!J170=0,依頼受簿!J170=\"\"),\"\",依頼受簿!J170)","v":""}]
[166,{"$f":"IF(OR(依頼受簿!C171=0,依頼受簿!C171=\"\"),\"\",依頼受簿!C171)","v":""},{"$f":"IF(OR(依頼受簿!D171=0,依頼受簿!D171=\"\"),\"\",依頼受簿!D171)","v":""},{"$f":"IF(OR(依頼受簿!E171=0,依頼受簿!E171=\"\"),\"\",VALUE(IF(依頼受簿!E171=1,\"M\",IF(依頼受簿!E171=2,\"T\",IF(依頼受簿!E171=3,\"S\",IF(依頼受簿!E171=4,\"H\",\"-\"))))&依頼受簿!F171&\".\"&依頼受簿!G171&\".\"&依頼受簿!H171))","v":""},{"$f":"IF(OR(依頼受簿!I171=0,依頼受簿!I171=\"\"),\"\",IF(依頼受簿!I171=1,\"男\",IF(依頼受簿!I171=2,\"女\",\"入力欄には数字で性別を入力してください\")))","v":""},null,null,null,null,null,3,2,"",null,"－","衆小\n衆比\n国審","　.　　.　\n　.　　.　","　.　　.　\n　.　　.　",{"$f":"IF(OR(依頼受簿!J171=0,依頼受簿!J171=\"\"),\"\",依頼受簿!J171)","v":""}]
[167,{"$f":"IF(OR(依頼受簿!C172=0,依頼受簿!C172=\"\"),\"\",依頼受簿!C172)","v":""},{"$f":"IF(OR(依頼受簿!D172=0,依頼受簿!D172=\"\"),\"\",依頼受簿!D172)","v":""},{"$f":"IF(OR(依頼受簿!E172=0,依頼受簿!E172=\"\"),\"\",VALUE(IF(依頼受簿!E172=1,\"M\",IF(依頼受簿!E172=2,\"T\",IF(依頼受簿!E172=3,\"S\",IF(依頼受簿!E172=4,\"H\",\"-\"))))&依頼受簿!F172&\".\"&依頼受簿!G172&\".\"&依頼受簿!H172))","v":""},{"$f":"IF(OR(依頼受簿!I172=0,依頼受簿!I172=\"\"),\"\",IF(依頼受簿!I172=1,\"男\",IF(依頼受簿!I172=2,\"女\",\"入力欄には数字で性別を入力してください\")))","v":""},null,null,null,null,null,3,2,"",null,"－","衆小\n衆比\n国審","　.　　.　\n　.　　.　","　.　　.　\n　.　　.　",{"$f":"IF(OR(依頼受簿!J172=0,依頼受簿!J172=\"\"),\"\",依頼受簿!J172)","v":""}]
[168,{"$f":"IF(OR(依頼受簿!C173=0,依頼受簿!C173=\"\"),\"\",依頼受簿!C173)","v":""},{"$f":"IF(OR(依頼受簿!D173=0,依頼受簿!D173=\"\"),\"\",依頼受簿!D173)","v":""},{"$f":"IF(OR(依頼受簿!E173=0,依頼受簿!E173=\"\"),\"\",VALUE(IF(依頼受簿!E173=1,\"M\",IF(依頼受簿!E173=2,\"T\",IF(依頼受簿!E173=3,\"S\",IF(依頼受簿!E173=4,\"H\",\"-\"))))&依頼受簿!F173&\".\"&依頼受簿!G173&\".\"&依頼受簿!H173))","v":""},{"$f":"IF(OR(依頼受簿!I173=0,依頼受簿!I173=\"\"),\"\",IF(依頼受簿!I173=1,\"男\",IF(依頼受簿!I173=2,\"女\",\"入力欄には数字で性別を入力してください\")))","v":""},null,null,null,null,null,3,2,"",null,"－","衆小\n衆比\n国審","　.　　.　\n　.　　.　","　.　　.　\n　.　　.　",{"$f":"IF(OR(依頼受簿!J173=0,依頼受簿!J173=\"\"),\"\",依頼受簿!J173)","v":""}]
[169,{"$f":"IF(OR(依頼受簿!C174=0,依頼受簿!C174=\"\"),\"\",依頼受簿!C174)","v":""},{"$f":"IF(OR(依頼受簿!D174=0,依頼受簿!D174=\"\"),\"\",依頼受簿!D174)","v":""},{"$f":"IF(OR(依頼受簿!E174=0,依頼受簿!E174=\"\"),\"\",VALUE(IF(依頼受簿!E174=1,\"M\",IF(依頼受簿!E174=2,\"T\",IF(依頼受簿!E174=3,\"S\",IF(依頼受簿!E174=4,\"H\",\"-\"))))&依頼受簿!F174&\".\"&依頼受簿!G174&\".\"&依頼受簿!H174))","v":""},{"$f":"IF(OR(依頼受簿!I174=0,依頼受簿!I174=\"\"),\"\",IF(依頼受簿!I174=1,\"男\",IF(依頼受簿!I174=2,\"女\",\"入力欄には数字で性別を入力してください\")))","v":""},null,null,null,null,null,3,2,"",null,"－","衆小\n衆比\n国審","　.　　.　\n　.　　.　","　.　　.　\n　.　　.　",{"$f":"IF(OR(依頼受簿!J174=0,依頼受簿!J174=\"\"),\"\",依頼受簿!J174)","v":""}]
[170,{"$f":"IF(OR(依頼受簿!C175=0,依頼受簿!C175=\"\"),\"\",依頼受簿!C175)","v":""},{"$f":"IF(OR(依頼受簿!D175=0,依頼受簿!D175=\"\"),\"\",依頼受簿!D175)","v":""},{"$f":"IF(OR(依頼受簿!E175=0,依頼受簿!E175=\"\"),\"\",VALUE(IF(依頼受簿!E175=1,\"M\",IF(依頼受簿!E175=2,\"T\",IF(依頼受簿!E175=3,\"S\",IF(依頼受簿!E175=4,\"H\",\"-\"))))&依頼受簿!F175&\".\"&依頼受簿!G175&\".\"&依頼受簿!H175))","v":""},{"$f":"IF(OR(依頼受簿!I175=0,依頼受簿!I175=\"\"),\"\",IF(依頼受簿!I175=1,\"男\",IF(依頼受簿!I175=2,\"女\",\"入力欄には数字で性別を入力してください\")))","v":""},null,null,null,null,null,3,2,"",null,"－","衆小\n衆比\n国審","　.　　.　\n　.　　.　","　.　　.　\n　.　　.　",{"$f":"IF(OR(依頼受簿!J175=0,依頼受簿!J175=\"\"),\"\",依頼受簿!J175)","v":""}]
[171,{"$f":"IF(OR(依頼受簿!C176=0,依頼受簿!C176=\"\"),\"\",依頼受簿!C176)","v":""},{"$f":"IF(OR(依頼受簿!D176=0,依頼受簿!D176=\"\"),\"\",依頼受簿!D176)","v":""},{"$f":"IF(OR(依頼受簿!E176=0,依頼受簿!E176=\"\"),\"\",VALUE(IF(依頼受簿!E176=1,\"M\",IF(依頼受簿!E176=2,\"T\",IF(依頼受簿!E176=3,\"S\",IF(依頼受簿!E176=4,\"H\",\"-\"))))&依頼受簿!F176&\".\"&依頼受簿!G176&\".\"&依頼受簿!H176))","v":""},{"$f":"IF(OR(依頼受簿!I176=0,依頼受簿!I176=\"\"),\"\",IF(依頼受簿!I176=1,\"男\",IF(依頼受簿!I176=2,\"女\",\"入力欄には数字で性別を入力してください\")))","v":""},null,null,null,null,null,3,2,"",null,"－","衆小\n衆比\n国審","　.　　.　\n　.　　.　","　.　　.　\n　.　　.　",{"$f":"IF(OR(依頼受簿!J176=0,依頼受簿!J176=\"\"),\"\",依頼受簿!J176)","v":""}]
[172,{"$f":"IF(OR(依頼受簿!C177=0,依頼受簿!C177=\"\"),\"\",依頼受簿!C177)","v":""},{"$f":"IF(OR(依頼受簿!D177=0,依頼受簿!D177=\"\"),\"\",依頼受簿!D177)","v":""},{"$f":"IF(OR(依頼受簿!E177=0,依頼受簿!E177=\"\"),\"\",VALUE(IF(依頼受簿!E177=1,\"M\",IF(依頼受簿!E177=2,\"T\",IF(依頼受簿!E177=3,\"S\",IF(依頼受簿!E177=4,\"H\",\"-\"))))&依頼受簿!F177&\".\"&依頼受簿!G177&\".\"&依頼受簿!H177))","v":""},{"$f":"IF(OR(依頼受簿!I177=0,依頼受簿!I177=\"\"),\"\",IF(依頼受簿!I177=1,\"男\",IF(依頼受簿!I177=2,\"女\",\"入力欄には数字で性別を入力してください\")))","v":""},null,null,null,null,null,3,2,"",null,"－","衆小\n衆比\n国審","　.　　.　\n　.　　.　","　.　　.　\n　.　　.　",{"$f":"IF(OR(依頼受簿!J177=0,依頼受簿!J177=\"\"),\"\",依頼受簿!J177)","v":""}]
[173,{"$f":"IF(OR(依頼受簿!C178=0,依頼受簿!C178=\"\"),\"\",依頼受簿!C178)","v":""},{"$f":"IF(OR(依頼受簿!D178=0,依頼受簿!D178=\"\"),\"\",依頼受簿!D178)","v":""},{"$f":"IF(OR(依頼受簿!E178=0,依頼受簿!E178=\"\"),\"\",VALUE(IF(依頼受簿!E178=1,\"M\",IF(依頼受簿!E178=2,\"T\",IF(依頼受簿!E178=3,\"S\",IF(依頼受簿!E178=4,\"H\",\"-\"))))&依頼受簿!F178&\".\"&依頼受簿!G178&\".\"&依頼受簿!H178))","v":""},{"$f":"IF(OR(依頼受簿!I178=0,依頼受簿!I178=\"\"),\"\",IF(依頼受簿!I178=1,\"男\",IF(依頼受簿!I178=2,\"女\",\"入力欄には数字で性別を入力してください\")))","v":""},null,null,null,null,null,3,2,"",null,"－","衆小\n衆比\n国審","　.　　.　\n　.　　.　","　.　　.　\n　.　　.　",{"$f":"IF(OR(依頼受簿!J178=0,依頼受簿!J178=\"\"),\"\",依頼受簿!J178)","v":""}]
[174,{"$f":"IF(OR(依頼受簿!C179=0,依頼受簿!C179=\"\"),\"\",依頼受簿!C179)","v":""},{"$f":"IF(OR(依頼受簿!D179=0,依頼受簿!D179=\"\"),\"\",依頼受簿!D179)","v":""},{"$f":"IF(OR(依頼受簿!E179=0,依頼受簿!E179=\"\"),\"\",VALUE(IF(依頼受簿!E179=1,\"M\",IF(依頼受簿!E179=2,\"T\",IF(依頼受簿!E179=3,\"S\",IF(依頼受簿!E179=4,\"H\",\"-\"))))&依頼受簿!F179&\".\"&依頼受簿!G179&\".\"&依頼受簿!H179))","v":""},{"$f":"IF(OR(依頼受簿!I179=0,依頼受簿!I179=\"\"),\"\",IF(依頼受簿!I179=1,\"男\",IF(依頼受簿!I179=2,\"女\",\"入力欄には数字で性別を入力してください\")))","v":""},null,null,null,null,null,3,2,"",null,"－","衆小\n衆比\n国審","　.　　.　\n　.　　.　","　.　　.　\n　.　　.　",{"$f":"IF(OR(依頼受簿!J179=0,依頼受簿!J179=\"\"),\"\",依頼受簿!J179)","v":""}]
[175,{"$f":"IF(OR(依頼受簿!C180=0,依頼受簿!C180=\"\"),\"\",依頼受簿!C180)","v":""},{"$f":"IF(OR(依頼受簿!D180=0,依頼受簿!D180=\"\"),\"\",依頼受簿!D180)","v":""},{"$f":"IF(OR(依頼受簿!E180=0,依頼受簿!E180=\"\"),\"\",VALUE(IF(依頼受簿!E180=1,\"M\",IF(依頼受簿!E180=2,\"T\",IF(依頼受簿!E180=3,\"S\",IF(依頼受簿!E180=4,\"H\",\"-\"))))&依頼受簿!F180&\".\"&依頼受簿!G180&\".\"&依頼受簿!H180))","v":""},{"$f":"IF(OR(依頼受簿!I180=0,依頼受簿!I180=\"\"),\"\",IF(依頼受簿!I180=1,\"男\",IF(依頼受簿!I180=2,\"女\",\"入力欄には数字で性別を入力してください\")))","v":""},null,null,null,null,null,3,2,"",null,"－","衆小\n衆比\n国審","　.　　.　\n　.　　.　","　.　　.　\n　.　　.　",{"$f":"IF(OR(依頼受簿!J180=0,依頼受簿!J180=\"\"),\"\",依頼受簿!J180)","v":""}]
[176,{"$f":"IF(OR(依頼受簿!C181=0,依頼受簿!C181=\"\"),\"\",依頼受簿!C181)","v":""},{"$f":"IF(OR(依頼受簿!D181=0,依頼受簿!D181=\"\"),\"\",依頼受簿!D181)","v":""},{"$f":"IF(OR(依頼受簿!E181=0,依頼受簿!E181=\"\"),\"\",VALUE(IF(依頼受簿!E181=1,\"M\",IF(依頼受簿!E181=2,\"T\",IF(依頼受簿!E181=3,\"S\",IF(依頼受簿!E181=4,\"H\",\"-\"))))&依頼受簿!F181&\".\"&依頼受簿!G181&\".\"&依頼受簿!H181))","v":""},{"$f":"IF(OR(依頼受簿!I181=0,依頼受簿!I181=\"\"),\"\",IF(依頼受簿!I181=1,\"男\",IF(依頼受簿!I181=2,\"女\",\"入力欄には数字で性別を入力してください\")))","v":""},null,null,null,null,null,3,2,"",null,"－","衆小\n衆比\n国審","　.　　.　\n　.　　.　","　.　　.　\n　.　　.　",{"$f":"IF(OR(依頼受簿!J181=0,依頼受簿!J181=\"\"),\"\",依頼受簿!J181)","v":""}]
[177,{"$f":"IF(OR(依頼受簿!C182=0,依頼受簿!C182=\"\"),\"\",依頼受簿!C182)","v":""},{"$f":"IF(OR(依頼受簿!D182=0,依頼受簿!D182=\"\"),\"\",依頼受簿!D182)","v":""},{"$f":"IF(OR(依頼受簿!E182=0,依頼受簿!E182=\"\"),\"\",VALUE(IF(依頼受簿!E182=1,\"M\",IF(依頼受簿!E182=2,\"T\",IF(依頼受簿!E182=3,\"S\",IF(依頼受簿!E182=4,\"H\",\"-\"))))&依頼受簿!F182&\".\"&依頼受簿!G182&\".\"&依頼受簿!H182))","v":""},{"$f":"IF(OR(依頼受簿!I182=0,依頼受簿!I182=\"\"),\"\",IF(依頼受簿!I182=1,\"男\",IF(依頼受簿!I182=2,\"女\",\"入力欄には数字で性別を入力してください\")))","v":""},null,null,null,null,null,3,2,"",null,"－","衆小\n衆比\n国審","　.　　.　\n　.　　.　","　.　　.　\n　.　　.　",{"$f":"IF(OR(依頼受簿!J182=0,依頼受簿!J182=\"\"),\"\",依頼受簿!J182)","v":""}]
[178,{"$f":"IF(OR(依頼受簿!C183=0,依頼受簿!C183=\"\"),\"\",依頼受簿!C183)","v":""},{"$f":"IF(OR(依頼受簿!D183=0,依頼受簿!D183=\"\"),\"\",依頼受簿!D183)","v":""},{"$f":"IF(OR(依頼受簿!E183=0,依頼受簿!E183=\"\"),\"\",VALUE(IF(依頼受簿!E183=1,\"M\",IF(依頼受簿!E183=2,\"T\",IF(依頼受簿!E183=3,\"S\",IF(依頼受簿!E183=4,\"H\",\"-\"))))&依頼受簿!F183&\".\"&依頼受簿!G183&\".\"&依頼受簿!H183))","v":""},{"$f":"IF(OR(依頼受簿!I183=0,依頼受簿!I183=\"\"),\"\",IF(依頼受簿!I183=1,\"男\",IF(依頼受簿!I183=2,\"女\",\"入力欄には数字で性別を入力してください\")))","v":""},null,null,null,null,null,3,2,"",null,"－","衆小\n衆比\n国審","　.　　.　\n　.　　.　","　.　　.　\n　.　　.　",{"$f":"IF(OR(依頼受簿!J183=0,依頼受簿!J183=\"\"),\"\",依頼受簿!J183)","v":""}]
[179,{"$f":"IF(OR(依頼受簿!C184=0,依頼受簿!C184=\"\"),\"\",依頼受簿!C184)","v":""},{"$f":"IF(OR(依頼受簿!D184=0,依頼受簿!D184=\"\"),\"\",依頼受簿!D184)","v":""},{"$f":"IF(OR(依頼受簿!E184=0,依頼受簿!E184=\"\"),\"\",VALUE(IF(依頼受簿!E184=1,\"M\",IF(依頼受簿!E184=2,\"T\",IF(依頼受簿!E184=3,\"S\",IF(依頼受簿!E184=4,\"H\",\"-\"))))&依頼受簿!F184&\".\"&依頼受簿!G184&\".\"&依頼受簿!H184))","v":""},{"$f":"IF(OR(依頼受簿!I184=0,依頼受簿!I184=\"\"),\"\",IF(依頼受簿!I184=1,\"男\",IF(依頼受簿!I184=2,\"女\",\"入力欄には数字で性別を入力してください\")))","v":""},null,null,null,null,null,3,2,"",null,"－","衆小\n衆比\n国審","　.　　.　\n　.　　.　","　.　　.　\n　.　　.　",{"$f":"IF(OR(依頼受簿!J184=0,依頼受簿!J184=\"\"),\"\",依頼受簿!J184)","v":""}]
[180,{"$f":"IF(OR(依頼受簿!C185=0,依頼受簿!C185=\"\"),\"\",依頼受簿!C185)","v":""},{"$f":"IF(OR(依頼受簿!D185=0,依頼受簿!D185=\"\"),\"\",依頼受簿!D185)","v":""},{"$f":"IF(OR(依頼受簿!E185=0,依頼受簿!E185=\"\"),\"\",VALUE(IF(依頼受簿!E185=1,\"M\",IF(依頼受簿!E185=2,\"T\",IF(依頼受簿!E185=3,\"S\",IF(依頼受簿!E185=4,\"H\",\"-\"))))&依頼受簿!F185&\".\"&依頼受簿!G185&\".\"&依頼受簿!H185))","v":""},{"$f":"IF(OR(依頼受簿!I185=0,依頼受簿!I185=\"\"),\"\",IF(依頼受簿!I185=1,\"男\",IF(依頼受簿!I185=2,\"女\",\"入力欄には数字で性別を入力してください\")))","v":""},null,null,null,null,null,3,2,"",null,"－","衆小\n衆比\n国審","　.　　.　\n　.　　.　","　.　　.　\n　.　　.　",{"$f":"IF(OR(依頼受簿!J185=0,依頼受簿!J185=\"\"),\"\",依頼受簿!J185)","v":""}]
[181,{"$f":"IF(OR(依頼受簿!C186=0,依頼受簿!C186=\"\"),\"\",依頼受簿!C186)","v":""},{"$f":"IF(OR(依頼受簿!D186=0,依頼受簿!D186=\"\"),\"\",依頼受簿!D186)","v":""},{"$f":"IF(OR(依頼受簿!E186=0,依頼受簿!E186=\"\"),\"\",VALUE(IF(依頼受簿!E186=1,\"M\",IF(依頼受簿!E186=2,\"T\",IF(依頼受簿!E186=3,\"S\",IF(依頼受簿!E186=4,\"H\",\"-\"))))&依頼受簿!F186&\".\"&依頼受簿!G186&\".\"&依頼受簿!H186))","v":""},{"$f":"IF(OR(依頼受簿!I186=0,依頼受簿!I186=\"\"),\"\",IF(依頼受簿!I186=1,\"男\",IF(依頼受簿!I186=2,\"女\",\"入力欄には数字で性別を入力してください\")))","v":""},null,null,null,null,null,3,2,"",null,"－","衆小\n衆比\n国審","　.　　.　\n　.　　.　","　.　　.　\n　.　　.　",{"$f":"IF(OR(依頼受簿!J186=0,依頼受簿!J186=\"\"),\"\",依頼受簿!J186)","v":""}]
[182,{"$f":"IF(OR(依頼受簿!C187=0,依頼受簿!C187=\"\"),\"\",依頼受簿!C187)","v":""},{"$f":"IF(OR(依頼受簿!D187=0,依頼受簿!D187=\"\"),\"\",依頼受簿!D187)","v":""},{"$f":"IF(OR(依頼受簿!E187=0,依頼受簿!E187=\"\"),\"\",VALUE(IF(依頼受簿!E187=1,\"M\",IF(依頼受簿!E187=2,\"T\",IF(依頼受簿!E187=3,\"S\",IF(依頼受簿!E187=4,\"H\",\"-\"))))&依頼受簿!F187&\".\"&依頼受簿!G187&\".\"&依頼受簿!H187))","v":""},{"$f":"IF(OR(依頼受簿!I187=0,依頼受簿!I187=\"\"),\"\",IF(依頼受簿!I187=1,\"男\",IF(依頼受簿!I187=2,\"女\",\"入力欄には数字で性別を入力してください\")))","v":""},null,null,null,null,null,3,2,"",null,"－","衆小\n衆比\n国審","　.　　.　\n　.　　.　","　.　　.　\n　.　　.　",{"$f":"IF(OR(依頼受簿!J187=0,依頼受簿!J187=\"\"),\"\",依頼受簿!J187)","v":""}]
[183,{"$f":"IF(OR(依頼受簿!C188=0,依頼受簿!C188=\"\"),\"\",依頼受簿!C188)","v":""},{"$f":"IF(OR(依頼受簿!D188=0,依頼受簿!D188=\"\"),\"\",依頼受簿!D188)","v":""},{"$f":"IF(OR(依頼受簿!E188=0,依頼受簿!E188=\"\"),\"\",VALUE(IF(依頼受簿!E188=1,\"M\",IF(依頼受簿!E188=2,\"T\",IF(依頼受簿!E188=3,\"S\",IF(依頼受簿!E188=4,\"H\",\"-\"))))&依頼受簿!F188&\".\"&依頼受簿!G188&\".\"&依頼受簿!H188))","v":""},{"$f":"IF(OR(依頼受簿!I188=0,依頼受簿!I188=\"\"),\"\",IF(依頼受簿!I188=1,\"男\",IF(依頼受簿!I188=2,\"女\",\"入力欄には数字で性別を入力してください\")))","v":""},null,null,null,null,null,3,2,"",null,"－","衆小\n衆比\n国審","　.　　.　\n　.　　.　","　.　　.　\n　.　　.　",{"$f":"IF(OR(依頼受簿!J188=0,依頼受簿!J188=\"\"),\"\",依頼受簿!J188)","v":""}]
[184,{"$f":"IF(OR(依頼受簿!C189=0,依頼受簿!C189=\"\"),\"\",依頼受簿!C189)","v":""},{"$f":"IF(OR(依頼受簿!D189=0,依頼受簿!D189=\"\"),\"\",依頼受簿!D189)","v":""},{"$f":"IF(OR(依頼受簿!E189=0,依頼受簿!E189=\"\"),\"\",VALUE(IF(依頼受簿!E189=1,\"M\",IF(依頼受簿!E189=2,\"T\",IF(依頼受簿!E189=3,\"S\",IF(依頼受簿!E189=4,\"H\",\"-\"))))&依頼受簿!F189&\".\"&依頼受簿!G189&\".\"&依頼受簿!H189))","v":""},{"$f":"IF(OR(依頼受簿!I189=0,依頼受簿!I189=\"\"),\"\",IF(依頼受簿!I189=1,\"男\",IF(依頼受簿!I189=2,\"女\",\"入力欄には数字で性別を入力してください\")))","v":""},null,null,null,null,null,3,2,"",null,"－","衆小\n衆比\n国審","　.　　.　\n　.　　.　","　.　　.　\n　.　　.　",{"$f":"IF(OR(依頼受簿!J189=0,依頼受簿!J189=\"\"),\"\",依頼受簿!J189)","v":""}]
[185,{"$f":"IF(OR(依頼受簿!C190=0,依頼受簿!C190=\"\"),\"\",依頼受簿!C190)","v":""},{"$f":"IF(OR(依頼受簿!D190=0,依頼受簿!D190=\"\"),\"\",依頼受簿!D190)","v":""},{"$f":"IF(OR(依頼受簿!E190=0,依頼受簿!E190=\"\"),\"\",VALUE(IF(依頼受簿!E190=1,\"M\",IF(依頼受簿!E190=2,\"T\",IF(依頼受簿!E190=3,\"S\",IF(依頼受簿!E190=4,\"H\",\"-\"))))&依頼受簿!F190&\".\"&依頼受簿!G190&\".\"&依頼受簿!H190))","v":""},{"$f":"IF(OR(依頼受簿!I190=0,依頼受簿!I190=\"\"),\"\",IF(依頼受簿!I190=1,\"男\",IF(依頼受簿!I190=2,\"女\",\"入力欄には数字で性別を入力してください\")))","v":""},null,null,null,null,null,3,2,"",null,"－","衆小\n衆比\n国審","　.　　.　\n　.　　.　","　.　　.　\n　.　　.　",{"$f":"IF(OR(依頼受簿!J190=0,依頼受簿!J190=\"\"),\"\",依頼受簿!J190)","v":""}]
[186,{"$f":"IF(OR(依頼受簿!C191=0,依頼受簿!C191=\"\"),\"\",依頼受簿!C191)","v":""},{"$f":"IF(OR(依頼受簿!D191=0,依頼受簿!D191=\"\"),\"\",依頼受簿!D191)","v":""},{"$f":"IF(OR(依頼受簿!E191=0,依頼受簿!E191=\"\"),\"\",VALUE(IF(依頼受簿!E191=1,\"M\",IF(依頼受簿!E191=2,\"T\",IF(依頼受簿!E191=3,\"S\",IF(依頼受簿!E191=4,\"H\",\"-\"))))&依頼受簿!F191&\".\"&依頼受簿!G191&\".\"&依頼受簿!H191))","v":""},{"$f":"IF(OR(依頼受簿!I191=0,依頼受簿!I191=\"\"),\"\",IF(依頼受簿!I191=1,\"男\",IF(依頼受簿!I191=2,\"女\",\"入力欄には数字で性別を入力してください\")))","v":""},null,null,null,null,null,3,2,"",null,"－","衆小\n衆比\n国審","　.　　.　\n　.　　.　","　.　　.　\n　.　　.　",{"$f":"IF(OR(依頼受簿!J191=0,依頼受簿!J191=\"\"),\"\",依頼受簿!J191)","v":""}]
[187,{"$f":"IF(OR(依頼受簿!C192=0,依頼受簿!C192=\"\"),\"\",依頼受簿!C192)","v":""},{"$f":"IF(OR(依頼受簿!D192=0,依頼受簿!D192=\"\"),\"\",依頼受簿!D192)","v":""},{"$f":"IF(OR(依頼受簿!E192=0,依頼受簿!E192=\"\"),\"\",VALUE(IF(依頼受簿!E192=1,\"M\",IF(依頼受簿!E192=2,\"T\",IF(依頼受簿!E192=3,\"S\",IF(依頼受簿!E192=4,\"H\",\"-\"))))&依頼受簿!F192&\".\"&依頼受簿!G192&\".\"&依頼受簿!H192))","v":""},{"$f":"IF(OR(依頼受簿!I192=0,依頼受簿!I192=\"\"),\"\",IF(依頼受簿!I192=1,\"男\",IF(依頼受簿!I192=2,\"女\",\"入力欄には数字で性別を入力してください\")))","v":""},null,null,null,null,null,3,2,"",null,"－","衆小\n衆比\n国審","　.　　.　\n　.　　.　","　.　　.　\n　.　　.　",{"$f":"IF(OR(依頼受簿!J192=0,依頼受簿!J192=\"\"),\"\",依頼受簿!J192)","v":""}]
[188,{"$f":"IF(OR(依頼受簿!C193=0,依頼受簿!C193=\"\"),\"\",依頼受簿!C193)","v":""},{"$f":"IF(OR(依頼受簿!D193=0,依頼受簿!D193=\"\"),\"\",依頼受簿!D193)","v":""},{"$f":"IF(OR(依頼受簿!E193=0,依頼受簿!E193=\"\"),\"\",VALUE(IF(依頼受簿!E193=1,\"M\",IF(依頼受簿!E193=2,\"T\",IF(依頼受簿!E193=3,\"S\",IF(依頼受簿!E193=4,\"H\",\"-\"))))&依頼受簿!F193&\".\"&依頼受簿!G193&\".\"&依頼受簿!H193))","v":""},{"$f":"IF(OR(依頼受簿!I193=0,依頼受簿!I193=\"\"),\"\",IF(依頼受簿!I193=1,\"男\",IF(依頼受簿!I193=2,\"女\",\"入力欄には数字で性別を入力してください\")))","v":""},null,null,null,null,null,3,2,"",null,"－","衆小\n衆比\n国審","　.　　.　\n　.　　.　","　.　　.　\n　.　　.　",{"$f":"IF(OR(依頼受簿!J193=0,依頼受簿!J193=\"\"),\"\",依頼受簿!J193)","v":""}]
[189,{"$f":"IF(OR(依頼受簿!C194=0,依頼受簿!C194=\"\"),\"\",依頼受簿!C194)","v":""},{"$f":"IF(OR(依頼受簿!D194=0,依頼受簿!D194=\"\"),\"\",依頼受簿!D194)","v":""},{"$f":"IF(OR(依頼受簿!E194=0,依頼受簿!E194=\"\"),\"\",VALUE(IF(依頼受簿!E194=1,\"M\",IF(依頼受簿!E194=2,\"T\",IF(依頼受簿!E194=3,\"S\",IF(依頼受簿!E194=4,\"H\",\"-\"))))&依頼受簿!F194&\".\"&依頼受簿!G194&\".\"&依頼受簿!H194))","v":""},{"$f":"IF(OR(依頼受簿!I194=0,依頼受簿!I194=\"\"),\"\",IF(依頼受簿!I194=1,\"男\",IF(依頼受簿!I194=2,\"女\",\"入力欄には数字で性別を入力してください\")))","v":""},null,null,null,null,null,3,2,"",null,"－","衆小\n衆比\n国審","　.　　.　\n　.　　.　","　.　　.　\n　.　　.　",{"$f":"IF(OR(依頼受簿!J194=0,依頼受簿!J194=\"\"),\"\",依頼受簿!J194)","v":""}]
[190,{"$f":"IF(OR(依頼受簿!C195=0,依頼受簿!C195=\"\"),\"\",依頼受簿!C195)","v":""},{"$f":"IF(OR(依頼受簿!D195=0,依頼受簿!D195=\"\"),\"\",依頼受簿!D195)","v":""},{"$f":"IF(OR(依頼受簿!E195=0,依頼受簿!E195=\"\"),\"\",VALUE(IF(依頼受簿!E195=1,\"M\",IF(依頼受簿!E195=2,\"T\",IF(依頼受簿!E195=3,\"S\",IF(依頼受簿!E195=4,\"H\",\"-\"))))&依頼受簿!F195&\".\"&依頼受簿!G195&\".\"&依頼受簿!H195))","v":""},{"$f":"IF(OR(依頼受簿!I195=0,依頼受簿!I195=\"\"),\"\",IF(依頼受簿!I195=1,\"男\",IF(依頼受簿!I195=2,\"女\",\"入力欄には数字で性別を入力してください\")))","v":""},null,null,null,null,null,3,2,"",null,"－","衆小\n衆比\n国審","　.　　.　\n　.　　.　","　.　　.　\n　.　　.　",{"$f":"IF(OR(依頼受簿!J195=0,依頼受簿!J195=\"\"),\"\",依頼受簿!J195)","v":""}]
[191,{"$f":"IF(OR(依頼受簿!C196=0,依頼受簿!C196=\"\"),\"\",依頼受簿!C196)","v":""},{"$f":"IF(OR(依頼受簿!D196=0,依頼受簿!D196=\"\"),\"\",依頼受簿!D196)","v":""},{"$f":"IF(OR(依頼受簿!E196=0,依頼受簿!E196=\"\"),\"\",VALUE(IF(依頼受簿!E196=1,\"M\",IF(依頼受簿!E196=2,\"T\",IF(依頼受簿!E196=3,\"S\",IF(依頼受簿!E196=4,\"H\",\"-\"))))&依頼受簿!F196&\".\"&依頼受簿!G196&\".\"&依頼受簿!H196))","v":""},{"$f":"IF(OR(依頼受簿!I196=0,依頼受簿!I196=\"\"),\"\",IF(依頼受簿!I196=1,\"男\",IF(依頼受簿!I196=2,\"女\",\"入力欄には数字で性別を入力してください\")))","v":""},null,null,null,null,null,3,2,"",null,"－","衆小\n衆比\n国審","　.　　.　\n　.　　.　","　.　　.　\n　.　　.　",{"$f":"IF(OR(依頼受簿!J196=0,依頼受簿!J196=\"\"),\"\",依頼受簿!J196)","v":""}]
[192,{"$f":"IF(OR(依頼受簿!C197=0,依頼受簿!C197=\"\"),\"\",依頼受簿!C197)","v":""},{"$f":"IF(OR(依頼受簿!D197=0,依頼受簿!D197=\"\"),\"\",依頼受簿!D197)","v":""},{"$f":"IF(OR(依頼受簿!E197=0,依頼受簿!E197=\"\"),\"\",VALUE(IF(依頼受簿!E197=1,\"M\",IF(依頼受簿!E197=2,\"T\",IF(依頼受簿!E197=3,\"S\",IF(依頼受簿!E197=4,\"H\",\"-\"))))&依頼受簿!F197&\".\"&依頼受簿!G197&\".\"&依頼受簿!H197))","v":""},{"$f":"IF(OR(依頼受簿!I197=0,依頼受簿!I197=\"\"),\"\",IF(依頼受簿!I197=1,\"男\",IF(依頼受簿!I197=2,\"女\",\"入力欄には数字で性別を入力してください\")))","v":""},null,null,null,null,null,3,2,"",null,"－","衆小\n衆比\n国審","　.　　.　\n　.　　.　","　.　　.　\n　.　　.　",{"$f":"IF(OR(依頼受簿!J197=0,依頼受簿!J197=\"\"),\"\",依頼受簿!J197)","v":""}]
[193,{"$f":"IF(OR(依頼受簿!C198=0,依頼受簿!C198=\"\"),\"\",依頼受簿!C198)","v":""},{"$f":"IF(OR(依頼受簿!D198=0,依頼受簿!D198=\"\"),\"\",依頼受簿!D198)","v":""},{"$f":"IF(OR(依頼受簿!E198=0,依頼受簿!E198=\"\"),\"\",VALUE(IF(依頼受簿!E198=1,\"M\",IF(依頼受簿!E198=2,\"T\",IF(依頼受簿!E198=3,\"S\",IF(依頼受簿!E198=4,\"H\",\"-\"))))&依頼受簿!F198&\".\"&依頼受簿!G198&\".\"&依頼受簿!H198))","v":""},{"$f":"IF(OR(依頼受簿!I198=0,依頼受簿!I198=\"\"),\"\",IF(依頼受簿!I198=1,\"男\",IF(依頼受簿!I198=2,\"女\",\"入力欄には数字で性別を入力してください\")))","v":""},null,null,null,null,null,3,2,"",null,"－","衆小\n衆比\n国審","　.　　.　\n　.　　.　","　.　　.　\n　.　　.　",{"$f":"IF(OR(依頼受簿!J198=0,依頼受簿!J198=\"\"),\"\",依頼受簿!J198)","v":""}]
[194,{"$f":"IF(OR(依頼受簿!C199=0,依頼受簿!C199=\"\"),\"\",依頼受簿!C199)","v":""},{"$f":"IF(OR(依頼受簿!D199=0,依頼受簿!D199=\"\"),\"\",依頼受簿!D199)","v":""},{"$f":"IF(OR(依頼受簿!E199=0,依頼受簿!E199=\"\"),\"\",VALUE(IF(依頼受簿!E199=1,\"M\",IF(依頼受簿!E199=2,\"T\",IF(依頼受簿!E199=3,\"S\",IF(依頼受簿!E199=4,\"H\",\"-\"))))&依頼受簿!F199&\".\"&依頼受簿!G199&\".\"&依頼受簿!H199))","v":""},{"$f":"IF(OR(依頼受簿!I199=0,依頼受簿!I199=\"\"),\"\",IF(依頼受簿!I199=1,\"男\",IF(依頼受簿!I199=2,\"女\",\"入力欄には数字で性別を入力してください\")))","v":""},null,null,null,null,null,3,2,"",null,"－","衆小\n衆比\n国審","　.　　.　\n　.　　.　","　.　　.　\n　.　　.　",{"$f":"IF(OR(依頼受簿!J199=0,依頼受簿!J199=\"\"),\"\",依頼受簿!J199)","v":""}]
[195,{"$f":"IF(OR(依頼受簿!C200=0,依頼受簿!C200=\"\"),\"\",依頼受簿!C200)","v":""},{"$f":"IF(OR(依頼受簿!D200=0,依頼受簿!D200=\"\"),\"\",依頼受簿!D200)","v":""},{"$f":"IF(OR(依頼受簿!E200=0,依頼受簿!E200=\"\"),\"\",VALUE(IF(依頼受簿!E200=1,\"M\",IF(依頼受簿!E200=2,\"T\",IF(依頼受簿!E200=3,\"S\",IF(依頼受簿!E200=4,\"H\",\"-\"))))&依頼受簿!F200&\".\"&依頼受簿!G200&\".\"&依頼受簿!H200))","v":""},{"$f":"IF(OR(依頼受簿!I200=0,依頼受簿!I200=\"\"),\"\",IF(依頼受簿!I200=1,\"男\",IF(依頼受簿!I200=2,\"女\",\"入力欄には数字で性別を入力してください\")))","v":""},null,null,null,null,null,3,2,{"$f":"M202","v":""},null,"－",{"$f":"$P$9","v":"衆小\n衆比\n国審"},"　.　　.　\n　.　　.　","　.　　.　\n　.　　.　",{"$f":"IF(OR(依頼受簿!J200=0,依頼受簿!J200=\"\"),\"\",依頼受簿!J200)","v":""}]
[196,{"$f":"IF(OR(依頼受簿!C201=0,依頼受簿!C201=\"\"),\"\",依頼受簿!C201)","v":""},{"$f":"IF(OR(依頼受簿!D201=0,依頼受簿!D201=\"\"),\"\",依頼受簿!D201)","v":""},{"$f":"IF(OR(依頼受簿!E201=0,依頼受簿!E201=\"\"),\"\",VALUE(IF(依頼受簿!E201=1,\"M\",IF(依頼受簿!E201=2,\"T\",IF(依頼受簿!E201=3,\"S\",IF(依頼受簿!E201=4,\"H\",\"-\"))))&依頼受簿!F201&\".\"&依頼受簿!G201&\".\"&依頼受簿!H201))","v":""},{"$f":"IF(OR(依頼受簿!I201=0,依頼受簿!I201=\"\"),\"\",IF(依頼受簿!I201=1,\"男\",IF(依頼受簿!I201=2,\"女\",\"入力欄には数字で性別を入力してください\")))","v":""},null,null,null,null,null,3,2,"",null,"－","衆小\n衆比\n国審","　.　　.　\n　.　　.　","　.　　.　\n　.　　.　",{"$f":"IF(OR(依頼受簿!J201=0,依頼受簿!J201=\"\"),\"\",依頼受簿!J201)","v":""}]
[197,{"$f":"IF(OR(依頼受簿!C202=0,依頼受簿!C202=\"\"),\"\",依頼受簿!C202)","v":""},{"$f":"IF(OR(依頼受簿!D202=0,依頼受簿!D202=\"\"),\"\",依頼受簿!D202)","v":""},{"$f":"IF(OR(依頼受簿!E202=0,依頼受簿!E202=\"\"),\"\",VALUE(IF(依頼受簿!E202=1,\"M\",IF(依頼受簿!E202=2,\"T\",IF(依頼受簿!E202=3,\"S\",IF(依頼受簿!E202=4,\"H\",\"-\"))))&依頼受簿!F202&\".\"&依頼受簿!G202&\".\"&依頼受簿!H202))","v":""},{"$f":"IF(OR(依頼受簿!I202=0,依頼受簿!I202=\"\"),\"\",IF(依頼受簿!I202=1,\"男\",IF(依頼受簿!I202=2,\"女\",\"入力欄には数字で性別を入力してください\")))","v":""},null,null,null,null,null,3,2,"",null,"－","衆小\n衆比\n国審","　.　　.　\n　.　　.　","　.　　.　\n　.　　.　",{"$f":"IF(OR(依頼受簿!J202=0,依頼受簿!J202=\"\"),\"\",依頼受簿!J202)","v":""}]
[198,{"$f":"IF(OR(依頼受簿!C203=0,依頼受簿!C203=\"\"),\"\",依頼受簿!C203)","v":""},{"$f":"IF(OR(依頼受簿!D203=0,依頼受簿!D203=\"\"),\"\",依頼受簿!D203)","v":""},{"$f":"IF(OR(依頼受簿!E203=0,依頼受簿!E203=\"\"),\"\",VALUE(IF(依頼受簿!E203=1,\"M\",IF(依頼受簿!E203=2,\"T\",IF(依頼受簿!E203=3,\"S\",IF(依頼受簿!E203=4,\"H\",\"-\"))))&依頼受簿!F203&\".\"&依頼受簿!G203&\".\"&依頼受簿!H203))","v":""},{"$f":"IF(OR(依頼受簿!I203=0,依頼受簿!I203=\"\"),\"\",IF(依頼受簿!I203=1,\"男\",IF(依頼受簿!I203=2,\"女\",\"入力欄には数字で性別を入力してください\")))","v":""},null,null,null,null,null,3,2,"",null,"－","衆小\n衆比\n国審","　.　　.　\n　.　　.　","　.　　.　\n　.　　.　",{"$f":"IF(OR(依頼受簿!J203=0,依頼受簿!J203=\"\"),\"\",依頼受簿!J203)","v":""}]
[199,{"$f":"IF(OR(依頼受簿!C204=0,依頼受簿!C204=\"\"),\"\",依頼受簿!C204)","v":""},{"$f":"IF(OR(依頼受簿!D204=0,依頼受簿!D204=\"\"),\"\",依頼受簿!D204)","v":""},{"$f":"IF(OR(依頼受簿!E204=0,依頼受簿!E204=\"\"),\"\",VALUE(IF(依頼受簿!E204=1,\"M\",IF(依頼受簿!E204=2,\"T\",IF(依頼受簿!E204=3,\"S\",IF(依頼受簿!E204=4,\"H\",\"-\"))))&依頼受簿!F204&\".\"&依頼受簿!G204&\".\"&依頼受簿!H204))","v":""},{"$f":"IF(OR(依頼受簿!I204=0,依頼受簿!I204=\"\"),\"\",IF(依頼受簿!I204=1,\"男\",IF(依頼受簿!I204=2,\"女\",\"入力欄には数字で性別を入力してください\")))","v":""},null,null,null,null,null,3,2,"",null,"－","衆小\n衆比\n国審","　.　　.　\n　.　　.　","　.　　.　\n　.　　.　",{"$f":"IF(OR(依頼受簿!J204=0,依頼受簿!J204=\"\"),\"\",依頼受簿!J204)","v":""}]
[200,{"$f":"IF(OR(依頼受簿!C205=0,依頼受簿!C205=\"\"),\"\",依頼受簿!C205)","v":""},{"$f":"IF(OR(依頼受簿!D205=0,依頼受簿!D205=\"\"),\"\",依頼受簿!D205)","v":""},{"$f":"IF(OR(依頼受簿!E205=0,依頼受簿!E205=\"\"),\"\",VALUE(IF(依頼受簿!E205=1,\"M\",IF(依頼受簿!E205=2,\"T\",IF(依頼受簿!E205=3,\"S\",IF(依頼受簿!E205=4,\"H\",\"-\"))))&依頼受簿!F205&\".\"&依頼受簿!G205&\".\"&依頼受簿!H205))","v":""},{"$f":"IF(OR(依頼受簿!I205=0,依頼受簿!I205=\"\"),\"\",IF(依頼受簿!I205=1,\"男\",IF(依頼受簿!I205=2,\"女\",\"入力欄には数字で性別を入力してください\")))","v":""},null,null,null,null,null,3,2,"",null,"－","衆小\n衆比\n国審","　.　　.　\n　.　　.　","　.　　.　\n　.　　.　",{"$f":"IF(OR(依頼受簿!J205=0,依頼受簿!J205=\"\"),\"\",依頼受簿!J205)","v":""}]

{"sheet":"③投票用紙等請求者一覧  (直接入力用)","index":8,"n_rows":206,"n_cols":19,"rows_kept":206,"cut":false,"hidden":false,"merged":[[4,12,5,12],[4,13,5,13],[4,14,5,14],[4,15,5,15],[2,1,2,2],[2,3,2,5],[2,13,2,15],[2,16,2,18],[4,1,5,1],[4,2,5,2],[4,3,5,3],[4,4,5,4],[4,5,5,5],[4,6,4,9],[2,6,2,11],[4,16,5,16],[4,17,5,17],[4,18,5,18],[4,10,5,10],[4,11,5,11]]}
[null,"小樽市が記入等する箇所は保護されています。",null,null,null,null,null,null,null,null,null,null,null,null,null,null,null,null,"目次"]
[null,"※・▼の箇所は入力できます。",null,"▼請求年月日を入力(入力例　2025/7/5)",null,null,null,null,null,null,null,null,null,null,null,null,"▼指定施設名を入力"]
[null,"投票用紙等請求者一覧",null,null,null,null,"（※の欄のみ記入してください）",null,null,null,null,null,null,"指定施設名"]
[]
[null,"選挙人名簿に記載\nされている住所\n※","選挙人氏名\n※","生年月日\n※","性別\n※","整　理\n番　号","選挙人名簿番号",null,null,null,"事 由","投票場所","施　設\nコード","点　字","船　員","選挙名","交 付 月 日","受 領 月 日","備　　　考\n※（点字等）"]
[null,null,null,null,null,null,"投票区","名簿","ページ","番号"]
[1,null,null,null,null,null,null,null,null,null,3,2,{"$f":"IFERROR(VLOOKUP(Q3,各一覧!B1:C43,2,FALSE),\"\")","v":""},null,"－",{"$f":"③投票用紙等請求者一覧!$P$9","v":"衆小\n衆比\n国審"},"　.　　.　\n　.　　.　","　.　　.　\n　.　　.　"]
[2,null,null,null,null,null,null,null,null,null,3,2,{"$f":"M7","v":""},null,"－",{"$f":"③投票用紙等請求者一覧!$P$9","v":"衆小\n衆比\n国審"},"　.　　.　\n　.　　.　","　.　　.　\n　.　　.　"]
[3,null,null,null,null,null,null,null,null,null,3,2,{"$f":"M8","v":""},null,"－",{"$f":"③投票用紙等請求者一覧!$P$9","v":"衆小\n衆比\n国審"},"　.　　.　\n　.　　.　","　.　　.　\n　.　　.　"]
[4,null,null,null,null,null,null,null,null,null,3,2,"",null,"－",{"$f":"③投票用紙等請求者一覧!$P$9","v":"衆小\n衆比\n国審"},"　.　　.　\n　.　　.　","　.　　.　\n　.　　.　"]
[5,null,null,null,null,null,null,null,null,null,3,2,"",null,"－",{"$f":"③投票用紙等請求者一覧!$P$9","v":"衆小\n衆比\n国審"},"　.　　.　\n　.　　.　","　.　　.　\n　.　　.　"]
[6,null,null,null,null,null,null,null,null,null,3,2,"",null,"－",{"$f":"③投票用紙等請求者一覧!$P$9","v":"衆小\n衆比\n国審"},"　.　　.　\n　.　　.　","　.　　.　\n　.　　.　"]
[7,null,null,null,null,null,null,null,null,null,3,2,"",null,"－",{"$f":"③投票用紙等請求者一覧!$P$9","v":"衆小\n衆比\n国審"},"　.　　.　\n　.　　.　","　.　　.　\n　.　　.　"]
[8,null,null,null,null,null,null,null,null,null,3,2,"",null,"－",{"$f":"③投票用紙等請求者一覧!$P$9","v":"衆小\n衆比\n国審"},"　.　　.　\n　.　　.　","　.　　.　\n　.　　.　"]
[9,null,null,null,null,null,null,null,null,null,3,2,"",null,"－",{"$f":"③投票用紙等請求者一覧!$P$9","v":"衆小\n衆比\n国審"},"　.　　.　\n　.　　.　","　.　　.　\n　.　　.　"]
[10,null,null,null,null,null,null,null,null,null,3,2,"",null,"－",{"$f":"③投票用紙等請求者一覧!$P$9","v":"衆小\n衆比\n国審"},"　.　　.　\n　.　　.　","　.　　.　\n　.　　.　"]
[11,null,null,null,null,null,null,null,null,null,3,2,"",null,"－",{"$f":"③投票用紙等請求者一覧!$P$9","v":"衆小\n衆比\n国審"},"　.　　.　\n　.　　.　","　.　　.　\n　.　　.　"]
[12,null,null,null,null,null,null,null,null,null,3,2,"",null,"－",{"$f":"③投票用紙等請求者一覧!$P$9","v":"衆小\n衆比\n国審"},"　.　　.　\n　.　　.　","　.　　.　\n　.　　.　"]
[13,null,null,null,null,null,null,null,null,null,3,2,"",null,"－",{"$f":"③投票用紙等請求者一覧!$P$9","v":"衆小\n衆比\n国審"},"　.　　.　\n　.　　.　","　.　　.　\n　.　　.　"]
[14,null,null,null,null,null,null,null,null,null,3,2,"",null,"－",{"$f":"③投票用紙等請求者一覧!$P$9","v":"衆小\n衆比\n国審"},"　.　　.　\n　.　　.　","　.　　.　\n　.　　.　"]
[15,null,null,null,null,null,null,null,null,null,3,2,"",null,"－",{"$f":"③投票用紙等請求者一覧!$P$9","v":"衆小\n衆比\n国審"},"　.　　.　\n　.　　.　","　.　　.　\n　.　　.　"]
[16,null,null,null,null,null,null,null,null,null,3,2,{"$f":"M21","v":""},null,"－",{"$f":"③投票用紙等請求者一覧!$P$9","v":"衆小\n衆比\n国審"},"　.　　.　\n　.　　.　","　.　　.　\n　.　　.　"]
[17,null,null,null,null,null,null,null,null,null,3,2,"",null,"－",{"$f":"③投票用紙等請求者一覧!$P$9","v":"衆小\n衆比\n国審"},"　.　　.　\n　.　　.　","　.　　.　\n　.　　.　"]
[18,null,null,null,null,null,null,null,null,null,3,2,"",null,"－",{"$f":"③投票用紙等請求者一覧!$P$9","v":"衆小\n衆比\n国審"},"　.　　.　\n　.　　.　","　.　　.　\n　.　　.　"]
[19,null,null,null,null,null,null,null,null,null,3,2,"",null,"－",{"$f":"③投票用紙等請求者一覧!$P$9","v":"衆小\n衆比\n国審"},"　.　　.　\n　.　　.　","　.　　.　\n　.　　.　"]
[20,null,null,null,null,null,null,null,null,null,3,2,"",null,"－",{"$f":"③投票用紙等請求者一覧!$P$9","v":"衆小\n衆比\n国審"},"　.　　.　\n　.　　.　","　.　　.　\n　.　　.　"]
[21,null,null,null,null,null,null,null,null,null,3,2,"",null,"－",{"$f":"③投票用紙等請求者一覧!$P$9","v":"衆小\n衆比\n国審"},"　.　　.　\n　.　　.　","　.　　.　\n　.　　.　"]
[22,null,null,null,null,null,null,null,null,null,3,2,"",null,"－",{"$f":"③投票用紙等請求者一覧!$P$9","v":"衆小\n衆比\n国審"},"　.　　.　\n　.　　.　","　.　　.　\n　.　　.　"]
[23,null,null,null,null,null,null,null,null,null,3,2,"",null,"－",{"$f":"③投票用紙等請求者一覧!$P$9","v":"衆小\n衆比\n国審"},"　.　　.　\n　.　　.　","　.　　.　\n　.　　.　"]
[24,null,null,null,null,null,null,null,null,null,3,2,"",null,"－",{"$f":"③投票用紙等請求者一覧!$P$9","v":"衆小\n衆比\n国審"},"　.　　.　\n　.　　.　","　.　　.　\n　.　　.　"]
[25,null,null,null,null,null,null,null,null,null,3,2,"",null,"－",{"$f":"③投票用紙等請求者一覧!$P$9","v":"衆小\n衆比\n国審"},"　.　　.　\n　.　　.　","　.　　.　\n　.　　.　"]
[26,null,null,null,null,null,null,null,null,null,3,2,"",null,"－",{"$f":"③投票用紙等請求者一覧!$P$9","v":"衆小\n衆比\n国審"},"　.　　.　\n　.　　.　","　.　　.　\n　.　　.　"]
[27,null,null,null,null,null,null,null,null,null,3,2,"",null,"－",{"$f":"③投票用紙等請求者一覧!$P$9","v":"衆小\n衆比\n国審"},"　.　　.　\n　.　　.　","　.　　.　\n　.　　.　"]
[28,null,null,null,null,null,null,null,null,null,3,2,"",null,"－",{"$f":"③投票用紙等請求者一覧!$P$9","v":"衆小\n衆比\n国審"},"　.　　.　\n　.　　.　","　.　　.　\n　.　　.　"]
[29,null,null,null,null,null,null,null,null,null,3,2,"",null,"－",{"$f":"③投票用紙等請求者一覧!$P$9","v":"衆小\n衆比\n国審"},"　.　　.　\n　.　　.　","　.　　.　\n　.　　.　"]
[30,null,null,null,null,null,null,null,null,null,3,2,"",null,"－",{"$f":"③投票用紙等請求者一覧!$P$9","v":"衆小\n衆比\n国審"},"　.　　.　\n　.　　.　","　.　　.　\n　.　　.　"]
[31,null,null,null,null,null,null,null,null,null,3,2,"",null,"－",{"$f":"③投票用紙等請求者一覧!$P$9","v":"衆小\n衆比\n国審"},"　.　　.　\n　.　　.　","　.　　.　\n　.　　.　"]
[32,null,null,null,null,null,null,null,null,null,3,2,"",null,"－",{"$f":"③投票用紙等請求者一覧!$P$9","v":"衆小\n衆比\n国審"},"　.　　.　\n　.　　.　","　.　　.　\n　.　　.　"]
[33,null,null,null,null,null,null,null,null,null,3,2,"",null,"－",{"$f":"③投票用紙等請求者一覧!$P$9","v":"衆小\n衆比\n国審"},"　.　　.　\n　.　　.　","　.　　.　\n　.　　.　"]
[34,null,null,null,null,null,null,null,null,null,3,2,"",null,"－",{"$f":"③投票用紙等請求者一覧!$P$9","v":"衆小\n衆比\n国審"},"　.　　.　\n　.　　.　","　.　　.　\n　.　　.　"]
[35,null,null,null,null,null,null,null,null,null,3,2,"",null,"－",{"$f":"③投票用紙等請求者一覧!$P$9","v":"衆小\n衆比\n国審"},"　.　　.　\n　.　　.　","　.　　.　\n　.　　.　"]
[36,null,null,null,null,null,null,null,null,null,3,2,"",null,"－",{"$f":"③投票用紙等請求者一覧!$P$9","v":"衆小\n衆比\n国審"},"　.　　.　\n　.　　.　","　.　　.　\n　.　　.　"]
[37,null,null,null,null,null,null,null,null,null,3,2,"",null,"－",{"$f":"③投票用紙等請求者一覧!$P$9","v":"衆小\n衆比\n国審"},"　.　　.　\n　.　　.　","　.　　.　\n　.　　.　"]
[38,null,null,null,null,null,null,null,null,null,3,2,"",null,"－",{"$f":"③投票用紙等請求者一覧!$P$9","v":"衆小\n衆比\n国審"},"　.　　.　\n　.　　.　","　.　　.　\n　.　　.　"]
[39,null,null,null,null,null,null,null,null,null,3,2,"",null,"－",{"$f":"③投票用紙等請求者一覧!$P$9","v":"衆小\n衆比\n国審"},"　.　　.　\n　.　　.　","　.　　.　\n　.　　.　"]
[40,null,null,null,null,null,null,null,null,null,3,2,"",null,"－",{"$f":"③投票用紙等請求者一覧!$P$9","v":"衆小\n衆比\n国審"},"　.　　.　\n　.　　.　","　.　　.　\n　.　　.　"]
[41,null,null,null,null,null,null,null,null,null,3,2,"",null,"－",{"$f":"③投票用紙等請求者一覧!$P$9","v":"衆小\n衆比\n国審"},"　.　　.　\n　.　　.　","　.　　.　\n　.　　.　"]
[42,null,null,null,null,null,null,null,null,null,3,2,"",null,"－",{"$f":"③投票用紙等請求者一覧!$P$9","v":"衆小\n衆比\n国審"},"　.　　.　\n　.　　.　","　.　　.　\n　.　　.　"]
[43,null,null,null,null,null,null,null,null,null,3,2,"",null,"－",{"$f":"③投票用紙等請求者一覧!$P$9","v":"衆小\n衆比\n国審"},"　.　　.　\n　.　　.　","　.　　.　\n　.　　.　"]
[44,null,null,null,null,null,null,null,null,null,3,2,"",null,"－",{"$f":"③投票用紙等請求者一覧!$P$9","v":"衆小\n衆比\n国審"},"　.　　.　\n　.　　.　","　.　　.　\n　.　　.　"]
[45,null,null,null,null,null,null,null,null,null,3,2,"",null,"－",{"$f":"③投票用紙等請求者一覧!$P$9","v":"衆小\n衆比\n国審"},"　.　　.　\n　.　　.　","　.　　.　\n　.　　.　"]
[46,null,null,null,null,null,null,null,null,null,3,2,"",null,"－",{"$f":"③投票用紙等請求者一覧!$P$9","v":"衆小\n衆比\n国審"},"　.　　.　\n　.　　.　","　.　　.　\n　.　　.　"]
[47,null,null,null,null,null,null,null,null,null,3,2,"",null,"－",{"$f":"③投票用紙等請求者一覧!$P$9","v":"衆小\n衆比\n国審"},"　.　　.　\n　.　　.　","　.　　.　\n　.　　.　"]
[48,null,null,null,null,null,null,null,null,null,3,2,"",null,"－",{"$f":"③投票用紙等請求者一覧!$P$9","v":"衆小\n衆比\n国審"},"　.　　.　\n　.　　.　","　.　　.　\n　.　　.　"]
[49,null,null,null,null,null,null,null,null,null,3,2,"",null,"－",{"$f":"③投票用紙等請求者一覧!$P$9","v":"衆小\n衆比\n国審"},"　.　　.　\n　.　　.　","　.　　.　\n　.　　.　"]
[50,null,null,null,null,null,null,null,null,null,3,2,"",null,"－",{"$f":"③投票用紙等請求者一覧!$P$9","v":"衆小\n衆比\n国審"},"　.　　.　\n　.　　.　","　.　　.　\n　.　　.　"]
[51,null,null,null,null,null,null,null,null,null,3,2,"",null,"－",{"$f":"③投票用紙等請求者一覧!$P$9","v":"衆小\n衆比\n国審"},"　.　　.　\n　.　　.　","　.　　.　\n　.　　.　"]
[52,null,null,null,null,null,null,null,null,null,3,2,"",null,"－",{"$f":"③投票用紙等請求者一覧!$P$9","v":"衆小\n衆比\n国審"},"　.　　.　\n　.　　.　","　.　　.　\n　.　　.　"]
[53,null,null,null,null,null,null,null,null,null,3,2,"",null,"－",{"$f":"③投票用紙等請求者一覧!$P$9","v":"衆小\n衆比\n国審"},"　.　　.　\n　.　　.　","　.　　.　\n　.　　.　"]
[54,null,null,null,null,null,null,null,null,null,3,2,"",null,"－",{"$f":"③投票用紙等請求者一覧!$P$9","v":"衆小\n衆比\n国審"},"　.　　.　\n　.　　.　","　.　　.　\n　.　　.　"]
[55,null,null,null,null,null,null,null,null,null,3,2,"",null,"－",{"$f":"③投票用紙等請求者一覧!$P$9","v":"衆小\n衆比\n国審"},"　.　　.　\n　.　　.　","　.　　.　\n　.　　.　"]
[56,null,null,null,null,null,null,null,null,null,3,2,"",null,"－",{"$f":"③投票用紙等請求者一覧!$P$9","v":"衆小\n衆比\n国審"},"　.　　.　\n　.　　.　","　.　　.　\n　.　　.　"]
[57,null,null,null,null,null,null,null,null,null,3,2,"",null,"－",{"$f":"③投票用紙等請求者一覧!$P$9","v":"衆小\n衆比\n国審"},"　.　　.　\n　.　　.　","　.　　.　\n　.　　.　"]
[58,null,null,null,null,null,null,null,null,null,3,2,"",null,"－",{"$f":"③投票用紙等請求者一覧!$P$9","v":"衆小\n衆比\n国審"},"　.　　.　\n　.　　.　","　.　　.　\n　.　　.　"]
[59,null,null,null,null,null,null,null,null,null,3,2,"",null,"－",{"$f":"③投票用紙等請求者一覧!$P$9","v":"衆小\n衆比\n国審"},"　.　　.　\n　.　　.　","　.　　.　\n　.　　.　"]
[60,null,null,null,null,null,null,null,null,null,3,2,"",null,"－",{"$f":"③投票用紙等請求者一覧!$P$9","v":"衆小\n衆比\n国審"},"　.　　.　\n　.　　.　","　.　　.　\n　.　　.　"]
[61,null,null,null,null,null,null,null,null,null,3,2,"",null,"－",{"$f":"③投票用紙等請求者一覧!$P$9","v":"衆小\n衆比\n国審"},"　.　　.　\n　.　　.　","　.　　.　\n　.　　.　"]
[62,null,null,null,null,null,null,null,null,null,3,2,"",null,"－",{"$f":"③投票用紙等請求者一覧!$P$9","v":"衆小\n衆比\n国審"},"　.　　.　\n　.　　.　","　.　　.　\n　.　　.　"]
[63,null,null,null,null,null,null,null,null,null,3,2,"",null,"－",{"$f":"③投票用紙等請求者一覧!$P$9","v":"衆小\n衆比\n国審"},"　.　　.　\n　.　　.　","　.　　.　\n　.　　.　"]
[64,null,null,null,null,null,null,null,null,null,3,2,"",null,"－",{"$f":"③投票用紙等請求者一覧!$P$9","v":"衆小\n衆比\n国審"},"　.　　.　\n　.　　.　","　.　　.　\n　.　　.　"]
[65,null,null,null,null,null,null,null,null,null,3,2,"",null,"－",{"$f":"③投票用紙等請求者一覧!$P$9","v":"衆小\n衆比\n国審"},"　.　　.　\n　.　　.　","　.　　.　\n　.　　.　"]
[66,null,null,null,null,null,null,null,null,null,3,2,"",null,"－",{"$f":"③投票用紙等請求者一覧!$P$9","v":"衆小\n衆比\n国審"},"　.　　.　\n　.　　.　","　.　　.　\n　.　　.　"]
[67,null,null,null,null,null,null,null,null,null,3,2,{"$f":"M72","v":""},null,"－",{"$f":"③投票用紙等請求者一覧!$P$9","v":"衆小\n衆比\n国審"},"　.　　.　\n　.　　.　","　.　　.　\n　.　　.　"]
[68,null,null,null,null,null,null,null,null,null,3,2,"",null,"－",{"$f":"③投票用紙等請求者一覧!$P$9","v":"衆小\n衆比\n国審"},"　.　　.　\n　.　　.　","　.　　.　\n　.　　.　"]
[69,null,null,null,null,null,null,null,null,null,3,2,"",null,"－",{"$f":"③投票用紙等請求者一覧!$P$9","v":"衆小\n衆比\n国審"},"　.　　.　\n　.　　.　","　.　　.　\n　.　　.　"]
[70,null,null,null,null,null,null,null,null,null,3,2,"",null,"－",{"$f":"③投票用紙等請求者一覧!$P$9","v":"衆小\n衆比\n国審"},"　.　　.　\n　.　　.　","　.　　.　\n　.　　.　"]
[71,null,null,null,null,null,null,null,null,null,3,2,"",null,"－",{"$f":"③投票用紙等請求者一覧!$P$9","v":"衆小\n衆比\n国審"},"　.　　.　\n　.　　.　","　.　　.　\n　.　　.　"]
[72,null,null,null,null,null,null,null,null,null,3,2,"",null,"－",{"$f":"③投票用紙等請求者一覧!$P$9","v":"衆小\n衆比\n国審"},"　.　　.　\n　.　　.　","　.　　.　\n　.　　.　"]
[73,null,null,null,null,null,null,null,null,null,3,2,"",null,"－",{"$f":"③投票用紙等請求者一覧!$P$9","v":"衆小\n衆比\n国審"},"　.　　.　\n　.　　.　","　.　　.　\n　.　　.　"]
[74,null,null,null,null,null,null,null,null,null,3,2,"",null,"－",{"$f":"③投票用紙等請求者一覧!$P$9","v":"衆小\n衆比\n国審"},"　.　　.　\n　.　　.　","　.　　.　\n　.　　.　"]
[75,null,null,null,null,null,null,null,null,null,3,2,"",null,"－",{"$f":"③投票用紙等請求者一覧!$P$9","v":"衆小\n衆比\n国審"},"　.　　.　\n　.　　.　","　.　　.　\n　.　　.　"]
[76,null,null,null,null,null,null,null,null,null,3,2,"",null,"－",{"$f":"③投票用紙等請求者一覧!$P$9","v":"衆小\n衆比\n国審"},"　.　　.　\n　.　　.　","　.　　.　\n　.　　.　"]
[77,null,null,null,null,null,null,null,null,null,3,2,"",null,"－",{"$f":"③投票用紙等請求者一覧!$P$9","v":"衆小\n衆比\n国審"},"　.　　.　\n　.　　.　","　.　　.　\n　.　　.　"]
[78,null,null,null,null,null,null,null,null,null,3,2,"",null,"－",{"$f":"③投票用紙等請求者一覧!$P$9","v":"衆小\n衆比\n国審"},"　.　　.　\n　.　　.　","　.　　.　\n　.　　.　"]
[79,null,null,null,null,null,null,null,null,null,3,2,"",null,"－",{"$f":"③投票用紙等請求者一覧!$P$9","v":"衆小\n衆比\n国審"},"　.　　.　\n　.　　.　","　.　　.　\n　.　　.　"]
[80,null,null,null,null,null,null,null,null,null,3,2,"",null,"－",{"$f":"③投票用紙等請求者一覧!$P$9","v":"衆小\n衆比\n国審"},"　.　　.　\n　.　　.　","　.　　.　\n　.　　.　"]
[81,null,null,null,null,null,null,null,null,null,3,2,"",null,"－",{"$f":"③投票用紙等請求者一覧!$P$9","v":"衆小\n衆比\n国審"},"　.　　.　\n　.　　.　","　.　　.　\n　.　　.　"]
[82,null,null,null,null,null,null,null,null,null,3,2,"",null,"－",{"$f":"③投票用紙等請求者一覧!$P$9","v":"衆小\n衆比\n国審"},"　.　　.　\n　.　　.　","　.　　.　\n　.　　.　"]
[83,null,null,null,null,null,null,null,null,null,3,2,"",null,"－",{"$f":"③投票用紙等請求者一覧!$P$9","v":"衆小\n衆比\n国審"},"　.　　.　\n　.　　.　","　.　　.　\n　.　　.　"]
[84,null,null,null,null,null,null,null,null,null,3,2,"",null,"－",{"$f":"③投票用紙等請求者一覧!$P$9","v":"衆小\n衆比\n国審"},"　.　　.　\n　.　　.　","　.　　.　\n　.　　.　"]
[85,null,null,null,null,null,null,null,null,null,3,2,"",null,"－",{"$f":"③投票用紙等請求者一覧!$P$9","v":"衆小\n衆比\n国審"},"　.　　.　\n　.　　.　","　.　　.　\n　.　　.　"]
[86,null,null,null,null,null,null,null,null,null,3,2,"",null,"－",{"$f":"③投票用紙等請求者一覧!$P$9","v":"衆小\n衆比\n国審"},"　.　　.　\n　.　　.　","　.　　.　\n　.　　.　"]
[87,null,null,null,null,null,null,null,null,null,3,2,"",null,"－",{"$f":"③投票用紙等請求者一覧!$P$9","v":"衆小\n衆比\n国審"},"　.　　.　\n　.　　.　","　.　　.　\n　.　　.　"]
[88,null,null,null,null,null,null,null,null,null,3,2,"",null,"－",{"$f":"③投票用紙等請求者一覧!$P$9","v":"衆小\n衆比\n国審"},"　.　　.　\n　.　　.　","　.　　.　\n　.　　.　"]
[89,null,null,null,null,null,null,null,null,null,3,2,"",null,"－",{"$f":"③投票用紙等請求者一覧!$P$9","v":"衆小\n衆比\n国審"},"　.　　.　\n　.　　.　","　.　　.　\n　.　　.　"]
[90,null,null,null,null,null,null,null,null,null,3,2,"",null,"－",{"$f":"③投票用紙等請求者一覧!$P$9","v":"衆小\n衆比\n国審"},"　.　　.　\n　.　　.　","　.　　.　\n　.　　.　"]
[91,null,null,null,null,null,null,null,null,null,3,2,"",null,"－",{"$f":"③投票用紙等請求者一覧!$P$9","v":"衆小\n衆比\n国審"},"　.　　.　\n　.　　.　","　.　　.　\n　.　　.　"]
[92,null,null,null,null,null,null,null,null,null,3,2,"",null,"－",{"$f":"③投票用紙等請求者一覧!$P$9","v":"衆小\n衆比\n国審"},"　.　　.　\n　.　　.　","　.　　.　\n　.　　.　"]
[93,null,null,null,null,null,null,null,null,null,3,2,"",null,"－",{"$f":"③投票用紙等請求者一覧!$P$9","v":"衆小\n衆比\n国審"},"　.　　.　\n　.　　.　","　.　　.　\n　.　　.　"]
[94,null,null,null,null,null,null,null,null,null,3,2,"",null,"－",{"$f":"③投票用紙等請求者一覧!$P$9","v":"衆小\n衆比\n国審"},"　.　　.　\n　.　　.　","　.　　.　\n　.　　.　"]
[95,null,null,null,null,null,null,null,null,null,3,2,"",null,"－",{"$f":"③投票用紙等請求者一覧!$P$9","v":"衆小\n衆比\n国審"},"　.　　.　\n　.　　.　","　.　　.　\n　.　　.　"]
[96,null,null,null,null,null,null,null,null,null,3,2,"",null,"－",{"$f":"③投票用紙等請求者一覧!$P$9","v":"衆小\n衆比\n国審"},"　.　　.　\n　.　　.　","　.　　.　\n　.　　.　"]
[97,null,null,null,null,null,null,null,null,null,3,2,"",null,"－",{"$f":"③投票用紙等請求者一覧!$P$9","v":"衆小\n衆比\n国審"},"　.　　.　\n　.　　.　","　.　　.　\n　.　　.　"]
[98,null,null,null,null,null,null,null,null,null,3,2,"",null,"－",{"$f":"③投票用紙等請求者一覧!$P$9","v":"衆小\n衆比\n国審"},"　.　　.　\n　.　　.　","　.　　.　\n　.　　.　"]
[99,null,null,null,null,null,null,null,null,null,3,2,"",null,"－",{"$f":"③投票用紙等請求者一覧!$P$9","v":"衆小\n衆比\n国審"},"　.　　.　\n　.　　.　","　.　　.　\n　.　　.　"]
[100,null,null,null,null,null,null,null,null,null,3,2,"",null,"－",{"$f":"③投票用紙等請求者一覧!$P$9","v":"衆小\n衆比\n国審"},"　.　　.　\n　.　　.　","　.　　.　\n　.　　.　"]
[101,null,null,null,null,null,null,null,null,null,3,2,"",null,"－",{"$f":"③投票用紙等請求者一覧!$P$9","v":"衆小\n衆比\n国審"},"　.　　.　\n　.　　.　","　.　　.　\n　.　　.　"]
[102,null,null,null,null,null,null,null,null,null,3,2,"",null,"－",{"$f":"③投票用紙等請求者一覧!$P$9","v":"衆小\n衆比\n国審"},"　.　　.　\n　.　　.　","　.　　.　\n　.　　.　"]
[103,null,null,null,null,null,null,null,null,null,3,2,"",null,"－",{"$f":"③投票用紙等請求者一覧!$P$9","v":"衆小\n衆比\n国審"},"　.　　.　\n　.　　.　","　.　　.　\n　.　　.　"]
[104,null,null,null,null,null,null,null,null,null,3,2,"",null,"－",{"$f":"③投票用紙等請求者一覧!$P$9","v":"衆小\n衆比\n国審"},"　.　　.　\n　.　　.　","　.　　.　\n　.　　.　"]
[105,null,null,null,null,null,null,null,null,null,3,2,"",null,"－",{"$f":"③投票用紙等請求者一覧!$P$9","v":"衆小\n衆比\n国審"},"　.　　.　\n　.　　.　","　.　　.　\n　.　　.　"]
[106,null,null,null,null,null,null,null,null,null,3,2,"",null,"－",{"$f":"③投票用紙等請求者一覧!$P$9","v":"衆小\n衆比\n国審"},"　.　　.　\n　.　　.　","　.　　.　\n　.　　.　"]
[107,null,null,null,null,null,null,null,null,null,3,2,"",null,"－",{"$f":"③投票用紙等請求者一覧!$P$9","v":"衆小\n衆比\n国審"},"　.　　.　\n　.　　.　","　.　　.　\n　.　　.　"]
[108,null,null,null,null,null,null,null,null,null,3,2,"",null,"－",{"$f":"③投票用紙等請求者一覧!$P$9","v":"衆小\n衆比\n国審"},"　.　　.　\n　.　　.　","　.　　.　\n　.　　.　"]
[109,null,null,null,null,null,null,null,null,null,3,2,"",null,"－",{"$f":"③投票用紙等請求者一覧!$P$9","v":"衆小\n衆比\n国審"},"　.　　.　\n　.　　.　","　.　　.　\n　.　　.　"]
[110,null,null,null,null,null,null,null,null,null,3,2,"",null,"－",{"$f":"③投票用紙等請求者一覧!$P$9","v":"衆小\n衆比\n国審"},"　.　　.　\n　.　　.　","　.　　.　\n　.　　.　"]
[111,null,null,null,null,null,null,null,null,null,3,2,"",null,"－",{"$f":"③投票用紙等請求者一覧!$P$9","v":"衆小\n衆比\n国審"},"　.　　.　\n　.　　.　","　.　　.　\n　.　　.　"]
[112,null,null,null,null,null,null,null,null,null,3,2,"",null,"－",{"$f":"③投票用紙等請求者一覧!$P$9","v":"衆小\n衆比\n国審"},"　.　　.　\n　.　　.　","　.　　.　\n　.　　.　"]
[113,null,null,null,null,null,null,null,null,null,3,2,"",null,"－",{"$f":"③投票用紙等請求者一覧!$P$9","v":"衆小\n衆比\n国審"},"　.　　.　\n　.　　.　","　.　　.　\n　.　　.　"]
[114,null,null,null,null,null,null,null,null,null,3,2,"",null,"－",{"$f":"③投票用紙等請求者一覧!$P$9","v":"衆小\n衆比\n国審"},"　.　　.　\n　.　　.　","　.　　.　\n　.　　.　"]
[115,null,null,null,null,null,null,null,null,null,3,2,"",null,"－",{"$f":"③投票用紙等請求者一覧!$P$9","v":"衆小\n衆比\n国審"},"　.　　.　\n　.　　.　","　.　　.　\n　.　　.　"]
[116,null,null,null,null,null,null,null,null,null,3,2,"",null,"－",{"$f":"③投票用紙等請求者一覧!$P$9","v":"衆小\n衆比\n国審"},"　.　　.　\n　.　　.　","　.　　.　\n　.　　.　"]
[117,null,null,null,null,null,null,null,null,null,3,2,"",null,"－",{"$f":"③投票用紙等請求者一覧!$P$9","v":"衆小\n衆比\n国審"},"　.　　.　\n　.　　.　","　.　　.　\n　.　　.　"]
[118,null,null,null,null,null,null,null,null,null,3,2,"",null,"－",{"$f":"③投票用紙等請求者一覧!$P$9","v":"衆小\n衆比\n国審"},"　.　　.　\n　.　　.　","　.　　.　\n　.　　.　"]
[119,null,null,null,null,null,null,null,null,null,3,2,"",null,"－",{"$f":"③投票用紙等請求者一覧!$P$9","v":"衆小\n衆比\n国審"},"　.　　.　\n　.　　.　","　.　　.　\n　.　　.　"]
[120,null,null,null,null,null,null,null,null,null,3,2,"",null,"－",{"$f":"③投票用紙等請求者一覧!$P$9","v":"衆小\n衆比\n国審"},"　.　　.　\n　.　　.　","　.　　.　\n　.　　.　"]
[121,null,null,null,null,null,null,null,null,null,3,2,"",null,"－",{"$f":"③投票用紙等請求者一覧!$P$9","v":"衆小\n衆比\n国審"},"　.　　.　\n　.　　.　","　.　　.　\n　.　　.　"]
[122,null,null,null,null,null,null,null,null,null,3,2,"",null,"－",{"$f":"③投票用紙等請求者一覧!$P$9","v":"衆小\n衆比\n国審"},"　.　　.　\n　.　　.　","　.　　.　\n　.　　.　"]
[123,null,null,null,null,null,null,null,null,null,3,2,"",null,"－",{"$f":"③投票用紙等請求者一覧!$P$9","v":"衆小\n衆比\n国審"},"　.　　.　\n　.　　.　","　.　　.　\n　.　　.　"]
[124,null,null,null,null,null,null,null,null,null,3,2,"",null,"－",{"$f":"③投票用紙等請求者一覧!$P$9","v":"衆小\n衆比\n国審"},"　.　　.　\n　.　　.　","　.　　.　\n　.　　.　"]
[125,null,null,null,null,null,null,null,null,null,3,2,"",null,"－",{"$f":"③投票用紙等請求者一覧!$P$9","v":"衆小\n衆比\n国審"},"　.　　.　\n　.　　.　","　.　　.　\n　.　　.　"]
[126,null,null,null,null,null,null,null,null,null,3,2,"",null,"－",{"$f":"③投票用紙等請求者一覧!$P$9","v":"衆小\n衆比\n国審"},"　.　　.　\n　.　　.　","　.　　.　\n　.　　.　"]
[127,null,null,null,null,null,null,null,null,null,3,2,"",null,"－",{"$f":"③投票用紙等請求者一覧!$P$9","v":"衆小\n衆比\n国審"},"　.　　.　\n　.　　.　","　.　　.　\n　.　　.　"]
[128,null,null,null,null,null,null,null,null,null,3,2,"",null,"－",{"$f":"③投票用紙等請求者一覧!$P$9","v":"衆小\n衆比\n国審"},"　.　　.　\n　.　　.　","　.　　.　\n　.　　.　"]
[129,null,null,null,null,null,null,null,null,null,3,2,"",null,"－",{"$f":"③投票用紙等請求者一覧!$P$9","v":"衆小\n衆比\n国審"},"　.　　.　\n　.　　.　","　.　　.　\n　.　　.　"]
[130,null,null,null,null,null,null,null,null,null,3,2,"",null,"－",{"$f":"③投票用紙等請求者一覧!$P$9","v":"衆小\n衆比\n国審"},"　.　　.　\n　.　　.　","　.　　.　\n　.　　.　"]
[131,null,null,null,null,null,null,null,null,null,3,2,{"$f":"M136","v":""},null,"－",{"$f":"③投票用紙等請求者一覧!$P$9","v":"衆小\n衆比\n国審"},"　.　　.　\n　.　　.　","　.　　.　\n　.　　.　"]
[132,null,null,null,null,null,null,null,null,null,3,2,"",null,"－",{"$f":"③投票用紙等請求者一覧!$P$9","v":"衆小\n衆比\n国審"},"　.　　.　\n　.　　.　","　.　　.　\n　.　　.　"]
[133,null,null,null,null,null,null,null,null,null,3,2,"",null,"－",{"$f":"③投票用紙等請求者一覧!$P$9","v":"衆小\n衆比\n国審"},"　.　　.　\n　.　　.　","　.　　.　\n　.　　.　"]
[134,null,null,null,null,null,null,null,null,null,3,2,"",null,"－",{"$f":"③投票用紙等請求者一覧!$P$9","v":"衆小\n衆比\n国審"},"　.　　.　\n　.　　.　","　.　　.　\n　.　　.　"]
[135,null,null,null,null,null,null,null,null,null,3,2,"",null,"－",{"$f":"③投票用紙等請求者一覧!$P$9","v":"衆小\n衆比\n国審"},"　.　　.　\n　.　　.　","　.　　.　\n　.　　.　"]
[136,null,null,null,null,null,null,null,null,null,3,2,"",null,"－",{"$f":"③投票用紙等請求者一覧!$P$9","v":"衆小\n衆比\n国審"},"　.　　.　\n　.　　.　","　.　　.　\n　.　　.　"]
[137,null,null,null,null,null,null,null,null,null,3,2,"",null,"－",{"$f":"③投票用紙等請求者一覧!$P$9","v":"衆小\n衆比\n国審"},"　.　　.　\n　.　　.　","　.　　.　\n　.　　.　"]
[138,null,null,null,null,null,null,null,null,null,3,2,"",null,"－",{"$f":"③投票用紙等請求者一覧!$P$9","v":"衆小\n衆比\n国審"},"　.　　.　\n　.　　.　","　.　　.　\n　.　　.　"]
[139,null,null,null,null,null,null,null,null,null,3,2,"",null,"－",{"$f":"③投票用紙等請求者一覧!$P$9","v":"衆小\n衆比\n国審"},"　.　　.　\n　.　　.　","　.　　.　\n　.　　.　"]
[140,null,null,null,null,null,null,null,null,null,3,2,"",null,"－",{"$f":"③投票用紙等請求者一覧!$P$9","v":"衆小\n衆比\n国審"},"　.　　.　\n　.　　.　","　.　　.　\n　.　　.　"]
[141,null,null,null,null,null,null,null,null,null,3,2,"",null,"－",{"$f":"③投票用紙等請求者一覧!$P$9","v":"衆小\n衆比\n国審"},"　.　　.　\n　.　　.　","　.　　.　\n　.　　.　"]
[142,null,null,null,null,null,null,null,null,null,3,2,"",null,"－",{"$f":"③投票用紙等請求者一覧!$P$9","v":"衆小\n衆比\n国審"},"　.　　.　\n　.　　.　","　.　　.　\n　.　　.　"]
[143,null,null,null,null,null,null,null,null,null,3,2,"",null,"－",{"$f":"③投票用紙等請求者一覧!$P$9","v":"衆小\n衆比\n国審"},"　.　　.　\n　.　　.　","　.　　.　\n　.　　.　"]
[144,null,null,null,null,null,null,null,null,null,3,2,"",null,"－",{"$f":"③投票用紙等請求者一覧!$P$9","v":"衆小\n衆比\n国審"},"　.　　.　\n　.　　.　","　.　　.　\n　.　　.　"]
[145,null,null,null,null,null,null,null,null,null,3,2,"",null,"－",{"$f":"③投票用紙等請求者一覧!$P$9","v":"衆小\n衆比\n国審"},"　.　　.　\n　.　　.　","　.　　.　\n　.　　.　"]
[146,null,null,null,null,null,null,null,null,null,3,2,"",null,"－",{"$f":"③投票用紙等請求者一覧!$P$9","v":"衆小\n衆比\n国審"},"　.　　.　\n　.　　.　","　.　　.　\n　.　　.　"]
[147,null,null,null,null,null,null,null,null,null,3,2,"",null,"－",{"$f":"③投票用紙等請求者一覧!$P$9","v":"衆小\n衆比\n国審"},"　.　　.　\n　.　　.　","　.　　.　\n　.　　.　"]
[148,null,null,null,null,null,null,null,null,null,3,2,"",null,"－",{"$f":"③投票用紙等請求者一覧!$P$9","v":"衆小\n衆比\n国審"},"　.　　.　\n　.　　.　","　.　　.　\n　.　　.　"]
[149,null,null,null,null,null,null,null,null,null,3,2,"",null,"－",{"$f":"③投票用紙等請求者一覧!$P$9","v":"衆小\n衆比\n国審"},"　.　　.　\n　.　　.　","　.　　.　\n　.　　.　"]
[150,null,null,null,null,null,null,null,null,null,3,2,"",null,"－",{"$f":"③投票用紙等請求者一覧!$P$9","v":"衆小\n衆比\n国審"},"　.　　.　\n　.　　.　","　.　　.　\n　.　　.　"]
[151,null,null,null,null,null,null,null,null,null,3,2,"",null,"－",{"$f":"③投票用紙等請求者一覧!$P$9","v":"衆小\n衆比\n国審"},"　.　　.　\n　.　　.　","　.　　.　\n　.　　.　"]
[152,null,null,null,null,null,null,null,null,null,3,2,"",null,"－",{"$f":"③投票用紙等請求者一覧!$P$9","v":"衆小\n衆比\n国審"},"　.　　.　\n　.　　.　","　.　　.　\n　.　　.　"]
[153,null,null,null,null,null,null,null,null,null,3,2,"",null,"－",{"$f":"③投票用紙等請求者一覧!$P$9","v":"衆小\n衆比\n国審"},"　.　　.　\n　.　　.　","　.　　.　\n　.　　.　"]
[154,null,null,null,null,null,null,null,null,null,3,2,"",null,"－",{"$f":"③投票用紙等請求者一覧!$P$9","v":"衆小\n衆比\n国審"},"　.　　.　\n　.　　.　","　.　　.　\n　.　　.　"]
[155,null,null,null,null,null,null,null,null,null,3,2,"",null,"－",{"$f":"③投票用紙等請求者一覧!$P$9","v":"衆小\n衆比\n国審"},"　.　　.　\n　.　　.　","　.　　.　\n　.　　.　"]
[156,null,null,null,null,null,null,null,null,null,3,2,"",null,"－",{"$f":"③投票用紙等請求者一覧!$P$9","v":"衆小\n衆比\n国審"},"　.　　.　\n　.　　.　","　.　　.　\n　.　　.　"]
[157,null,null,null,null,null,null,null,null,null,3,2,"",null,"－",{"$f":"③投票用紙等請求者一覧!$P$9","v":"衆小\n衆比\n国審"},"　.　　.　\n　.　　.　","　.　　.　\n　.　　.　"]
[158,null,null,null,null,null,null,null,null,null,3,2,"",null,"－",{"$f":"③投票用紙等請求者一覧!$P$9","v":"衆小\n衆比\n国審"},"　.　　.　\n　.　　.　","　.　　.　\n　.　　.　"]
[159,null,null,null,null,null,null,null,null,null,3,2,"",null,"－",{"$f":"③投票用紙等請求者一覧!$P$9","v":"衆小\n衆比\n国審"},"　.　　.　\n　.　　.　","　.　　.　\n　.　　.　"]
[160,null,null,null,null,null,null,null,null,null,3,2,"",null,"－",{"$f":"③投票用紙等請求者一覧!$P$9","v":"衆小\n衆比\n国審"},"　.　　.　\n　.　　.　","　.　　.　\n　.　　.　"]
[161,null,null,null,null,null,null,null,null,null,3,2,"",null,"－",{"$f":"③投票用紙等請求者一覧!$P$9","v":"衆小\n衆比\n国審"},"　.　　.　\n　.　　.　","　.　　.　\n　.　　.　"]
[162,null,null,null,null,null,null,null,null,null,3,2,"",null,"－",{"$f":"③投票用紙等請求者一覧!$P$9","v":"衆小\n衆比\n国審"},"　.　　.　\n　.　　.　","　.　　.　\n　.　　.　"]
[163,null,null,null,null,null,null,null,null,null,3,2,"",null,"－",{"$f":"③投票用紙等請求者一覧!$P$9","v":"衆小\n衆比\n国審"},"　.　　.　\n　.　　.　","　.　　.　\n　.　　.　"]
[164,null,null,null,null,null,null,null,null,null,3,2,"",null,"－",{"$f":"③投票用紙等請求者一覧!$P$9","v":"衆小\n衆比\n国審"},"　.　　.　\n　.　　.　","　.　　.　\n　.　　.　"]
[165,null,null,null,null,null,null,null,null,null,3,2,"",null,"－",{"$f":"③投票用紙等請求者一覧!$P$9","v":"衆小\n衆比\n国審"},"　.　　.　\n　.　　.　","　.　　.　\n　.　　.　"]
[166,null,null,null,null,null,null,null,null,null,3,2,"",null,"－",{"$f":"③投票用紙等請求者一覧!$P$9","v":"衆小\n衆比\n国審"},"　.　　.　\n　.　　.　","　.　　.　\n　.　　.　"]
[167,null,null,null,null,null,null,null,null,null,3,2,"",null,"－",{"$f":"③投票用紙等請求者一覧!$P$9","v":"衆小\n衆比\n国審"},"　.　　.　\n　.　　.　","　.　　.　\n　.　　.　"]
[168,null,null,null,null,null,null,null,null,null,3,2,"",null,"－",{"$f":"③投票用紙等請求者一覧!$P$9","v":"衆小\n衆比\n国審"},"　.　　.　\n　.　　.　","　.　　.　\n　.　　.　"]
[169,null,null,null,null,null,null,null,null,null,3,2,"",null,"－",{"$f":"③投票用紙等請求者一覧!$P$9","v":"衆小\n衆比\n国審"},"　.　　.　\n　.　　.　","　.　　.　\n　.　　.　"]
[170,null,null,null,null,null,null,null,null,null,3,2,"",null,"－",{"$f":"③投票用紙等請求者一覧!$P$9","v":"衆小\n衆比\n国審"},"　.　　.　\n　.　　.　","　.　　.　\n　.　　.　"]
[171,null,null,null,null,null,null,null,null,null,3,2,"",null,"－",{"$f":"③投票用紙等請求者一覧!$P$9","v":"衆小\n衆比\n国審"},"　.　　.　\n　.　　.　","　.　　.　\n　.　　.　"]
[172,null,null,null,null,null,null,null,null,null,3,2,"",null,"－",{"$f":"③投票用紙等請求者一覧!$P$9","v":"衆小\n衆比\n国審"},"　.　　.　\n　.　　.　","　.　　.　\n　.　　.　"]
[173,null,null,null,null,null,null,null,null,null,3,2,"",null,"－",{"$f":"③投票用紙等請求者一覧!$P$9","v":"衆小\n衆比\n国審"},"　.　　.　\n　.　　.　","　.　　.　\n　.　　.　"]
[174,null,null,null,null,null,null,null,null,null,3,2,"",null,"－",{"$f":"③投票用紙等請求者一覧!$P$9","v":"衆小\n衆比\n国審"},"　.　　.　\n　.　　.　","　.　　.　\n　.　　.　"]
[175,null,null,null,null,null,null,null,null,null,3,2,"",null,"－",{"$f":"③投票用紙等請求者一覧!$P$9","v":"衆小\n衆比\n国審"},"　.　　.　\n　.　　.　","　.　　.　\n　.　　.　"]
[176,null,null,null,null,null,null,null,null,null,3,2,"",null,"－",{"$f":"③投票用紙等請求者一覧!$P$9","v":"衆小\n衆比\n国審"},"　.　　.　\n　.　　.　","　.　　.　\n　.　　.　"]
[177,null,null,null,null,null,null,null,null,null,3,2,"",null,"－",{"$f":"③投票用紙等請求者一覧!$P$9","v":"衆小\n衆比\n国審"},"　.　　.　\n　.　　.　","　.　　.　\n　.　　.　"]
[178,null,null,null,null,null,null,null,null,null,3,2,"",null,"－",{"$f":"③投票用紙等請求者一覧!$P$9","v":"衆小\n衆比\n国審"},"　.　　.　\n　.　　.　","　.　　.　\n　.　　.　"]
[179,null,null,null,null,null,null,null,null,null,3,2,"",null,"－",{"$f":"③投票用紙等請求者一覧!$P$9","v":"衆小\n衆比\n国審"},"　.　　.　\n　.　　.　","　.　　.　\n　.　　.　"]
[180,null,null,null,null,null,null,null,null,null,3,2,"",null,"－",{"$f":"③投票用紙等請求者一覧!$P$9","v":"衆小\n衆比\n国審"},"　.　　.　\n　.　　.　","　.　　.　\n　.　　.　"]
[181,null,null,null,null,null,null,null,null,null,3,2,"",null,"－",{"$f":"③投票用紙等請求者一覧!$P$9","v":"衆小\n衆比\n国審"},"　.　　.　\n　.　　.　","　.　　.　\n　.　　.　"]
[182,null,null,null,null,null,null,null,null,null,3,2,"",null,"－",{"$f":"③投票用紙等請求者一覧!$P$9","v":"衆小\n衆比\n国審"},"　.　　.　\n　.　　.　","　.　　.　\n　.　　.　"]
[183,null,null,null,null,null,null,null,null,null,3,2,"",null,"－",{"$f":"③投票用紙等請求者一覧!$P$9","v":"衆小\n衆比\n国審"},"　.　　.　\n　.　　.　","　.　　.　\n　.　　.　"]
[184,null,null,null,null,null,null,null,null,null,3,2,"",null,"－",{"$f":"③投票用紙等請求者一覧!$P$9","v":"衆小\n衆比\n国審"},"　.　　.　\n　.　　.　","　.　　.　\n　.　　.　"]
[185,null,null,null,null,null,null,null,null,null,3,2,"",null,"－",{"$f":"③投票用紙等請求者一覧!$P$9","v":"衆小\n衆比\n国審"},"　.　　.　\n　.　　.　","　.　　.　\n　.　　.　"]
[186,null,null,null,null,null,null,null,null,null,3,2,"",null,"－",{"$f":"③投票用紙等請求者一覧!$P$9","v":"衆小\n衆比\n国審"},"　.　　.　\n　.　　.　","　.　　.　\n　.　　.　"]
[187,null,null,null,null,null,null,null,null,null,3,2,"",null,"－",{"$f":"③投票用紙等請求者一覧!$P$9","v":"衆小\n衆比\n国審"},"　.　　.　\n　.　　.　","　.　　.　\n　.　　.　"]
[188,null,null,null,null,null,null,null,null,null,3,2,"",null,"－",{"$f":"③投票用紙等請求者一覧!$P$9","v":"衆小\n衆比\n国審"},"　.　　.　\n　.　　.　","　.　　.　\n　.　　.　"]
[189,null,null,null,null,null,null,null,null,null,3,2,"",null,"－",{"$f":"③投票用紙等請求者一覧!$P$9","v":"衆小\n衆比\n国審"},"　.　　.　\n　.　　.　","　.　　.　\n　.　　.　"]
[190,null,null,null,null,null,null,null,null,null,3,2,"",null,"－",{"$f":"③投票用紙等請求者一覧!$P$9","v":"衆小\n衆比\n国審"},"　.　　.　\n　.　　.　","　.　　.　\n　.　　.　"]
[191,null,null,null,null,null,null,null,null,null,3,2,"",null,"－",{"$f":"③投票用紙等請求者一覧!$P$9","v":"衆小\n衆比\n国審"},"　.　　.　\n　.　　.　","　.　　.　\n　.　　.　"]
[192,null,null,null,null,null,null,null,null,null,3,2,"",null,"－",{"$f":"③投票用紙等請求者一覧!$P$9","v":"衆小\n衆比\n国審"},"　.　　.　\n　.　　.　","　.　　.　\n　.　　.　"]
[193,null,null,null,null,null,null,null,null,null,3,2,"",null,"－",{"$f":"③投票用紙等請求者一覧!$P$9","v":"衆小\n衆比\n国審"},"　.　　.　\n　.　　.　","　.　　.　\n　.　　.　"]
[194,null,null,null,null,null,null,null,null,null,3,2,"",null,"－",{"$f":"③投票用紙等請求者一覧!$P$9","v":"衆小\n衆比\n国審"},"　.　　.　\n　.　　.　","　.　　.　\n　.　　.　"]
[195,null,null,null,null,null,null,null,null,null,3,2,{"$f":"M200","v":""},null,"－",{"$f":"③投票用紙等請求者一覧!$P$9","v":"衆小\n衆比\n国審"},"　.　　.　\n　.　　.　","　.　　.　\n　.　　.　"]
[196,null,null,null,null,null,null,null,null,null,3,2,"",null,"－",{"$f":"③投票用紙等請求者一覧!$P$9","v":"衆小\n衆比\n国審"},"　.　　.　\n　.　　.　","　.　　.　\n　.　　.　"]
[197,null,null,null,null,null,null,null,null,null,3,2,"",null,"－",{"$f":"③投票用紙等請求者一覧!$P$9","v":"衆小\n衆比\n国審"},"　.　　.　\n　.　　.　","　.　　.　\n　.　　.　"]
[198,null,null,null,null,null,null,null,null,null,3,2,"",null,"－",{"$f":"③投票用紙等請求者一覧!$P$9","v":"衆小\n衆比\n国審"},"　.　　.　\n　.　　.　","　.　　.　\n　.　　.　"]
[199,null,null,null,null,null,null,null,null,null,3,2,"",null,"－",{"$f":"③投票用紙等請求者一覧!$P$9","v":"衆小\n衆比\n国審"},"　.　　.　\n　.　　.　","　.　　.　\n　.　　.　"]
[200,null,null,null,null,null,null,null,null,null,3,2,"",null,"－",{"$f":"③投票用紙等請求者一覧!$P$9","v":"衆小\n衆比\n国審"},"　.　　.　\n　.　　.　","　.　　.　\n　.　　.　"]

{"sheet":"④受領書（甲）","index":9,"n_rows":34,"n_cols":52,"rows_kept":34,"cut":false,"hidden":false,"merged":[[6,24,6,26],[10,24,10,26],[14,24,14,26],[22,17,23,31],[0,0,0,31],[5,2,5,3],[9,2,9,3],[13,2,13,3],[19,2,19,4],[19,5,19,6],[19,7,19,8],[19,9,19,10],[19,11,19,12],[19,13,19,14],[25,17,27,31],[28,17,30,31],[19,15,19,16],[25,9,25,15],[22,9,22,15],[28,9,28,15]]}
["受　領　書　（甲）",null,null,null,null,null,null,null,null,null,null,null,null,null,null,null,null,null,null,null,null,null,null,null,null,null,null,null,null,null,null,null,null,"本シートは編集可能箇所以外は保護しています。",null,null,null,null,null,null,null,null,null,null,null,null,null,null,null,null,null,"目次"]
[null,null,null,null,null,null,null,null,null,null,null,null,null,null,null,null,null,null,null,null,null,null,null,null,null,null,null,null,null,null,null,null,null,"直接入力で作成したい場合は直接入力用シートを使用してください。"]
[null,null,null,null,null,null,null,null,null,null,null,null,null,null,null,null,null,null,null,null,null,null,null,null,null,null,null,null,null,null,null,null,null,"関数式や文言が入力されている箇所は選択又は入力はできません。"]
[null,null,null,null,null,null,null,null,null,null,null,null,null,null,null,null,null,null,null,null,null,null,null,null,null,null,null,null,null,null,null,null,null,"選択できる箇所は「◀」のマークを印刷エリア外に付けています。"]
[]
[null,null,"１",null,null,{"$f":"VLOOKUP(入力!B3,入力!D2:G7,2,FALSE)","v":"衆議院小選挙区選出議員選挙"}]
[null,null,null,null,null,null,null,null,null,null,"投票用紙及び不在者投票用紙封筒",null,null,null,null,null,null,null,null,null,null,null,null,null,{"$f":"COUNTA(依頼受簿!D6:D205)","v":0},null,null,"名分",null,null,null,null,"※本人情報入力シートで入力した個数を数えています。"]
[null,null,null,null,null,null,null,null,null,null,null,null,null,null,null,null,null,null,null,null,null,null,null,null,null,null,null,null,null,null,null,null,"※あらかじめ入力する際に本シート使用"]
[null,null,null,null,null,null,null,null,null,null,null,null,null,null,null,null,null,null,null,null,null,null,null,null,null,null,null,null,null,null,null,null,"※受領時に記載する場合は直接入力シートを使用"]
[null,null,{"$f":"IF(OR(入力!B3=1,入力!B3=2,入力!B3=3),\"２\",\"\")","v":"２"},null,null,{"$f":"IF(OR(入力!B3=1,入力!B3=2,入力!B3=3),VLOOKUP(入力!B3,入力!D2:G7,3,FALSE),\"\")","v":"衆議院比例代表選出議員選挙"}]
[null,null,null,null,null,null,null,null,null,null,{"$f":"IF(C10=\"\",\"\",\"投票用紙及び不在者投票用紙封筒\")","v":"投票用紙及び不在者投票用紙封筒"},null,null,null,null,null,null,null,null,null,null,null,null,null,{"$f":"IF(C10=\"\",\"\",Y7)","v":0},null,null,{"$f":"IF(C10=\"\",\"\",\"名分\")","v":"名分"},null,null,null,null,"※１と同数を想定しています。"]
[null,null,null,null,null,null,null,null,null,null,null,null,null,null,null,null,null,null,null,null,null,null,null,null,null,null,null,null,null,null,null,null,"※あらかじめ入力する際に本シート利用"]
[null,null,null,null,null,null,null,null,null,null,null,null,null,null,null,null,null,null,null,null,null,null,null,null,null,null,null,null,null,null,null,null,"※受領時に記載する場合は直接入力シートを使用"]
[null,null,{"$f":"IF(OR(入力!B3=1,入力!B3=2,入力!B3=3),\"３\",\"\")","v":"３"},null,null,{"$f":"IF(C14=\"\",\"\",IF(入力!B3=1,入力!G2,\"\"))","v":"最高裁判所裁判官国民審査"}]
[null,null,null,null,null,null,null,null,null,null,{"$f":"IF(C14=\"\",\"\",\"投票用紙及び不在者投票用紙封筒\")","v":"投票用紙及び不在者投票用紙封筒"},null,null,null,null,null,null,null,null,null,null,null,null,null,{"$f":"IF(C14=\"\",\"\",Y7)","v":0},null,null,{"$f":"IF(C14=\"\",\"\",\"名分\")","v":"名分"}]
[]
[]
[null,null,"上記のとおり正に受領しました。"]
[]
[null,null,"令和",null,null,{"$f":"TEXT(TODAY(),\"e\")","v":"8"},null,"年",null,null,null,"月",null,null,null,"日",null,null,null,null,null,null,null,null,null,null,null,null,null,null,null,null,"※受領日は投票用紙等を受理した際に記入していただきます。"]
[]
[]
[null,null,null,null,null,null,null,null,null,"住所",null,null,null,null,null,null,null,{"$f":"②請求書!V10","v":0},null,null,null,null,null,null,null,null,null,null,null,null,null,null,"※　請求書で入力した住所が自動で反映されます"]
[]
[]
[null,null,null,null,null,null,null,null,null,"指定施設名",null,null,null,null,null,null,null,{"$f":"IF(AH26=1,\"\",依頼受簿!B2)","v":0},null,null,null,null,null,null,null,null,null,null,null,null,null,null,null,null,"◀白紙で出力する場合は「1」を入力"]
[null,null,null,null,null,null,null,null,null,null,null,null,null,null,null,null,null,null,null,null,null,null,null,null,null,null,null,null,null,null,null,null,"※依頼受簿で選択した指定施設名が自動で反映されます"]
[]
[null,null,null,null,null,null,null,null,null,"不在者投票管理者",null,null,null,null,null,null,null,{"$f":"②請求書!V13&\"　\"&②請求書!AA13","v":"施設長　小樽丸　はなお"},null,null,null,null,null,null,null,null,null,null,null,null,null,null,"※　請求書で入力した不在者投票管理者氏名等が自動で反映されます"]
[]
[]
[]
[null,null,null,"小樽市選挙管理委員会"]
[null,null,null,"委員長　平口山　和　弘　様"]

{"sheet":"④受領書（甲） (直接入力用)","index":10,"n_rows":34,"n_cols":35,"rows_kept":34,"cut":false,"hidden":false,"merged":[[13,2,13,3],[0,0,0,31],[5,2,5,3],[6,24,6,26],[9,2,9,3],[10,24,10,26],[14,24,14,26],[19,2,19,4],[19,5,19,6],[19,7,19,8],[19,9,19,10],[19,11,19,12],[19,13,19,14],[19,15,19,16],[22,9,22,15],[22,17,23,31],[25,9,25,15],[25,17,27,31],[28,9,28,15],[28,17,30,31]]}
["受　領　書　（甲）",null,null,null,null,null,null,null,null,null,null,null,null,null,null,null,null,null,null,null,null,null,null,null,null,null,null,null,null,null,null,null,null,null,"目次"]
[]
[]
[]
[]
[null,null,"１",null,null,{"$f":"VLOOKUP(入力!B3,入力!D2:G7,2,FALSE)","v":"衆議院小選挙区選出議員選挙"}]
[null,null,null,null,null,null,null,null,null,null,"投票用紙及び不在者投票用紙封筒",null,null,null,null,null,null,null,null,null,null,null,null,null,null,null,null,"名分"]
[]
[]
[null,null,{"$f":"IF(OR(入力!B3=1,入力!B3=2,入力!B3=3),\"２\",\"\")","v":"２"},null,null,{"$f":"IF(OR(入力!B3=1,入力!B3=2,入力!B3=3),VLOOKUP(入力!B3,入力!D2:G7,3,FALSE),\"\")","v":"衆議院比例代表選出議員選挙"}]
[null,null,null,null,null,null,null,null,null,null,{"$f":"IF(C10=\"\",\"\",\"投票用紙及び不在者投票用紙封筒\")","v":"投票用紙及び不在者投票用紙封筒"},null,null,null,null,null,null,null,null,null,null,null,null,null,null,null,null,{"$f":"IF(C10=\"\",\"\",\"名分\")","v":"名分"}]
[]
[]
[null,null,{"$f":"IF(OR(入力!B3=1,入力!B3=2,入力!B3=3),\"３\",\"\")","v":"３"},null,null,{"$f":"IF(C14=\"\",\"\",IF(入力!B3=1,入力!G2,\"\"))","v":"最高裁判所裁判官国民審査"}]
[null,null,null,null,null,null,null,null,null,null,{"$f":"IF(C14=\"\",\"\",\"投票用紙及び不在者投票用紙封筒\")","v":"投票用紙及び不在者投票用紙封筒"},null,null,null,null,null,null,null,null,null,null,null,null,null,null,null,null,{"$f":"IF(C14=\"\",\"\",\"名分\")","v":"名分"}]
[]
[]
[null,null,"上記のとおり正に受領しました。"]
[]
[null,null,"令和",null,null,null,null,"年",null,null,null,"月",null,null,null,"日",null,null,null,null,null,null,null,null,null,null,null,null,null,null,null,null,"※受領日は投票用紙等を受理した際に記入していただきます。"]
[]
[]
[null,null,null,null,null,null,null,null,null,"住所",null,null,null,null,null,null,null,null,null,null,null,null,null,null,null,null,null,null,null,null,null,null,"◀　指定施設の住所を入力"]
[]
[]
[null,null,null,null,null,null,null,null,null,"指定施設名",null,null,null,null,null,null,null,null,null,null,null,null,null,null,null,null,null,null,null,null,null,null,"◀指定施設名を入力"]
[]
[]
[null,null,null,null,null,null,null,null,null,"不在者投票管理者",null,null,null,null,null,null,null,null,null,null,null,null,null,null,null,null,null,null,null,null,null,null,"◀　不在者投票管理者の役職及び氏名を入力"]
[]
[]
[]
[null,null,null,"小樽市選挙管理委員会"]
[null,null,null,"委員長　平口山　和　弘　様"]

{"sheet":"⑤不在者投票送致書","index":11,"n_rows":79,"n_cols":54,"rows_kept":79,"cut":false,"hidden":false,"merged":[[7,22,8,39],[12,0,12,39],[15,13,17,27],[20,0,20,1],[21,0,23,21],[0,38,0,39],[9,26,9,29],[9,30,9,39],[5,22,6,39],[0,25,0,27],[0,28,0,29],[0,30,0,31],[0,32,0,33],[0,34,0,35],[0,36,0,37],[22,34,23,38],[25,34,26,38],[25,28,26,32],[28,34,29,38],[31,34,32,38],[39,0,41,21],[22,28,23,32],[22,22,23,26],[25,22,26,26],[28,22,29,26],[28,28,29,32],[31,22,32,26],[31,28,32,32],[34,22,35,26],[24,0,38,4],[24,5,26,21],[27,5,29,21],[30,5,32,21],[33,5,35,21],[36,5,38,21],[34,34,35,38],[34,28,35,32],[45,14,45,15],[45,17,45,19],[47,17,47,19],[37,34,38,38],[40,34,41,38],[42,0,42,1],[45,0,46,11],[44,0,44,11],[44,12,44,19],[44,20,44,31],[44,32,44,39],[37,22,38,26],[37,28,38,32],[40,22,41,26],[40,28,41,32],[45,34,45,35],[45,37,45,39],[46,34,46,36],[45,20,46,31],[46,14,46,16],[46,32,46,33],[46,37,46,39],[46,12,46,13],[46,17,46,19],[66,32,66,39],[67,0,68,11],[67,20,68,31],[67,32,68,39],[57,0,58,11],[59,0,60,11],[47,20,48,31],[49,20,50,31],[51,20,52,31],[53,20,54,31],[55,20,56,31],[57,20,58,31],[59,20,60,31],[47,14,47,15],[47,0,48,11],[49,0,50,11],[51,0,52,11],[53,0,54,11],[55,0,56,11],[56,14,56,16],[57,14,57,15],[57,17,57,19],[58,14,58,16],[59,14,59,15],[69,32,70,39],[71,32,72,39],[73,32,74,39],[75,32,76,39],[60,14,60,16],[59,34,59,35],[59,37,59,39],[75,0,76,11],[75,20,76,31],[67,12,68,19],[69,12,70,19],[71,12,72,19],[73,12,74,19],[75,12,76,19],[69,0,70,11],[69,20,70,31],[71,0,72,11],[71,20,72,31],[73,0,74,11],[73,20,74,31],[65,0,65,1],[66,0,66,11],[66,12,66,19],[66,20,66,31],[48,12,48,13],[48,17,48,19],[50,12,50,13],[50,17,50,19],[52,12,52,13],[52,17,52,19],[54,12,54,13],[52,14,52,16],[53,14,53,15],[53,17,53,19],[54,14,54,16],[54,17,54,19],[48,14,48,16],[49,14,49,15],[49,17,49,19],[50,14,50,16],[51,14,51,15],[51,17,51,19],[56,12,56,13],[56,17,56,19],[58,12,58,13],[58,17,58,19],[55,37,55,39],[57,37,57,39],[51,37,51,39],[53,37,53,39],[60,12,60,13],[60,17,60,19],[60,34,60,36],[55,34,55,35],[56,34,56,36],[57,34,57,35],[58,34,58,36],[51,34,51,35],[52,34,52,36],[53,34,53,35],[54,34,54,36],[59,17,59,19],[55,14,55,15],[55,17,55,19],[47,37,47,39],[49,37,49,39],[58,32,58,33],[58,37,58,39],[60,32,60,33],[60,37,60,39],[52,32,52,33],[52,37,52,39],[54,32,54,33],[54,37,54,39],[56,32,56,33],[56,37,56,39],[48,32,48,33],[48,37,48,39],[50,32,50,33],[50,37,50,39],[47,34,47,35],[48,34,48,36],[49,34,49,35],[50,34,50,36]]}
[null,null,null,null,null,null,null,null,null,null,null,null,null,null,null,null,null,null,null,null,null,null,null,null,null,"令和",null,null,null,null,"年",null,null,null,"月",null,null,null,"日",null,null,"◀送致の日付を入力",null,null,null,null,null,null,null,null,null,null,null,"目次"]
[]
["選挙管理委員会　委員長　様"]
[]
[]
[null,null,null,null,null,null,null,null,null,null,null,null,null,null,null,null,null,"住　　　所",null,null,null,null,{"$f":"②請求書!V10","v":0},null,null,null,null,null,null,null,null,null,null,null,null,null,null,null,null,null,null,"※　請求書で入力した住所が自動で反映されます"]
[]
[null,null,null,null,null,null,null,null,null,null,null,null,null,null,null,null,null,"指定施設名",null,null,null,null,{"$f":"依頼受簿!B2","v":0},null,null,null,null,null,null,null,null,null,null,null,null,null,null,null,null,null,null,"※　依頼受簿で選択した指定施設名が自動で反映されます"]
[]
[null,null,null,null,null,null,null,null,null,null,null,null,null,null,null,null,null,"不在者投票管理者名",null,null,null,null,null,null,null,null,{"$f":"②請求書!V13","v":"施設長"},null,null,null,{"$f":"②請求書!AA13","v":"小樽丸　はなお"},null,null,null,null,null,null,null,null,null,null,"※　請求書で入力した不在者投票管理者氏名等が自動で反映されます"]
[]
[]
["不　在　者　投　票　送　致　書"]
[]
[]
[null,null,null,null,null,null,null,null,null,null,null,null,null,{"$f":"IF(入力!B3=1,VLOOKUP(入力!B3,入力!D1:G7,2,FALSE)&CHAR(10)&VLOOKUP(入力!B3,入力!D1:G7,3,FALSE)&CHAR(10)&VLOOKUP(入力!B3,入力!D1:G7,4,FALSE),IF(OR(入力!B3=2,入力!B3=3),VLOOKUP(入力!B3,入力!D1:G7,2,FALSE)&CHAR(10)&VLOOKUP(入力!B3,入力!D1:G7,3,FALSE),VLOOKUP(入力!B3,入力!D1:G7,2,FALSE)))","v":"衆議院小選挙区選出議員選挙\n衆議院比例代表選出議員選挙\n最高裁判所裁判官国民審査"}]
[{"$f":"DBCS(TEXT(入力!B2,\"　ggge年m月d日\"))&\"執行の\"","v":"　令和８年２月８日執行の"},null,null,null,null,null,null,null,null,null,null,null,null,null,null,null,null,null,null,null,null,null,null,null,null,null,null,null,"における不在者投票を次の"]
[]
["とおり送致します。"]
[]
["１",null,null,"送致の内訳"]
["①　投票用紙及び不在者投票用封筒の総受領数",null,null,null,null,null,null,null,null,null,null,null,null,null,null,null,null,null,null,null,null,null,{"$f":"VLOOKUP(入力!B3,入力!D1:M7,8,FALSE)","v":"小選挙区"},null,null,null,null,null,{"$f":"VLOOKUP(入力!B3,入力!D1:M7,9,FALSE)","v":"比例代表"},null,null,null,null,null,{"$f":"VLOOKUP(入力!B3,入力!D1:M7,10,FALSE)","v":"国民審査"}]
[]
[null,null,null,null,null,null,null,null,null,null,null,null,null,null,null,null,null,null,null,null,null,null,null,null,null,null,null,"人",null,null,null,null,null,"人",null,null,null,null,null,"人",null,"◀人数を入力"]
["上記のうち\n\n\n\n\n\n送致数",null,null,null,null,"　②　今回の投票者数\n　　　（投票を済ませた者）",null,null,null,null,null,null,null,null,null,null,null,null,null,null,null,null,{"$f":"$W$22","v":"小選挙区"},null,null,null,null,null,{"$f":"$AC$22","v":"比例代表"},null,null,null,null,null,{"$f":"$AI$22","v":"国民審査"}]
[]
[null,null,null,null,null,null,null,null,null,null,null,null,null,null,null,null,null,null,null,null,null,null,null,null,null,null,null,"人",null,null,null,null,null,"人",null,null,null,null,null,"人",null,"◀人数を入力"]
[null,null,null,null,null,"　③　今回の返還数\n　　　（退院・転院・死亡・棄権等）",null,null,null,null,null,null,null,null,null,null,null,null,null,null,null,null,{"$f":"$W$22","v":"小選挙区"},null,null,null,null,null,{"$f":"$AC$22","v":"比例代表"},null,null,null,null,null,{"$f":"$AI$22","v":"国民審査"}]
[]
[null,null,null,null,null,null,null,null,null,null,null,null,null,null,null,null,null,null,null,null,null,null,null,null,null,null,null,"人",null,null,null,null,null,"人",null,null,null,null,null,"人",null,"◀人数を入力"]
[null,null,null,null,null,"　④　今回の送致数　（②＋③）",null,null,null,null,null,null,null,null,null,null,null,null,null,null,null,null,{"$f":"$W$22","v":"小選挙区"},null,null,null,null,null,{"$f":"$AC$22","v":"比例代表"},null,null,null,null,null,{"$f":"$AI$22","v":"国民審査"}]
[null,null,null,null,null,null,null,null,null,null,null,null,null,null,null,null,null,null,null,null,null,null,{"$f":"W26+W29","v":0},null,null,null,null,null,{"$f":"AC26+AC29","v":0},null,null,null,null,null,{"$f":"IF(AI22<>\"\",AI26+AI29,\"\")","v":0}]
[null,null,null,null,null,null,null,null,null,null,null,null,null,null,null,null,null,null,null,null,null,null,null,null,null,null,null,"人",null,null,null,null,null,"人",null,null,null,null,null,"人",null,"※計算箇所なので入力不要"]
[null,null,null,null,null,"　⑤　前回までの送致数",null,null,null,null,null,null,null,null,null,null,null,null,null,null,null,null,{"$f":"$W$22","v":"小選挙区"},null,null,null,null,null,{"$f":"$AC$22","v":"比例代表"},null,null,null,null,null,{"$f":"$AI$22","v":"国民審査"}]
[]
[null,null,null,null,null,null,null,null,null,null,null,null,null,null,null,null,null,null,null,null,null,null,null,null,null,null,null,"人",null,null,null,null,null,"人",null,null,null,null,null,"人",null,"◀人数を入力"]
[null,null,null,null,null,"　⑥　送致総数（④＋⑤）",null,null,null,null,null,null,null,null,null,null,null,null,null,null,null,null,{"$f":"$W$22","v":"小選挙区"},null,null,null,null,null,{"$f":"$AC$22","v":"比例代表"},null,null,null,null,null,{"$f":"$AI$22","v":"国民審査"}]
[null,null,null,null,null,null,null,null,null,null,null,null,null,null,null,null,null,null,null,null,null,null,{"$f":"W32+W35","v":0},null,null,null,null,null,{"$f":"AC32+AC35","v":0},null,null,null,null,null,{"$f":"IF(AI22<>\"\",AI32+AI35,\"\")","v":0}]
[null,null,null,null,null,null,null,null,null,null,null,null,null,null,null,null,null,null,null,null,null,null,null,null,null,null,null,"人",null,null,null,null,null,"人",null,null,null,null,null,"人",null,"※計算箇所なので入力不要"]
["⑦　差引残数①－⑥（投票が済んでいない者）",null,null,null,null,null,null,null,null,null,null,null,null,null,null,null,null,null,null,null,null,null,{"$f":"$W$22","v":"小選挙区"},null,null,null,null,null,{"$f":"$AC$22","v":"比例代表"},null,null,null,null,null,{"$f":"$AI$22","v":"国民審査"}]
[null,null,null,null,null,null,null,null,null,null,null,null,null,null,null,null,null,null,null,null,null,null,{"$f":"W23-W38","v":0},null,null,null,null,null,{"$f":"AC23-AC38","v":0},null,null,null,null,null,{"$f":"IF(AI22<>\"\",AI23-AI38,\"\")","v":0}]
[null,null,null,null,null,null,null,null,null,null,null,null,null,null,null,null,null,null,null,null,null,null,null,null,null,null,null,"人",null,null,null,null,null,"人",null,null,null,null,null,"人",null,"※計算箇所なので入力不要"]
["２",null,null,"投票用紙を返還する者の氏名等　（③の該当者）"]
[]
["選 挙 人 氏 名",null,null,null,null,null,null,null,null,null,null,null,"理　　　　由",null,null,null,null,null,null,null,"選 挙 人 氏 名",null,null,null,null,null,null,null,null,null,null,null,"理　　　　由"]
[null,null,null,null,null,null,null,null,null,null,null,null,"1",null,"退院",null,null,"死亡等",null,null,null,null,null,null,null,null,null,null,null,null,null,null,"1",null,"退院",null,null,"死亡等",null,null,null,"◀選挙人氏名を入力"]
[null,null,null,null,null,null,null,null,null,null,null,null,"2（",null,null,null,null,"）棄権",null,null,null,null,null,null,null,null,null,null,null,null,null,null,"2（",null,null,null,null,"）棄権",null,null,null,"◀１、退院、死亡等のどちらかの前に●を入力"]
[null,null,null,null,null,null,null,null,null,null,null,null,"1",null,"退院",null,null,"死亡等",null,null,null,null,null,null,null,null,null,null,null,null,null,null,"1",null,"退院",null,null,"死亡等"]
[null,null,null,null,null,null,null,null,null,null,null,null,"2（",null,null,null,null,"）棄権",null,null,null,null,null,null,null,null,null,null,null,null,null,null,"2（",null,null,null,null,"）棄権"]
[null,null,null,null,null,null,null,null,null,null,null,null,"1",null,"退院",null,null,"死亡等",null,null,null,null,null,null,null,null,null,null,null,null,null,null,"1",null,"退院",null,null,"死亡等"]
[null,null,null,null,null,null,null,null,null,null,null,null,"2（",null,null,null,null,"）棄権",null,null,null,null,null,null,null,null,null,null,null,null,null,null,"2（",null,null,null,null,"）棄権"]
[null,null,null,null,null,null,null,null,null,null,null,null,"1",null,"退院",null,null,"死亡等",null,null,null,null,null,null,null,null,null,null,null,null,null,null,"1",null,"退院",null,null,"死亡等"]
[null,null,null,null,null,null,null,null,null,null,null,null,"2（",null,null,null,null,"）棄権",null,null,null,null,null,null,null,null,null,null,null,null,null,null,"2（",null,null,null,null,"）棄権"]
[null,null,null,null,null,null,null,null,null,null,null,null,"1",null,"退院",null,null,"死亡等",null,null,null,null,null,null,null,null,null,null,null,null,null,null,"1",null,"退院",null,null,"死亡等"]
[null,null,null,null,null,null,null,null,null,null,null,null,"2（",null,null,null,null,"）棄権",null,null,null,null,null,null,null,null,null,null,null,null,null,null,"2（",null,null,null,null,"）棄権"]
[null,null,null,null,null,null,null,null,null,null,null,null,"1",null,"退院",null,null,"死亡等",null,null,null,null,null,null,null,null,null,null,null,null,null,null,"1",null,"退院",null,null,"死亡等"]
[null,null,null,null,null,null,null,null,null,null,null,null,"2（",null,null,null,null,"）棄権",null,null,null,null,null,null,null,null,null,null,null,null,null,null,"2（",null,null,null,null,"）棄権"]
[null,null,null,null,null,null,null,null,null,null,null,null,"1",null,"退院",null,null,"死亡等",null,null,null,null,null,null,null,null,null,null,null,null,null,null,"1",null,"退院",null,null,"死亡等"]
[null,null,null,null,null,null,null,null,null,null,null,null,"2（",null,null,null,null,"）棄権",null,null,null,null,null,null,null,null,null,null,null,null,null,null,"2（",null,null,null,null,"）棄権"]
[null,null,null,null,null,null,null,null,null,null,null,null,"1",null,"退院",null,null,"死亡等",null,null,null,null,null,null,null,null,null,null,null,null,null,null,"1",null,"退院",null,null,"死亡等"]
[null,null,null,null,null,null,null,null,null,null,null,null,"2（",null,null,null,null,"）棄権",null,null,null,null,null,null,null,null,null,null,null,null,null,null,"2（",null,null,null,null,"）棄権"]
[]
[]
[]
[]
["３",null,null,"投票が済んでいない者の氏名等（⑦の該当者）"]
["選 挙 人 氏 名",null,null,null,null,null,null,null,null,null,null,null,"理　　　　由",null,null,null,null,null,null,null,"選 挙 人 氏 名",null,null,null,null,null,null,null,null,null,null,null,"理　　　　由"]
[null,null,null,null,null,null,null,null,null,null,null,null,null,null,null,null,null,null,null,null,null,null,null,null,null,null,null,null,null,null,null,null,null,null,null,null,null,null,null,null,null,"◀選挙人氏名を入力"]
[null,null,null,null,null,null,null,null,null,null,null,null,null,null,null,null,null,null,null,null,null,null,null,null,null,null,null,null,null,null,null,null,null,null,null,null,null,null,null,null,null,"◀理由を入力"]
[]
[]
[]
[]
[]
[]
[]
[]
[]
["※　送致内訳を記入した後、一部を投票用紙とともに送致してください。"]

{"sheet":"⑥代理投票報告書(入力用)","index":12,"n_rows":260,"n_cols":46,"rows_kept":260,"cut":false,"hidden":false,"merged":[[234,9,237,10],[238,9,241,10],[242,9,245,10],[246,9,249,10],[250,9,253,10],[187,9,190,10],[198,9,201,10],[202,9,205,10],[206,9,209,10],[210,9,213,10],[218,9,221,10],[222,9,225,10],[226,9,229,10],[230,9,233,10],[151,9,154,10],[155,9,158,10],[159,9,162,10],[163,9,166,10],[167,9,170,10],[171,9,174,10],[175,9,178,10],[179,9,182,10],[183,9,186,10],[84,9,87,10],[88,9,91,10],[92,9,95,10],[96,9,99,10],[100,9,103,10],[135,9,138,10],[139,9,142,10],[143,9,146,10],[147,9,150,10],[29,9,32,10],[33,9,36,10],[37,9,40,10],[41,9,44,10],[45,9,48,10],[49,9,52,10],[120,12,120,16],[123,12,123,16],[131,12,131,16],[72,12,72,16],[75,12,75,16],[81,11,82,16],[97,11,98,16],[113,11,114,16],[53,9,56,10],[64,9,67,10],[120,9,123,10],[83,12,83,16],[88,12,88,16],[91,12,91,16],[112,9,115,10],[116,9,119,10],[68,9,71,10],[72,9,75,10],[135,12,135,16],[138,12,138,16],[139,12,139,16],[142,12,142,16],[143,12,143,16],[14,31,15,36],[16,31,16,33],[14,37,16,42],[33,12,33,16],[36,12,36,16],[41,12,41,16],[44,12,44,16],[55,17,56,24],[56,37,56,42],[53,12,53,16],[56,12,56,16],[67,37,67,42],[63,31,63,33],[63,34,63,36],[73,11,74,16],[73,37,74,42],[74,17,75,24],[75,37,75,42],[21,25,24,27],[14,1,16,8],[17,17,18,24],[16,28,16,30],[16,34,16,36],[0,1,0,42],[2,1,2,6],[9,17,11,31],[12,41,12,42],[14,9,16,10],[14,11,16,16],[14,17,16,24],[14,25,15,30],[16,25,16,27],[17,12,17,16],[5,26,6,42],[7,28,7,31],[7,32,7,42],[17,9,20,10],[19,17,20,24],[20,37,20,42],[21,28,24,30],[21,31,24,33],[17,25,20,27],[18,37,19,42],[17,37,17,42],[17,1,20,8],[18,11,19,16],[17,34,20,36],[17,31,20,33],[17,28,20,30],[20,12,20,16],[21,12,21,16],[25,1,28,8],[25,17,26,24],[25,25,28,27],[25,28,28,30],[21,34,24,36],[21,37,21,42],[22,11,23,16],[22,37,23,42],[23,17,24,24],[24,37,24,42],[24,12,24,16],[25,12,25,16],[28,12,28,16],[21,9,24,10],[25,9,28,10],[25,31,28,33],[25,34,28,36],[25,37,25,42],[26,11,27,16],[26,37,27,42],[27,17,28,24],[28,37,28,42],[21,1,24,8],[21,17,22,24],[33,1,36,8],[33,17,34,24],[33,25,36,27],[33,28,36,30],[29,31,32,33],[29,34,32,36],[29,37,29,42],[30,11,31,16],[30,37,31,42],[31,17,32,24],[32,37,32,42],[29,1,32,8],[29,17,30,24],[29,25,32,27],[29,28,32,30],[29,12,29,16],[32,12,32,16],[33,31,36,33],[33,34,36,36],[33,37,33,42],[34,11,35,16],[34,37,35,42],[35,17,36,24],[36,37,36,42],[41,1,44,8],[41,17,42,24],[41,25,44,27],[41,28,44,30],[37,31,40,33],[37,34,40,36],[37,37,37,42],[38,11,39,16],[38,37,39,42],[39,17,40,24],[40,37,40,42],[37,1,40,8],[37,17,38,24],[37,25,40,27],[37,28,40,30],[37,12,37,16],[40,12,40,16],[41,31,44,33],[41,34,44,36],[41,37,41,42],[42,11,43,16],[42,37,43,42],[43,17,44,24],[44,37,44,42],[53,1,56,8],[53,17,54,24],[53,25,56,27],[53,28,56,30],[45,31,48,33],[45,34,48,36],[45,37,45,42],[46,11,47,16],[46,37,47,42],[47,17,48,24],[48,37,48,42],[45,1,48,8],[45,17,46,24],[45,25,48,27],[45,28,48,30],[45,12,45,16],[48,12,48,16],[53,31,56,33],[53,34,56,36],[53,37,53,42],[54,11,55,16],[54,37,55,42],[49,31,52,33],[49,34,52,36],[64,1,67,8],[64,17,65,24],[64,25,67,27],[64,28,67,30],[64,31,67,33],[64,34,67,36],[59,41,59,42],[61,1,63,8],[61,9,63,10],[61,11,63,16],[61,17,63,24],[61,25,62,30],[61,31,62,36],[61,37,63,42],[63,25,63,27],[63,28,63,30],[64,12,64,16],[67,12,67,16],[64,37,64,42],[65,11,66,16],[65,37,66,42],[66,17,67,24],[83,37,83,42],[80,12,80,16],[72,1,75,8],[72,17,73,24],[72,25,75,27],[72,28,75,30],[68,31,71,33],[68,34,71,36],[68,37,68,42],[69,11,70,16],[69,37,70,42],[70,17,71,24],[71,37,71,42],[68,1,71,8],[68,17,69,24],[68,25,71,27],[68,28,71,30],[68,12,68,16],[71,12,71,16],[72,31,75,33],[72,34,75,36],[72,37,72,42],[76,9,79,10],[80,9,83,10],[90,17,91,24],[91,37,91,42],[80,1,83,8],[80,17,81,24],[80,25,83,27],[80,28,83,30],[76,31,79,33],[76,34,79,36],[76,37,76,42],[77,11,78,16],[77,37,78,42],[78,17,79,24],[79,37,79,42],[76,1,79,8],[76,17,77,24],[76,25,79,27],[76,28,79,30],[76,12,76,16],[79,12,79,16],[80,31,83,33],[80,34,83,36],[80,37,80,42],[81,37,82,42],[82,17,83,24],[92,31,95,33],[92,34,95,36],[88,1,91,8],[88,17,89,24],[88,25,91,27],[88,28,91,30],[84,31,87,33],[84,34,87,36],[84,37,84,42],[85,11,86,16],[85,37,86,42],[86,17,87,24],[87,37,87,42],[84,1,87,8],[84,17,85,24],[84,25,87,27],[84,28,87,30],[84,12,84,16],[87,12,87,16],[88,31,91,33],[88,34,91,36],[88,37,88,42],[89,11,90,16],[89,37,90,42],[105,37,106,42],[106,17,107,24],[107,37,107,42],[104,12,104,16],[107,12,107,16],[104,9,107,10],[92,37,92,42],[93,11,94,16],[93,37,94,42],[94,17,95,24],[95,37,95,42],[96,37,96,42],[97,37,98,42],[98,17,99,24],[99,37,99,42],[96,12,96,16],[99,12,99,16],[92,17,93,24],[92,25,95,27],[92,28,95,30],[92,12,92,16],[95,12,95,16],[96,31,99,33],[96,34,99,36],[100,37,100,42],[101,11,102,16],[101,37,102,42],[102,17,103,24],[103,37,103,42],[100,1,103,8],[100,17,101,24],[100,25,103,27],[104,37,104,42],[108,37,108,42],[109,11,110,16],[109,37,110,42],[110,17,111,24],[111,37,111,42],[108,1,111,8],[108,17,109,24],[108,25,111,27],[108,28,111,30],[108,12,108,16],[111,12,111,16],[108,9,111,10],[113,37,114,42],[114,17,115,24],[115,37,115,42],[112,12,112,16],[115,12,115,16],[116,37,116,42],[117,11,118,16],[117,37,118,42],[118,17,119,24],[119,37,119,42],[112,17,113,24],[112,25,115,27],[112,28,115,30],[112,31,115,33],[112,34,115,36],[112,37,112,42],[120,37,120,42],[121,11,122,16],[121,37,122,42],[122,17,123,24],[123,37,123,42],[116,1,119,8],[116,17,117,24],[116,25,119,27],[116,28,119,30],[116,12,116,16],[119,12,119,16],[120,1,123,8],[120,17,121,24],[120,25,123,27],[120,28,123,30],[116,31,119,33],[116,34,119,36],[120,31,123,33],[120,34,123,36],[49,1,52,8],[49,17,50,24],[49,25,52,27],[49,28,52,30],[112,1,115,8],[108,31,111,33],[108,34,111,36],[100,28,103,30],[100,12,100,16],[103,12,103,16],[104,31,107,33],[104,34,107,36],[96,1,99,8],[104,1,107,8],[104,17,105,24],[104,25,107,27],[104,28,107,30],[100,31,103,33],[100,34,103,36],[105,11,106,16],[92,1,95,8],[96,17,97,24],[96,25,99,27],[96,28,99,30],[49,37,49,42],[50,11,51,16],[50,37,51,42],[51,17,52,24],[52,37,52,42],[49,12,49,16],[52,12,52,16],[131,1,134,8],[131,17,132,24],[131,25,134,27],[131,28,134,30],[131,31,134,33],[131,34,134,36],[126,41,126,42],[128,1,130,8],[128,9,130,10],[128,11,130,16],[128,17,130,24],[128,25,129,30],[128,31,129,36],[128,37,130,42],[130,25,130,27],[130,28,130,30],[131,37,131,42],[132,11,133,16],[132,37,133,42],[133,17,134,24],[134,37,134,42],[130,31,130,33],[130,34,130,36],[134,12,134,16],[131,9,134,10],[139,1,142,8],[139,17,140,24],[139,25,142,27],[139,28,142,30],[135,31,138,33],[135,34,138,36],[135,37,135,42],[136,11,137,16],[136,37,137,42],[137,17,138,24],[138,37,138,42],[135,1,138,8],[135,17,136,24],[135,25,138,27],[135,28,138,30],[139,31,142,33],[139,34,142,36],[139,37,139,42],[140,11,141,16],[140,37,141,42],[141,17,142,24],[142,37,142,42],[147,1,150,8],[147,17,148,24],[147,25,150,27],[147,28,150,30],[143,31,146,33],[143,34,146,36],[143,37,143,42],[144,11,145,16],[144,37,145,42],[145,17,146,24],[146,37,146,42],[143,1,146,8],[143,17,144,24],[143,25,146,27],[143,28,146,30],[146,12,146,16],[147,12,147,16],[147,31,150,33],[147,34,150,36],[147,37,147,42],[148,11,149,16],[148,37,149,42],[149,17,150,24],[150,37,150,42],[150,12,150,16],[155,1,158,8],[155,17,156,24],[155,25,158,27],[155,28,158,30],[151,31,154,33],[151,34,154,36],[151,37,151,42],[152,11,153,16],[152,37,153,42],[153,17,154,24],[154,37,154,42],[151,1,154,8],[151,17,152,24],[151,25,154,27],[151,28,154,30],[151,12,151,16],[154,12,154,16],[155,31,158,33],[155,34,158,36],[155,37,155,42],[156,11,157,16],[156,37,157,42],[157,17,158,24],[158,37,158,42],[155,12,155,16],[158,12,158,16],[163,1,166,8],[163,17,164,24],[163,25,166,27],[163,28,166,30],[159,31,162,33],[159,34,162,36],[159,37,159,42],[160,11,161,16],[160,37,161,42],[161,17,162,24],[162,37,162,42],[159,1,162,8],[159,17,160,24],[159,25,162,27],[159,28,162,30],[159,12,159,16],[162,12,162,16],[163,31,166,33],[163,34,166,36],[163,37,163,42],[164,11,165,16],[164,37,165,42],[165,17,166,24],[166,37,166,42],[163,12,163,16],[166,12,166,16],[171,1,174,8],[171,17,172,24],[171,25,174,27],[171,28,174,30],[167,31,170,33],[167,34,170,36],[167,37,167,42],[168,11,169,16],[168,37,169,42],[169,17,170,24],[170,37,170,42],[167,1,170,8],[167,17,168,24],[167,25,170,27],[167,28,170,30],[167,12,167,16],[170,12,170,16],[171,31,174,33],[171,34,174,36],[171,37,171,42],[172,11,173,16],[172,37,173,42],[173,17,174,24],[174,37,174,42],[171,12,171,16],[174,12,174,16],[179,1,182,8],[179,17,180,24],[179,25,182,27],[179,28,182,30],[175,31,178,33],[175,34,178,36],[175,37,175,42],[176,11,177,16],[176,37,177,42],[177,17,178,24],[178,37,178,42],[175,1,178,8],[175,17,176,24],[175,25,178,27],[175,28,178,30],[175,12,175,16],[178,12,178,16],[179,31,182,33],[179,34,182,36],[179,37,179,42],[180,11,181,16],[180,37,181,42],[181,17,182,24],[182,37,182,42],[179,12,179,16],[182,12,182,16],[187,1,190,8],[187,17,188,24],[187,25,190,27],[187,28,190,30],[183,31,186,33],[183,34,186,36],[183,37,183,42],[184,11,185,16],[184,37,185,42],[185,17,186,24],[186,37,186,42],[183,1,186,8],[183,17,184,24],[183,25,186,27],[183,28,186,30],[183,12,183,16],[186,12,186,16],[187,31,190,33],[187,34,190,36],[187,37,187,42],[188,11,189,16],[188,37,189,42],[189,17,190,24],[190,37,190,42],[187,12,187,16],[190,12,190,16],[198,1,201,8],[198,17,199,24],[198,25,201,27],[198,28,201,30],[198,31,201,33],[198,34,201,36],[193,41,193,42],[195,1,197,8],[195,9,197,10],[195,11,197,16],[195,17,197,24],[195,25,196,30],[195,31,196,36],[195,37,197,42],[197,25,197,27],[197,28,197,30],[198,12,198,16],[201,12,201,16],[198,37,198,42],[199,11,200,16],[199,37,200,42],[200,17,201,24],[201,37,201,42],[197,31,197,33],[197,34,197,36],[206,1,209,8],[206,17,207,24],[206,25,209,27],[206,28,209,30],[202,31,205,33],[202,34,205,36],[202,37,202,42],[203,11,204,16],[203,37,204,42],[204,17,205,24],[205,37,205,42],[202,1,205,8],[202,17,203,24],[202,25,205,27],[202,28,205,30],[202,12,202,16],[205,12,205,16],[206,31,209,33],[206,34,209,36],[206,37,206,42],[207,11,208,16],[207,37,208,42],[208,17,209,24],[209,37,209,42],[206,12,206,16],[209,12,209,16],[214,1,217,8],[214,17,215,24],[214,25,217,27],[214,28,217,30],[210,31,213,33],[210,34,213,36],[210,37,210,42],[211,11,212,16],[211,37,212,42],[212,17,213,24],[213,37,213,42],[210,1,213,8],[210,17,211,24],[210,25,213,27],[210,28,213,30],[210,12,210,16],[213,12,213,16],[214,31,217,33],[214,34,217,36],[214,37,214,42],[215,11,216,16],[215,37,216,42],[216,17,217,24],[217,37,217,42],[214,12,214,16],[217,12,217,16],[214,9,217,10],[222,1,225,8],[222,17,223,24],[222,25,225,27],[222,28,225,30],[218,31,221,33],[218,34,221,36],[218,37,218,42],[219,11,220,16],[219,37,220,42],[220,17,221,24],[221,37,221,42],[218,1,221,8],[218,17,219,24],[218,25,221,27],[218,28,221,30],[218,12,218,16],[221,12,221,16],[222,31,225,33],[222,34,225,36],[222,37,222,42],[223,11,224,16],[223,37,224,42],[224,17,225,24],[225,37,225,42],[222,12,222,16],[225,12,225,16],[230,1,233,8],[230,17,231,24],[230,25,233,27],[230,28,233,30],[226,31,229,33],[226,34,229,36],[226,37,226,42],[227,11,228,16],[227,37,228,42],[228,17,229,24],[229,37,229,42],[226,1,229,8],[226,17,227,24],[226,25,229,27],[226,28,229,30],[226,12,226,16],[229,12,229,16],[230,31,233,33],[230,34,233,36],[230,37,230,42],[231,11,232,16],[231,37,232,42],[232,17,233,24],[233,37,233,42],[230,12,230,16],[233,12,233,16],[238,1,241,8],[238,17,239,24],[238,25,241,27],[238,28,241,30],[234,31,237,33],[234,34,237,36],[234,37,234,42],[235,11,236,16],[235,37,236,42],[236,17,237,24],[237,37,237,42],[234,1,237,8],[234,17,235,24],[234,25,237,27],[234,28,237,30],[234,12,234,16],[237,12,237,16],[238,31,241,33],[238,34,241,36],[238,37,238,42],[239,11,240,16],[239,37,240,42],[240,17,241,24],[241,37,241,42],[238,12,238,16],[241,12,241,16],[246,1,249,8],[246,17,247,24],[246,25,249,27],[246,28,249,30],[242,31,245,33],[242,34,245,36],[242,37,242,42],[243,11,244,16],[243,37,244,42],[244,17,245,24],[245,37,245,42],[242,1,245,8],[242,17,243,24],[242,25,245,27],[242,28,245,30],[242,12,242,16],[245,12,245,16],[246,31,249,33],[246,34,249,36],[246,37,246,42],[247,11,248,16],[247,37,248,42],[248,17,249,24],[249,37,249,42],[246,12,246,16],[249,12,249,16],[250,1,253,8],[250,17,251,24],[250,25,253,27],[250,28,253,30],[250,12,250,16],[253,12,253,16],[254,1,257,8],[254,17,255,24],[254,25,257,27],[254,28,257,30],[254,37,254,42],[254,31,257,33],[254,34,257,36],[254,9,257,10],[250,31,253,33],[250,34,253,36],[250,37,250,42],[251,11,252,16],[251,37,252,42],[252,17,253,24],[253,37,253,42],[255,11,256,16],[255,37,256,42],[256,17,257,24],[257,37,257,42],[254,12,254,16],[257,12,257,16]]}
[null,"代理投票報告書",null,null,null,null,null,null,null,null,null,null,null,null,null,null,null,null,null,null,null,null,null,null,null,null,null,null,null,null,null,null,null,null,null,null,null,null,null,null,null,null,null,null,null,"目次"]
[]
[null,"小樽",null,null,null,null,null,"市（区・町・村）"]
[null,"選挙管理委員会　委員長　様"]
[]
[null,null,null,null,null,null,null,null,null,null,null,null,null,null,null,null,null,null,null,null,"指定施設名",null,null,null,null,null,{"$f":"依頼受簿!B2","v":0},null,null,null,null,null,null,null,null,null,null,null,null,null,null,null,null,"※　依頼受簿で選択した指定施設名が自動で反映されます"]
[]
[null,null,null,null,null,null,null,null,null,null,null,null,null,null,null,null,null,null,null,null,"不在者投票管理者",null,null,null,null,null,null,null,{"$f":"②請求書!V13","v":"施設長"},null,null,null,{"$f":"②請求書!AA13","v":"小樽丸　はなお"},null,null,null,null,null,null,null,null,null,null,"※　請求書で入力した不在者投票管理者氏名等が自動で反映されます"]
[]
[null,null,null,null,null,null,null,null,null,null,null,null,null,null,null,null,null,{"$f":"IF(入力!B3=1,VLOOKUP(入力!B3,入力!D1:G7,2,FALSE)&CHAR(10)&VLOOKUP(入力!B3,入力!D1:G7,3,FALSE)&CHAR(10)&VLOOKUP(入力!B3,入力!D1:G7,4,FALSE),IF(OR(入力!B3=2,入力!B3=3),VLOOKUP(入力!B3,入力!D1:G7,2,FALSE)&CHAR(10)&VLOOKUP(入力!B3,入力!D1:G7,3,FALSE),VLOOKUP(入力!B3,入力!D1:G7,2,FALSE)))","v":"衆議院小選挙区選出議員選挙\n衆議院比例代表選出議員選挙\n最高裁判所裁判官国民審査"}]
[null,"選挙名：",null,null,null,{"$f":"DBCS(TEXT(入力!B2,\"ggge年m月d日\"))&\"執行\"","v":"令和８年２月８日執行"}]
[]
[null,null,null,null,null,null,null,null,null,null,null,null,null,null,null,null,null,null,null,null,null,null,null,null,null,null,null,null,null,null,null,null,null,null,null,null,null,null,"Ｎｏ．",null,null,1]
[]
[null,"選挙人氏名",null,null,null,null,null,null,null,"性\n別",null,"代理投票\nの事由",null,null,null,null,null,"補助者の氏名",null,null,null,null,null,null,null,"投票管理者\nの決定",null,null,null,null,null,"投票立会人\nの決定",null,null,null,null,null,"摘　　要"]
[]
[null,null,null,null,null,null,null,null,null,null,null,null,null,null,null,null,null,null,null,null,null,null,null,null,null,"承認",null,null,"拒否",null,null,"承認",null,null,"拒否"]
[null,null,null,null,null,null,null,null,null,null,null,null,"身　　体",null,null,null,null,null,null,null,null,null,null,null,null,null,null,null,null,null,null,null,null,null,null,null,null,"小選挙区",null,null,null,null,null,"◀代理投票の事由について該当する事由の前に〇をつけます。"]
[null,null,null,null,null,null,null,null,null,null,null,"・",null,null,null,null,null,null,null,null,null,null,null,null,null,null,null,null,null,null,null,null,null,null,null,null,null,"比例代表"]
[]
[1,null,null,null,null,null,null,null,null,null,null,null,"読み書き",null,null,null,null,null,null,null,null,null,null,null,null,null,null,null,null,null,null,null,null,null,null,null,null,"国民審査",null,null,null,null,null,"◀性別はプルダウンかに男又は女を選択します。"]
[null,null,null,null,null,null,null,null,null,null,null,null,"身　　体",null,null,null,null,null,null,null,null,null,null,null,null,null,null,null,null,null,null,null,null,null,null,null,null,{"$f":"$AL$18","v":"小選挙区"}]
[null,null,null,null,null,null,null,null,null,null,null,"・",null,null,null,null,null,null,null,null,null,null,null,null,null,null,null,null,null,null,null,null,null,null,null,null,null,{"$f":"$AL$19","v":"比例代表"}]
[]
[2,null,null,null,null,null,null,null,null,null,null,null,"読み書き",null,null,null,null,null,null,null,null,null,null,null,null,null,null,null,null,null,null,null,null,null,null,null,null,{"$f":"$AL$21","v":"国民審査"}]
[null,null,null,null,null,null,null,null,null,null,null,null,"身　　体",null,null,null,null,null,null,null,null,null,null,null,null,null,null,null,null,null,null,null,null,null,null,null,null,{"$f":"$AL$18","v":"小選挙区"}]
[null,null,null,null,null,null,null,null,null,null,null,"・",null,null,null,null,null,null,null,null,null,null,null,null,null,null,null,null,null,null,null,null,null,null,null,null,null,{"$f":"$AL$19","v":"比例代表"}]
[]
[3,null,null,null,null,null,null,null,null,null,null,null,"読み書き",null,null,null,null,null,null,null,null,null,null,null,null,null,null,null,null,null,null,null,null,null,null,null,null,{"$f":"$AL$21","v":"国民審査"}]
[null,null,null,null,null,null,null,null,null,null,null,null,"身　　体",null,null,null,null,null,null,null,null,null,null,null,null,null,null,null,null,null,null,null,null,null,null,null,null,{"$f":"$AL$18","v":"小選挙区"}]
[null,null,null,null,null,null,null,null,null,null,null,"・",null,null,null,null,null,null,null,null,null,null,null,null,null,null,null,null,null,null,null,null,null,null,null,null,null,{"$f":"$AL$19","v":"比例代表"}]
[]
[4,null,null,null,null,null,null,null,null,null,null,null,"読み書き",null,null,null,null,null,null,null,null,null,null,null,null,null,null,null,null,null,null,null,null,null,null,null,null,{"$f":"$AL$21","v":"国民審査"}]
[null,null,null,null,null,null,null,null,null,null,null,null,"身　　体",null,null,null,null,null,null,null,null,null,null,null,null,null,null,null,null,null,null,null,null,null,null,null,null,{"$f":"$AL$18","v":"小選挙区"}]
[null,null,null,null,null,null,null,null,null,null,null,"・",null,null,null,null,null,null,null,null,null,null,null,null,null,null,null,null,null,null,null,null,null,null,null,null,null,{"$f":"$AL$19","v":"比例代表"}]
[]
[5,null,null,null,null,null,null,null,null,null,null,null,"読み書き",null,null,null,null,null,null,null,null,null,null,null,null,null,null,null,null,null,null,null,null,null,null,null,null,{"$f":"$AL$21","v":"国民審査"}]
[null,null,null,null,null,null,null,null,null,null,null,null,"身　　体",null,null,null,null,null,null,null,null,null,null,null,null,null,null,null,null,null,null,null,null,null,null,null,null,{"$f":"$AL$18","v":"小選挙区"}]
[null,null,null,null,null,null,null,null,null,null,null,"・",null,null,null,null,null,null,null,null,null,null,null,null,null,null,null,null,null,null,null,null,null,null,null,null,null,{"$f":"$AL$19","v":"比例代表"}]
[]
[6,null,null,null,null,null,null,null,null,null,null,null,"読み書き",null,null,null,null,null,null,null,null,null,null,null,null,null,null,null,null,null,null,null,null,null,null,null,null,{"$f":"$AL$21","v":"国民審査"}]
[null,null,null,null,null,null,null,null,null,null,null,null,"身　　体",null,null,null,null,null,null,null,null,null,null,null,null,null,null,null,null,null,null,null,null,null,null,null,null,{"$f":"$AL$18","v":"小選挙区"}]
[null,null,null,null,null,null,null,null,null,null,null,"・",null,null,null,null,null,null,null,null,null,null,null,null,null,null,null,null,null,null,null,null,null,null,null,null,null,{"$f":"$AL$19","v":"比例代表"}]
[]
[7,null,null,null,null,null,null,null,null,null,null,null,"読み書き",null,null,null,null,null,null,null,null,null,null,null,null,null,null,null,null,null,null,null,null,null,null,null,null,{"$f":"$AL$21","v":"国民審査"}]
[null,null,null,null,null,null,null,null,null,null,null,null,"身　　体",null,null,null,null,null,null,null,null,null,null,null,null,null,null,null,null,null,null,null,null,null,null,null,null,{"$f":"$AL$18","v":"小選挙区"}]
[null,null,null,null,null,null,null,null,null,null,null,"・",null,null,null,null,null,null,null,null,null,null,null,null,null,null,null,null,null,null,null,null,null,null,null,null,null,{"$f":"$AL$19","v":"比例代表"}]
[]
[8,null,null,null,null,null,null,null,null,null,null,null,"読み書き",null,null,null,null,null,null,null,null,null,null,null,null,null,null,null,null,null,null,null,null,null,null,null,null,{"$f":"$AL$21","v":"国民審査"}]
[null,null,null,null,null,null,null,null,null,null,null,null,"身　　体",null,null,null,null,null,null,null,null,null,null,null,null,null,null,null,null,null,null,null,null,null,null,null,null,{"$f":"$AL$18","v":"小選挙区"}]
[null,null,null,null,null,null,null,null,null,null,null,"・",null,null,null,null,null,null,null,null,null,null,null,null,null,null,null,null,null,null,null,null,null,null,null,null,null,{"$f":"$AL$19","v":"比例代表"}]
[]
[9,null,null,null,null,null,null,null,null,null,null,null,"読み書き",null,null,null,null,null,null,null,null,null,null,null,null,null,null,null,null,null,null,null,null,null,null,null,null,{"$f":"$AL$21","v":"国民審査"}]
[null,null,null,null,null,null,null,null,null,null,null,null,"身　　体",null,null,null,null,null,null,null,null,null,null,null,null,null,null,null,null,null,null,null,null,null,null,null,null,{"$f":"$AL$18","v":"小選挙区"}]
[null,null,null,null,null,null,null,null,null,null,null,"・",null,null,null,null,null,null,null,null,null,null,null,null,null,null,null,null,null,null,null,null,null,null,null,null,null,{"$f":"$AL$19","v":"比例代表"}]
[]
[10,null,null,null,null,null,null,null,null,null,null,null,"読み書き",null,null,null,null,null,null,null,null,null,null,null,null,null,null,null,null,null,null,null,null,null,null,null,null,{"$f":"$AL$21","v":"国民審査"}]
[null,null,"備　　考",null,null,null,null,"１　投票管理者の決定及び投票立会人の意見は、それぞれ該当欄に捺印すること。"]
[null,null,null,null,null,null,null,"２　代理投票の仮投票の場合は、摘要欄に「仮投票」と記載すること。"]
[null,null,null,null,null,null,null,null,null,null,null,null,null,null,null,null,null,null,null,null,null,null,null,null,null,null,null,null,null,null,null,null,null,null,null,null,null,null,"Ｎｏ．",null,null,2]
[]
[null,"選挙人氏名",null,null,null,null,null,null,null,"性\n別",null,"代理投票\nの事由",null,null,null,null,null,"補助者の氏名",null,null,null,null,null,null,null,"投票管理者\nの決定",null,null,null,null,null,"投票立会人\nの決定",null,null,null,null,null,"摘　　要"]
[]
[null,null,null,null,null,null,null,null,null,null,null,null,null,null,null,null,null,null,null,null,null,null,null,null,null,"承認",null,null,"拒否",null,null,"承認",null,null,"拒否"]
[null,null,null,null,null,null,null,null,null,null,null,null,"身　　体",null,null,null,null,null,null,null,null,null,null,null,null,null,null,null,null,null,null,null,null,null,null,null,null,{"$f":"$AL$18","v":"小選挙区"}]
[null,null,null,null,null,null,null,null,null,null,null,"・",null,null,null,null,null,null,null,null,null,null,null,null,null,null,null,null,null,null,null,null,null,null,null,null,null,{"$f":"$AL$19","v":"比例代表"}]
[]
[11,null,null,null,null,null,null,null,null,null,null,null,"読み書き",null,null,null,null,null,null,null,null,null,null,null,null,null,null,null,null,null,null,null,null,null,null,null,null,{"$f":"$AL$21","v":"国民審査"}]
[null,null,null,null,null,null,null,null,null,null,null,null,"身　　体",null,null,null,null,null,null,null,null,null,null,null,null,null,null,null,null,null,null,null,null,null,null,null,null,{"$f":"$AL$18","v":"小選挙区"}]
[null,null,null,null,null,null,null,null,null,null,null,"・",null,null,null,null,null,null,null,null,null,null,null,null,null,null,null,null,null,null,null,null,null,null,null,null,null,{"$f":"$AL$19","v":"比例代表"}]
[]
[12,null,null,null,null,null,null,null,null,null,null,null,"読み書き",null,null,null,null,null,null,null,null,null,null,null,null,null,null,null,null,null,null,null,null,null,null,null,null,{"$f":"$AL$21","v":"国民審査"}]
[null,null,null,null,null,null,null,null,null,null,null,null,"身　　体",null,null,null,null,null,null,null,null,null,null,null,null,null,null,null,null,null,null,null,null,null,null,null,null,{"$f":"$AL$18","v":"小選挙区"}]
[null,null,null,null,null,null,null,null,null,null,null,"・",null,null,null,null,null,null,null,null,null,null,null,null,null,null,null,null,null,null,null,null,null,null,null,null,null,{"$f":"$AL$19","v":"比例代表"}]
[]
[13,null,null,null,null,null,null,null,null,null,null,null,"読み書き",null,null,null,null,null,null,null,null,null,null,null,null,null,null,null,null,null,null,null,null,null,null,null,null,{"$f":"$AL$21","v":"国民審査"}]
[null,null,null,null,null,null,null,null,null,null,null,null,"身　　体",null,null,null,null,null,null,null,null,null,null,null,null,null,null,null,null,null,null,null,null,null,null,null,null,{"$f":"$AL$18","v":"小選挙区"}]
[null,null,null,null,null,null,null,null,null,null,null,"・",null,null,null,null,null,null,null,null,null,null,null,null,null,null,null,null,null,null,null,null,null,null,null,null,null,{"$f":"$AL$19","v":"比例代表"}]
[]
[14,null,null,null,null,null,null,null,null,null,null,null,"読み書き",null,null,null,null,null,null,null,null,null,null,null,null,null,null,null,null,null,null,null,null,null,null,null,null,{"$f":"$AL$21","v":"国民審査"}]
[null,null,null,null,null,null,null,null,null,null,null,null,"身　　体",null,null,null,null,null,null,null,null,null,null,null,null,null,null,null,null,null,null,null,null,null,null,null,null,{"$f":"$AL$18","v":"小選挙区"}]
[null,null,null,null,null,null,null,null,null,null,null,"・",null,null,null,null,null,null,null,null,null,null,null,null,null,null,null,null,null,null,null,null,null,null,null,null,null,{"$f":"$AL$19","v":"比例代表"}]
[]
[15,null,null,null,null,null,null,null,null,null,null,null,"読み書き",null,null,null,null,null,null,null,null,null,null,null,null,null,null,null,null,null,null,null,null,null,null,null,null,{"$f":"$AL$21","v":"国民審査"}]
[null,null,null,null,null,null,null,null,null,null,null,null,"身　　体",null,null,null,null,null,null,null,null,null,null,null,null,null,null,null,null,null,null,null,null,null,null,null,null,{"$f":"$AL$18","v":"小選挙区"}]
[null,null,null,null,null,null,null,null,null,null,null,"・",null,null,null,null,null,null,null,null,null,null,null,null,null,null,null,null,null,null,null,null,null,null,null,null,null,{"$f":"$AL$19","v":"比例代表"}]
[]
[16,null,null,null,null,null,null,null,null,null,null,null,"読み書き",null,null,null,null,null,null,null,null,null,null,null,null,null,null,null,null,null,null,null,null,null,null,null,null,{"$f":"$AL$21","v":"国民審査"}]
[null,null,null,null,null,null,null,null,null,null,null,null,"身　　体",null,null,null,null,null,null,null,null,null,null,null,null,null,null,null,null,null,null,null,null,null,null,null,null,{"$f":"$AL$18","v":"小選挙区"}]
[null,null,null,null,null,null,null,null,null,null,null,"・",null,null,null,null,null,null,null,null,null,null,null,null,null,null,null,null,null,null,null,null,null,null,null,null,null,{"$f":"$AL$19","v":"比例代表"}]
[]
[17,null,null,null,null,null,null,null,null,null,null,null,"読み書き",null,null,null,null,null,null,null,null,null,null,null,null,null,null,null,null,null,null,null,null,null,null,null,null,{"$f":"$AL$21","v":"国民審査"}]
[null,null,null,null,null,null,null,null,null,null,null,null,"身　　体",null,null,null,null,null,null,null,null,null,null,null,null,null,null,null,null,null,null,null,null,null,null,null,null,{"$f":"$AL$18","v":"小選挙区"}]
[null,null,null,null,null,null,null,null,null,null,null,"・",null,null,null,null,null,null,null,null,null,null,null,null,null,null,null,null,null,null,null,null,null,null,null,null,null,{"$f":"$AL$19","v":"比例代表"}]
[]
[18,null,null,null,null,null,null,null,null,null,null,null,"読み書き",null,null,null,null,null,null,null,null,null,null,null,null,null,null,null,null,null,null,null,null,null,null,null,null,{"$f":"$AL$21","v":"国民審査"}]
[null,null,null,null,null,null,null,null,null,null,null,null,"身　　体",null,null,null,null,null,null,null,null,null,null,null,null,null,null,null,null,null,null,null,null,null,null,null,null,{"$f":"$AL$18","v":"小選挙区"}]
[null,null,null,null,null,null,null,null,null,null,null,"・",null,null,null,null,null,null,null,null,null,null,null,null,null,null,null,null,null,null,null,null,null,null,null,null,null,{"$f":"$AL$19","v":"比例代表"}]
[]
[19,null,null,null,null,null,null,null,null,null,null,null,"読み書き",null,null,null,null,null,null,null,null,null,null,null,null,null,null,null,null,null,null,null,null,null,null,null,null,{"$f":"$AL$21","v":"国民審査"}]
[null,null,null,null,null,null,null,null,null,null,null,null,"身　　体",null,null,null,null,null,null,null,null,null,null,null,null,null,null,null,null,null,null,null,null,null,null,null,null,{"$f":"$AL$18","v":"小選挙区"}]
[null,null,null,null,null,null,null,null,null,null,null,"・",null,null,null,null,null,null,null,null,null,null,null,null,null,null,null,null,null,null,null,null,null,null,null,null,null,{"$f":"$AL$19","v":"比例代表"}]
[]
[20,null,null,null,null,null,null,null,null,null,null,null,"読み書き",null,null,null,null,null,null,null,null,null,null,null,null,null,null,null,null,null,null,null,null,null,null,null,null,{"$f":"$AL$21","v":"国民審査"}]
[null,null,null,null,null,null,null,null,null,null,null,null,"身　　体",null,null,null,null,null,null,null,null,null,null,null,null,null,null,null,null,null,null,null,null,null,null,null,null,{"$f":"$AL$18","v":"小選挙区"}]
[null,null,null,null,null,null,null,null,null,null,null,"・",null,null,null,null,null,null,null,null,null,null,null,null,null,null,null,null,null,null,null,null,null,null,null,null,null,{"$f":"$AL$19","v":"比例代表"}]
[]
[21,null,null,null,null,null,null,null,null,null,null,null,"読み書き",null,null,null,null,null,null,null,null,null,null,null,null,null,null,null,null,null,null,null,null,null,null,null,null,{"$f":"$AL$21","v":"国民審査"}]
[null,null,null,null,null,null,null,null,null,null,null,null,"身　　体",null,null,null,null,null,null,null,null,null,null,null,null,null,null,null,null,null,null,null,null,null,null,null,null,{"$f":"$AL$18","v":"小選挙区"}]
[null,null,null,null,null,null,null,null,null,null,null,"・",null,null,null,null,null,null,null,null,null,null,null,null,null,null,null,null,null,null,null,null,null,null,null,null,null,{"$f":"$AL$19","v":"比例代表"}]
[]
[22,null,null,null,null,null,null,null,null,null,null,null,"読み書き",null,null,null,null,null,null,null,null,null,null,null,null,null,null,null,null,null,null,null,null,null,null,null,null,{"$f":"$AL$21","v":"国民審査"}]
[null,null,null,null,null,null,null,null,null,null,null,null,"身　　体",null,null,null,null,null,null,null,null,null,null,null,null,null,null,null,null,null,null,null,null,null,null,null,null,{"$f":"$AL$18","v":"小選挙区"}]
[null,null,null,null,null,null,null,null,null,null,null,"・",null,null,null,null,null,null,null,null,null,null,null,null,null,null,null,null,null,null,null,null,null,null,null,null,null,{"$f":"$AL$19","v":"比例代表"}]
[]
[23,null,null,null,null,null,null,null,null,null,null,null,"読み書き",null,null,null,null,null,null,null,null,null,null,null,null,null,null,null,null,null,null,null,null,null,null,null,null,{"$f":"$AL$21","v":"国民審査"}]
[null,null,null,null,null,null,null,null,null,null,null,null,"身　　体",null,null,null,null,null,null,null,null,null,null,null,null,null,null,null,null,null,null,null,null,null,null,null,null,{"$f":"$AL$18","v":"小選挙区"}]
[null,null,null,null,null,null,null,null,null,null,null,"・",null,null,null,null,null,null,null,null,null,null,null,null,null,null,null,null,null,null,null,null,null,null,null,null,null,{"$f":"$AL$19","v":"比例代表"}]
[]
[24,null,null,null,null,null,null,null,null,null,null,null,"読み書き",null,null,null,null,null,null,null,null,null,null,null,null,null,null,null,null,null,null,null,null,null,null,null,null,{"$f":"$AL$21","v":"国民審査"}]
[null,null,null,null,null,null,null,null,null,null,null,null,"身　　体",null,null,null,null,null,null,null,null,null,null,null,null,null,null,null,null,null,null,null,null,null,null,null,null,{"$f":"$AL$18","v":"小選挙区"}]
[null,null,null,null,null,null,null,null,null,null,null,"・",null,null,null,null,null,null,null,null,null,null,null,null,null,null,null,null,null,null,null,null,null,null,null,null,null,{"$f":"$AL$19","v":"比例代表"}]
[]
[25,null,null,null,null,null,null,null,null,null,null,null,"読み書き",null,null,null,null,null,null,null,null,null,null,null,null,null,null,null,null,null,null,null,null,null,null,null,null,{"$f":"$AL$21","v":"国民審査"}]
[null,null,"備　　考",null,null,null,null,"１　投票管理者の決定及び投票立会人の意見は、それぞれ該当欄に捺印すること。"]
[null,null,null,null,null,null,null,"２　代理投票の仮投票の場合は、摘要欄に「仮投票」と記載すること。"]
[null,null,null,null,null,null,null,null,null,null,null,null,null,null,null,null,null,null,null,null,null,null,null,null,null,null,null,null,null,null,null,null,null,null,null,null,null,null,"Ｎｏ．",null,null,3]
[]
[null,"選挙人氏名",null,null,null,null,null,null,null,"性\n別",null,"代理投票\nの事由",null,null,null,null,null,"補助者の氏名",null,null,null,null,null,null,null,"投票管理者\nの決定",null,null,null,null,null,"投票立会人\nの決定",null,null,null,null,null,"摘　　要"]
[]
[null,null,null,null,null,null,null,null,null,null,null,null,null,null,null,null,null,null,null,null,null,null,null,null,null,"承認",null,null,"拒否",null,null,"承認",null,null,"拒否"]
[null,null,null,null,null,null,null,null,null,null,null,null,"身　　体",null,null,null,null,null,null,null,null,null,null,null,null,null,null,null,null,null,null,null,null,null,null,null,null,{"$f":"$AL$18","v":"小選挙区"}]
[null,null,null,null,null,null,null,null,null,null,null,"・",null,null,null,null,null,null,null,null,null,null,null,null,null,null,null,null,null,null,null,null,null,null,null,null,null,{"$f":"$AL$19","v":"比例代表"}]
[]
[26,null,null,null,null,null,null,null,null,null,null,null,"読み書き",null,null,null,null,null,null,null,null,null,null,null,null,null,null,null,null,null,null,null,null,null,null,null,null,{"$f":"$AL$21","v":"国民審査"}]
[null,null,null,null,null,null,null,null,null,null,null,null,"身　　体",null,null,null,null,null,null,null,null,null,null,null,null,null,null,null,null,null,null,null,null,null,null,null,null,{"$f":"$AL$18","v":"小選挙区"}]
[null,null,null,null,null,null,null,null,null,null,null,"・",null,null,null,null,null,null,null,null,null,null,null,null,null,null,null,null,null,null,null,null,null,null,null,null,null,{"$f":"$AL$19","v":"比例代表"}]
[]
[27,null,null,null,null,null,null,null,null,null,null,null,"読み書き",null,null,null,null,null,null,null,null,null,null,null,null,null,null,null,null,null,null,null,null,null,null,null,null,{"$f":"$AL$21","v":"国民審査"}]
[null,null,null,null,null,null,null,null,null,null,null,null,"身　　体",null,null,null,null,null,null,null,null,null,null,null,null,null,null,null,null,null,null,null,null,null,null,null,null,{"$f":"$AL$18","v":"小選挙区"}]
[null,null,null,null,null,null,null,null,null,null,null,"・",null,null,null,null,null,null,null,null,null,null,null,null,null,null,null,null,null,null,null,null,null,null,null,null,null,{"$f":"$AL$19","v":"比例代表"}]
[]
[28,null,null,null,null,null,null,null,null,null,null,null,"読み書き",null,null,null,null,null,null,null,null,null,null,null,null,null,null,null,null,null,null,null,null,null,null,null,null,{"$f":"$AL$21","v":"国民審査"}]
[null,null,null,null,null,null,null,null,null,null,null,null,"身　　体",null,null,null,null,null,null,null,null,null,null,null,null,null,null,null,null,null,null,null,null,null,null,null,null,{"$f":"$AL$18","v":"小選挙区"}]
[null,null,null,null,null,null,null,null,null,null,null,"・",null,null,null,null,null,null,null,null,null,null,null,null,null,null,null,null,null,null,null,null,null,null,null,null,null,{"$f":"$AL$19","v":"比例代表"}]
[]
[29,null,null,null,null,null,null,null,null,null,null,null,"読み書き",null,null,null,null,null,null,null,null,null,null,null,null,null,null,null,null,null,null,null,null,null,null,null,null,{"$f":"$AL$21","v":"国民審査"}]
[null,null,null,null,null,null,null,null,null,null,null,null,"身　　体",null,null,null,null,null,null,null,null,null,null,null,null,null,null,null,null,null,null,null,null,null,null,null,null,{"$f":"$AL$18","v":"小選挙区"}]
[null,null,null,null,null,null,null,null,null,null,null,"・",null,null,null,null,null,null,null,null,null,null,null,null,null,null,null,null,null,null,null,null,null,null,null,null,null,{"$f":"$AL$19","v":"比例代表"}]
[]
[30,null,null,null,null,null,null,null,null,null,null,null,"読み書き",null,null,null,null,null,null,null,null,null,null,null,null,null,null,null,null,null,null,null,null,null,null,null,null,{"$f":"$AL$21","v":"国民審査"}]
[null,null,null,null,null,null,null,null,null,null,null,null,"身　　体",null,null,null,null,null,null,null,null,null,null,null,null,null,null,null,null,null,null,null,null,null,null,null,null,{"$f":"$AL$18","v":"小選挙区"}]
[null,null,null,null,null,null,null,null,null,null,null,"・",null,null,null,null,null,null,null,null,null,null,null,null,null,null,null,null,null,null,null,null,null,null,null,null,null,{"$f":"$AL$19","v":"比例代表"}]
[]
[31,null,null,null,null,null,null,null,null,null,null,null,"読み書き",null,null,null,null,null,null,null,null,null,null,null,null,null,null,null,null,null,null,null,null,null,null,null,null,{"$f":"$AL$21","v":"国民審査"}]
[null,null,null,null,null,null,null,null,null,null,null,null,"身　　体",null,null,null,null,null,null,null,null,null,null,null,null,null,null,null,null,null,null,null,null,null,null,null,null,{"$f":"$AL$18","v":"小選挙区"}]
[null,null,null,null,null,null,null,null,null,null,null,"・",null,null,null,null,null,null,null,null,null,null,null,null,null,null,null,null,null,null,null,null,null,null,null,null,null,{"$f":"$AL$19","v":"比例代表"}]
[]
[32,null,null,null,null,null,null,null,null,null,null,null,"読み書き",null,null,null,null,null,null,null,null,null,null,null,null,null,null,null,null,null,null,null,null,null,null,null,null,{"$f":"$AL$21","v":"国民審査"}]
[null,null,null,null,null,null,null,null,null,null,null,null,"身　　体",null,null,null,null,null,null,null,null,null,null,null,null,null,null,null,null,null,null,null,null,null,null,null,null,{"$f":"$AL$18","v":"小選挙区"}]
[null,null,null,null,null,null,null,null,null,null,null,"・",null,null,null,null,null,null,null,null,null,null,null,null,null,null,null,null,null,null,null,null,null,null,null,null,null,{"$f":"$AL$19","v":"比例代表"}]
[]
[33,null,null,null,null,null,null,null,null,null,null,null,"読み書き",null,null,null,null,null,null,null,null,null,null,null,null,null,null,null,null,null,null,null,null,null,null,null,null,{"$f":"$AL$21","v":"国民審査"}]
[null,null,null,null,null,null,null,null,null,null,null,null,"身　　体",null,null,null,null,null,null,null,null,null,null,null,null,null,null,null,null,null,null,null,null,null,null,null,null,{"$f":"$AL$18","v":"小選挙区"}]
[null,null,null,null,null,null,null,null,null,null,null,"・",null,null,null,null,null,null,null,null,null,null,null,null,null,null,null,null,null,null,null,null,null,null,null,null,null,{"$f":"$AL$19","v":"比例代表"}]
[]
[34,null,null,null,null,null,null,null,null,null,null,null,"読み書き",null,null,null,null,null,null,null,null,null,null,null,null,null,null,null,null,null,null,null,null,null,null,null,null,{"$f":"$AL$21","v":"国民審査"}]
[null,null,null,null,null,null,null,null,null,null,null,null,"身　　体",null,null,null,null,null,null,null,null,null,null,null,null,null,null,null,null,null,null,null,null,null,null,null,null,{"$f":"$AL$18","v":"小選挙区"}]
[null,null,null,null,null,null,null,null,null,null,null,"・",null,null,null,null,null,null,null,null,null,null,null,null,null,null,null,null,null,null,null,null,null,null,null,null,null,{"$f":"$AL$19","v":"比例代表"}]
[]
[35,null,null,null,null,null,null,null,null,null,null,null,"読み書き",null,null,null,null,null,null,null,null,null,null,null,null,null,null,null,null,null,null,null,null,null,null,null,null,{"$f":"$AL$21","v":"国民審査"}]
[null,null,null,null,null,null,null,null,null,null,null,null,"身　　体",null,null,null,null,null,null,null,null,null,null,null,null,null,null,null,null,null,null,null,null,null,null,null,null,{"$f":"$AL$18","v":"小選挙区"}]
[null,null,null,null,null,null,null,null,null,null,null,"・",null,null,null,null,null,null,null,null,null,null,null,null,null,null,null,null,null,null,null,null,null,null,null,null,null,{"$f":"$AL$19","v":"比例代表"}]
[]
[36,null,null,null,null,null,null,null,null,null,null,null,"読み書き",null,null,null,null,null,null,null,null,null,null,null,null,null,null,null,null,null,null,null,null,null,null,null,null,{"$f":"$AL$21","v":"国民審査"}]
[null,null,null,null,null,null,null,null,null,null,null,null,"身　　体",null,null,null,null,null,null,null,null,null,null,null,null,null,null,null,null,null,null,null,null,null,null,null,null,{"$f":"$AL$18","v":"小選挙区"}]
[null,null,null,null,null,null,null,null,null,null,null,"・",null,null,null,null,null,null,null,null,null,null,null,null,null,null,null,null,null,null,null,null,null,null,null,null,null,{"$f":"$AL$19","v":"比例代表"}]
[]
[37,null,null,null,null,null,null,null,null,null,null,null,"読み書き",null,null,null,null,null,null,null,null,null,null,null,null,null,null,null,null,null,null,null,null,null,null,null,null,{"$f":"$AL$21","v":"国民審査"}]
[null,null,null,null,null,null,null,null,null,null,null,null,"身　　体",null,null,null,null,null,null,null,null,null,null,null,null,null,null,null,null,null,null,null,null,null,null,null,null,{"$f":"$AL$18","v":"小選挙区"}]
[null,null,null,null,null,null,null,null,null,null,null,"・",null,null,null,null,null,null,null,null,null,null,null,null,null,null,null,null,null,null,null,null,null,null,null,null,null,{"$f":"$AL$19","v":"比例代表"}]
[]
[38,null,null,null,null,null,null,null,null,null,null,null,"読み書き",null,null,null,null,null,null,null,null,null,null,null,null,null,null,null,null,null,null,null,null,null,null,null,null,{"$f":"$AL$21","v":"国民審査"}]
[null,null,null,null,null,null,null,null,null,null,null,null,"身　　体",null,null,null,null,null,null,null,null,null,null,null,null,null,null,null,null,null,null,null,null,null,null,null,null,{"$f":"$AL$18","v":"小選挙区"}]
[null,null,null,null,null,null,null,null,null,null,null,"・",null,null,null,null,null,null,null,null,null,null,null,null,null,null,null,null,null,null,null,null,null,null,null,null,null,{"$f":"$AL$19","v":"比例代表"}]
[]
[39,null,null,null,null,null,null,null,null,null,null,null,"読み書き",null,null,null,null,null,null,null,null,null,null,null,null,null,null,null,null,null,null,null,null,null,null,null,null,{"$f":"$AL$21","v":"国民審査"}]
[null,null,null,null,null,null,null,null,null,null,null,null,"身　　体",null,null,null,null,null,null,null,null,null,null,null,null,null,null,null,null,null,null,null,null,null,null,null,null,{"$f":"$AL$18","v":"小選挙区"}]
[null,null,null,null,null,null,null,null,null,null,null,"・",null,null,null,null,null,null,null,null,null,null,null,null,null,null,null,null,null,null,null,null,null,null,null,null,null,{"$f":"$AL$19","v":"比例代表"}]
[]
[40,null,null,null,null,null,null,null,null,null,null,null,"読み書き",null,null,null,null,null,null,null,null,null,null,null,null,null,null,null,null,null,null,null,null,null,null,null,null,{"$f":"$AL$21","v":"国民審査"}]
[null,null,"備　　考",null,null,null,null,"１　投票管理者の決定及び投票立会人の意見は、それぞれ該当欄に捺印すること。"]
[null,null,null,null,null,null,null,"２　代理投票の仮投票の場合は、摘要欄に「仮投票」と記載すること。"]
[null,null,null,null,null,null,null,null,null,null,null,null,null,null,null,null,null,null,null,null,null,null,null,null,null,null,null,null,null,null,null,null,null,null,null,null,null,null,"Ｎｏ．",null,null,4]
[]
[null,"選挙人氏名",null,null,null,null,null,null,null,"性\n別",null,"代理投票\nの事由",null,null,null,null,null,"補助者の氏名",null,null,null,null,null,null,null,"投票管理者\nの決定",null,null,null,null,null,"投票立会人\nの決定",null,null,null,null,null,"摘　　要"]
[]
[null,null,null,null,null,null,null,null,null,null,null,null,null,null,null,null,null,null,null,null,null,null,null,null,null,"承認",null,null,"拒否",null,null,"承認",null,null,"拒否"]
[null,null,null,null,null,null,null,null,null,null,null,null,"身　　体",null,null,null,null,null,null,null,null,null,null,null,null,null,null,null,null,null,null,null,null,null,null,null,null,{"$f":"$AL$18","v":"小選挙区"}]
[null,null,null,null,null,null,null,null,null,null,null,"・",null,null,null,null,null,null,null,null,null,null,null,null,null,null,null,null,null,null,null,null,null,null,null,null,null,{"$f":"$AL$19","v":"比例代表"}]
[]
[41,null,null,null,null,null,null,null,null,null,null,null,"読み書き",null,null,null,null,null,null,null,null,null,null,null,null,null,null,null,null,null,null,null,null,null,null,null,null,{"$f":"$AL$21","v":"国民審査"}]
[null,null,null,null,null,null,null,null,null,null,null,null,"身　　体",null,null,null,null,null,null,null,null,null,null,null,null,null,null,null,null,null,null,null,null,null,null,null,null,{"$f":"$AL$18","v":"小選挙区"}]
[null,null,null,null,null,null,null,null,null,null,null,"・",null,null,null,null,null,null,null,null,null,null,null,null,null,null,null,null,null,null,null,null,null,null,null,null,null,{"$f":"$AL$19","v":"比例代表"}]
[]
[42,null,null,null,null,null,null,null,null,null,null,null,"読み書き",null,null,null,null,null,null,null,null,null,null,null,null,null,null,null,null,null,null,null,null,null,null,null,null,{"$f":"$AL$21","v":"国民審査"}]
[null,null,null,null,null,null,null,null,null,null,null,null,"身　　体",null,null,null,null,null,null,null,null,null,null,null,null,null,null,null,null,null,null,null,null,null,null,null,null,{"$f":"$AL$18","v":"小選挙区"}]
[null,null,null,null,null,null,null,null,null,null,null,"・",null,null,null,null,null,null,null,null,null,null,null,null,null,null,null,null,null,null,null,null,null,null,null,null,null,{"$f":"$AL$19","v":"比例代表"}]
[]
[43,null,null,null,null,null,null,null,null,null,null,null,"読み書き",null,null,null,null,null,null,null,null,null,null,null,null,null,null,null,null,null,null,null,null,null,null,null,null,{"$f":"$AL$21","v":"国民審査"}]
[null,null,null,null,null,null,null,null,null,null,null,null,"身　　体",null,null,null,null,null,null,null,null,null,null,null,null,null,null,null,null,null,null,null,null,null,null,null,null,{"$f":"$AL$18","v":"小選挙区"}]
[null,null,null,null,null,null,null,null,null,null,null,"・",null,null,null,null,null,null,null,null,null,null,null,null,null,null,null,null,null,null,null,null,null,null,null,null,null,{"$f":"$AL$19","v":"比例代表"}]
[]
[44,null,null,null,null,null,null,null,null,null,null,null,"読み書き",null,null,null,null,null,null,null,null,null,null,null,null,null,null,null,null,null,null,null,null,null,null,null,null,{"$f":"$AL$21","v":"国民審査"}]
[null,null,null,null,null,null,null,null,null,null,null,null,"身　　体",null,null,null,null,null,null,null,null,null,null,null,null,null,null,null,null,null,null,null,null,null,null,null,null,{"$f":"$AL$18","v":"小選挙区"}]
[null,null,null,null,null,null,null,null,null,null,null,"・",null,null,null,null,null,null,null,null,null,null,null,null,null,null,null,null,null,null,null,null,null,null,null,null,null,{"$f":"$AL$19","v":"比例代表"}]
[]
[45,null,null,null,null,null,null,null,null,null,null,null,"読み書き",null,null,null,null,null,null,null,null,null,null,null,null,null,null,null,null,null,null,null,null,null,null,null,null,{"$f":"$AL$21","v":"国民審査"}]
[null,null,null,null,null,null,null,null,null,null,null,null,"身　　体",null,null,null,null,null,null,null,null,null,null,null,null,null,null,null,null,null,null,null,null,null,null,null,null,{"$f":"$AL$18","v":"小選挙区"}]
[null,null,null,null,null,null,null,null,null,null,null,"・",null,null,null,null,null,null,null,null,null,null,null,null,null,null,null,null,null,null,null,null,null,null,null,null,null,{"$f":"$AL$19","v":"比例代表"}]
[]
[46,null,null,null,null,null,null,null,null,null,null,null,"読み書き",null,null,null,null,null,null,null,null,null,null,null,null,null,null,null,null,null,null,null,null,null,null,null,null,{"$f":"$AL$21","v":"国民審査"}]
[null,null,null,null,null,null,null,null,null,null,null,null,"身　　体",null,null,null,null,null,null,null,null,null,null,null,null,null,null,null,null,null,null,null,null,null,null,null,null,{"$f":"$AL$18","v":"小選挙区"}]
[null,null,null,null,null,null,null,null,null,null,null,"・",null,null,null,null,null,null,null,null,null,null,null,null,null,null,null,null,null,null,null,null,null,null,null,null,null,{"$f":"$AL$19","v":"比例代表"}]
[]
[47,null,null,null,null,null,null,null,null,null,null,null,"読み書き",null,null,null,null,null,null,null,null,null,null,null,null,null,null,null,null,null,null,null,null,null,null,null,null,{"$f":"$AL$21","v":"国民審査"}]
[null,null,null,null,null,null,null,null,null,null,null,null,"身　　体",null,null,null,null,null,null,null,null,null,null,null,null,null,null,null,null,null,null,null,null,null,null,null,null,{"$f":"$AL$18","v":"小選挙区"}]
[null,null,null,null,null,null,null,null,null,null,null,"・",null,null,null,null,null,null,null,null,null,null,null,null,null,null,null,null,null,null,null,null,null,null,null,null,null,{"$f":"$AL$19","v":"比例代表"}]
[]
[48,null,null,null,null,null,null,null,null,null,null,null,"読み書き",null,null,null,null,null,null,null,null,null,null,null,null,null,null,null,null,null,null,null,null,null,null,null,null,{"$f":"$AL$21","v":"国民審査"}]
[null,null,null,null,null,null,null,null,null,null,null,null,"身　　体",null,null,null,null,null,null,null,null,null,null,null,null,null,null,null,null,null,null,null,null,null,null,null,null,{"$f":"$AL$18","v":"小選挙区"}]
[null,null,null,null,null,null,null,null,null,null,null,"・",null,null,null,null,null,null,null,null,null,null,null,null,null,null,null,null,null,null,null,null,null,null,null,null,null,{"$f":"$AL$19","v":"比例代表"}]
[]
[49,null,null,null,null,null,null,null,null,null,null,null,"読み書き",null,null,null,null,null,null,null,null,null,null,null,null,null,null,null,null,null,null,null,null,null,null,null,null,{"$f":"$AL$21","v":"国民審査"}]
[null,null,null,null,null,null,null,null,null,null,null,null,"身　　体",null,null,null,null,null,null,null,null,null,null,null,null,null,null,null,null,null,null,null,null,null,null,null,null,{"$f":"$AL$18","v":"小選挙区"}]
[null,null,null,null,null,null,null,null,null,null,null,"・",null,null,null,null,null,null,null,null,null,null,null,null,null,null,null,null,null,null,null,null,null,null,null,null,null,{"$f":"$AL$19","v":"比例代表"}]
[]
[50,null,null,null,null,null,null,null,null,null,null,null,"読み書き",null,null,null,null,null,null,null,null,null,null,null,null,null,null,null,null,null,null,null,null,null,null,null,null,{"$f":"$AL$21","v":"国民審査"}]
[null,null,null,null,null,null,null,null,null,null,null,null,"身　　体",null,null,null,null,null,null,null,null,null,null,null,null,null,null,null,null,null,null,null,null,null,null,null,null,{"$f":"$AL$18","v":"小選挙区"}]
[null,null,null,null,null,null,null,null,null,null,null,"・",null,null,null,null,null,null,null,null,null,null,null,null,null,null,null,null,null,null,null,null,null,null,null,null,null,{"$f":"$AL$19","v":"比例代表"}]
[]
[51,null,null,null,null,null,null,null,null,null,null,null,"読み書き",null,null,null,null,null,null,null,null,null,null,null,null,null,null,null,null,null,null,null,null,null,null,null,null,{"$f":"$AL$21","v":"国民審査"}]
[null,null,null,null,null,null,null,null,null,null,null,null,"身　　体",null,null,null,null,null,null,null,null,null,null,null,null,null,null,null,null,null,null,null,null,null,null,null,null,{"$f":"$AL$18","v":"小選挙区"}]
[null,null,null,null,null,null,null,null,null,null,null,"・",null,null,null,null,null,null,null,null,null,null,null,null,null,null,null,null,null,null,null,null,null,null,null,null,null,{"$f":"$AL$19","v":"比例代表"}]
[]
[52,null,null,null,null,null,null,null,null,null,null,null,"読み書き",null,null,null,null,null,null,null,null,null,null,null,null,null,null,null,null,null,null,null,null,null,null,null,null,{"$f":"$AL$21","v":"国民審査"}]
[null,null,null,null,null,null,null,null,null,null,null,null,"身　　体",null,null,null,null,null,null,null,null,null,null,null,null,null,null,null,null,null,null,null,null,null,null,null,null,{"$f":"$AL$18","v":"小選挙区"}]
[null,null,null,null,null,null,null,null,null,null,null,"・",null,null,null,null,null,null,null,null,null,null,null,null,null,null,null,null,null,null,null,null,null,null,null,null,null,{"$f":"$AL$19","v":"比例代表"}]
[]
[53,null,null,null,null,null,null,null,null,null,null,null,"読み書き",null,null,null,null,null,null,null,null,null,null,null,null,null,null,null,null,null,null,null,null,null,null,null,null,{"$f":"$AL$21","v":"国民審査"}]
[null,null,null,null,null,null,null,null,null,null,null,null,"身　　体",null,null,null,null,null,null,null,null,null,null,null,null,null,null,null,null,null,null,null,null,null,null,null,null,{"$f":"$AL$18","v":"小選挙区"}]
[null,null,null,null,null,null,null,null,null,null,null,"・",null,null,null,null,null,null,null,null,null,null,null,null,null,null,null,null,null,null,null,null,null,null,null,null,null,{"$f":"$AL$19","v":"比例代表"}]
[]
[54,null,null,null,null,null,null,null,null,null,null,null,"読み書き",null,null,null,null,null,null,null,null,null,null,null,null,null,null,null,null,null,null,null,null,null,null,null,null,{"$f":"$AL$21","v":"国民審査"}]
[null,null,null,null,null,null,null,null,null,null,null,null,"身　　体",null,null,null,null,null,null,null,null,null,null,null,null,null,null,null,null,null,null,null,null,null,null,null,null,{"$f":"$AL$18","v":"小選挙区"}]
[null,null,null,null,null,null,null,null,null,null,null,"・",null,null,null,null,null,null,null,null,null,null,null,null,null,null,null,null,null,null,null,null,null,null,null,null,null,{"$f":"$AL$19","v":"比例代表"}]
[]
[55,null,null,null,null,null,null,null,null,null,null,null,"読み書き",null,null,null,null,null,null,null,null,null,null,null,null,null,null,null,null,null,null,null,null,null,null,null,null,{"$f":"$AL$21","v":"国民審査"}]
[null,null,"備　　考",null,null,null,null,"１　投票管理者の決定及び投票立会人の意見は、それぞれ該当欄に捺印すること。"]
[null,null,null,null,null,null,null,"２　代理投票の仮投票の場合は、摘要欄に「仮投票」と記載すること。"]

{"sheet":"⑥代理投票報告書(手書き用)","index":13,"n_rows":260,"n_cols":46,"rows_kept":260,"cut":false,"hidden":false,"merged":[[250,1,253,8],[250,9,250,10],[250,12,250,16],[250,17,251,24],[250,25,253,27],[250,28,253,30],[254,31,257,33],[254,34,257,36],[254,37,254,42],[255,9,256,10],[255,11,256,16],[255,37,256,42],[256,17,257,24],[257,9,257,10],[257,12,257,16],[257,37,257,42],[246,37,246,42],[247,9,248,10],[247,11,248,16],[247,37,248,42],[248,17,249,24],[249,9,249,10],[249,12,249,16],[249,37,249,42],[254,1,257,8],[254,9,254,10],[254,12,254,16],[254,17,255,24],[254,25,257,27],[254,28,257,30],[250,31,253,33],[250,34,253,36],[250,37,250,42],[251,9,252,10],[251,11,252,16],[251,37,252,42],[252,17,253,24],[253,9,253,10],[253,12,253,16],[253,37,253,42],[246,1,249,8],[246,9,246,10],[246,12,246,16],[246,17,247,24],[246,25,249,27],[246,28,249,30],[242,31,245,33],[242,34,245,36],[242,37,242,42],[243,9,244,10],[243,11,244,16],[243,37,244,42],[244,17,245,24],[245,9,245,10],[245,12,245,16],[245,37,245,42],[242,1,245,8],[242,9,242,10],[242,12,242,16],[242,17,243,24],[242,25,245,27],[242,28,245,30],[246,31,249,33],[246,34,249,36],[234,1,237,8],[234,9,234,10],[234,12,234,16],[234,17,235,24],[234,25,237,27],[234,28,237,30],[238,31,241,33],[238,34,241,36],[238,37,238,42],[239,9,240,10],[239,11,240,16],[239,37,240,42],[240,17,241,24],[241,9,241,10],[241,12,241,16],[241,37,241,42],[230,37,230,42],[231,9,232,10],[231,11,232,16],[231,37,232,42],[232,17,233,24],[233,9,233,10],[233,12,233,16],[233,37,233,42],[238,1,241,8],[238,9,238,10],[238,12,238,16],[238,17,239,24],[238,25,241,27],[238,28,241,30],[234,31,237,33],[234,34,237,36],[234,37,234,42],[235,9,236,10],[235,11,236,16],[235,37,236,42],[236,17,237,24],[237,9,237,10],[237,12,237,16],[237,37,237,42],[230,1,233,8],[230,9,230,10],[230,12,230,16],[230,17,231,24],[230,25,233,27],[230,28,233,30],[226,31,229,33],[226,34,229,36],[226,37,226,42],[227,9,228,10],[227,11,228,16],[227,37,228,42],[228,17,229,24],[229,9,229,10],[229,12,229,16],[229,37,229,42],[226,1,229,8],[226,9,226,10],[226,12,226,16],[226,17,227,24],[226,25,229,27],[226,28,229,30],[230,31,233,33],[230,34,233,36],[218,1,221,8],[218,9,218,10],[218,12,218,16],[218,17,219,24],[218,25,221,27],[218,28,221,30],[222,31,225,33],[222,34,225,36],[222,37,222,42],[223,9,224,10],[223,11,224,16],[223,37,224,42],[224,17,225,24],[225,9,225,10],[225,12,225,16],[225,37,225,42],[214,37,214,42],[215,9,216,10],[215,11,216,16],[215,37,216,42],[216,17,217,24],[217,9,217,10],[217,12,217,16],[217,37,217,42],[222,1,225,8],[222,9,222,10],[222,12,222,16],[222,17,223,24],[222,25,225,27],[222,28,225,30],[218,31,221,33],[218,34,221,36],[218,37,218,42],[219,9,220,10],[219,11,220,16],[219,37,220,42],[220,17,221,24],[221,9,221,10],[221,12,221,16],[221,37,221,42],[214,1,217,8],[214,9,214,10],[214,12,214,16],[214,17,215,24],[214,25,217,27],[214,28,217,30],[210,31,213,33],[210,34,213,36],[210,37,210,42],[211,9,212,10],[211,11,212,16],[211,37,212,42],[212,17,213,24],[213,9,213,10],[213,12,213,16],[213,37,213,42],[210,1,213,8],[210,9,210,10],[210,12,210,16],[210,17,211,24],[210,25,213,27],[210,28,213,30],[214,31,217,33],[214,34,217,36],[202,25,205,27],[202,28,205,30],[206,31,209,33],[206,34,209,36],[206,37,206,42],[207,9,208,10],[207,11,208,16],[207,37,208,42],[208,17,209,24],[209,9,209,10],[209,12,209,16],[209,37,209,42],[201,12,201,16],[201,37,201,42],[197,31,197,33],[197,34,197,36],[206,1,209,8],[206,9,206,10],[206,12,206,16],[206,17,207,24],[206,25,209,27],[206,28,209,30],[202,31,205,33],[202,34,205,36],[202,37,202,42],[203,9,204,10],[203,11,204,16],[203,37,204,42],[204,17,205,24],[205,9,205,10],[205,12,205,16],[205,37,205,42],[202,1,205,8],[202,9,202,10],[202,12,202,16],[202,17,203,24],[198,1,201,8],[198,9,198,10],[198,12,198,16],[198,17,199,24],[198,25,201,27],[198,28,201,30],[198,31,201,33],[198,34,201,36],[193,41,193,42],[195,1,197,8],[195,9,197,10],[195,11,197,16],[195,17,197,24],[195,25,196,30],[195,31,196,36],[195,37,197,42],[197,25,197,27],[197,28,197,30],[198,37,198,42],[199,9,200,10],[199,11,200,16],[199,37,200,42],[200,17,201,24],[201,9,201,10],[183,1,186,8],[183,9,183,10],[183,12,183,16],[183,17,184,24],[183,25,186,27],[183,28,186,30],[187,31,190,33],[187,34,190,36],[187,37,187,42],[188,9,189,10],[188,11,189,16],[188,37,189,42],[189,17,190,24],[190,9,190,10],[190,12,190,16],[190,37,190,42],[179,37,179,42],[180,9,181,10],[180,11,181,16],[180,37,181,42],[181,17,182,24],[182,9,182,10],[182,12,182,16],[182,37,182,42],[187,1,190,8],[187,9,187,10],[187,12,187,16],[187,17,188,24],[187,25,190,27],[187,28,190,30],[183,31,186,33],[183,34,186,36],[183,37,183,42],[184,9,185,10],[184,11,185,16],[184,37,185,42],[185,17,186,24],[186,9,186,10],[186,12,186,16],[186,37,186,42],[179,1,182,8],[179,9,179,10],[179,12,179,16],[179,17,180,24],[179,25,182,27],[179,28,182,30],[175,31,178,33],[175,34,178,36],[175,37,175,42],[176,9,177,10],[176,11,177,16],[176,37,177,42],[177,17,178,24],[178,9,178,10],[178,12,178,16],[178,37,178,42],[175,1,178,8],[175,9,175,10],[175,12,175,16],[175,17,176,24],[175,25,178,27],[175,28,178,30],[179,31,182,33],[179,34,182,36],[167,1,170,8],[167,9,167,10],[167,12,167,16],[167,17,168,24],[167,25,170,27],[167,28,170,30],[171,31,174,33],[171,34,174,36],[171,37,171,42],[172,9,173,10],[172,11,173,16],[172,37,173,42],[173,17,174,24],[174,9,174,10],[174,12,174,16],[174,37,174,42],[163,37,163,42],[164,9,165,10],[164,11,165,16],[164,37,165,42],[165,17,166,24],[166,9,166,10],[166,12,166,16],[166,37,166,42],[171,1,174,8],[171,9,171,10],[171,12,171,16],[171,17,172,24],[171,25,174,27],[171,28,174,30],[167,31,170,33],[167,34,170,36],[167,37,167,42],[168,9,169,10],[168,11,169,16],[168,37,169,42],[169,17,170,24],[170,9,170,10],[170,12,170,16],[170,37,170,42],[163,1,166,8],[163,9,163,10],[163,12,163,16],[163,17,164,24],[163,25,166,27],[163,28,166,30],[159,31,162,33],[159,34,162,36],[159,37,159,42],[160,9,161,10],[160,11,161,16],[160,37,161,42],[161,17,162,24],[162,9,162,10],[162,12,162,16],[162,37,162,42],[159,1,162,8],[159,9,159,10],[159,12,159,16],[159,17,160,24],[159,25,162,27],[159,28,162,30],[163,31,166,33],[163,34,166,36],[151,1,154,8],[151,9,151,10],[151,12,151,16],[151,17,152,24],[151,25,154,27],[151,28,154,30],[155,31,158,33],[155,34,158,36],[155,37,155,42],[156,9,157,10],[156,11,157,16],[156,37,157,42],[157,17,158,24],[158,9,158,10],[158,12,158,16],[158,37,158,42],[147,37,147,42],[148,9,149,10],[148,11,149,16],[148,37,149,42],[149,17,150,24],[150,9,150,10],[150,12,150,16],[150,37,150,42],[155,1,158,8],[155,9,155,10],[155,12,155,16],[155,17,156,24],[155,25,158,27],[155,28,158,30],[151,31,154,33],[151,34,154,36],[151,37,151,42],[152,9,153,10],[152,11,153,16],[152,37,153,42],[153,17,154,24],[154,9,154,10],[154,12,154,16],[154,37,154,42],[147,1,150,8],[147,9,147,10],[147,12,147,16],[147,17,148,24],[147,25,150,27],[147,28,150,30],[143,31,146,33],[143,34,146,36],[143,37,143,42],[144,9,145,10],[144,11,145,16],[144,37,145,42],[145,17,146,24],[146,9,146,10],[146,12,146,16],[146,37,146,42],[143,1,146,8],[143,9,143,10],[143,12,143,16],[143,17,144,24],[143,25,146,27],[143,28,146,30],[147,31,150,33],[147,34,150,36],[135,25,138,27],[135,28,138,30],[139,31,142,33],[139,34,142,36],[139,37,139,42],[140,9,141,10],[140,11,141,16],[140,37,141,42],[141,17,142,24],[142,9,142,10],[142,12,142,16],[142,37,142,42],[134,12,134,16],[134,37,134,42],[130,31,130,33],[130,34,130,36],[139,1,142,8],[139,9,139,10],[139,12,139,16],[139,17,140,24],[139,25,142,27],[139,28,142,30],[135,31,138,33],[135,34,138,36],[135,37,135,42],[136,9,137,10],[136,11,137,16],[136,37,137,42],[137,17,138,24],[138,9,138,10],[138,12,138,16],[138,37,138,42],[135,1,138,8],[135,9,135,10],[135,12,135,16],[135,17,136,24],[131,1,134,8],[131,9,131,10],[131,12,131,16],[131,17,132,24],[131,25,134,27],[131,28,134,30],[131,31,134,33],[131,34,134,36],[126,41,126,42],[128,1,130,8],[128,9,130,10],[128,11,130,16],[128,17,130,24],[128,25,129,30],[128,31,129,36],[128,37,130,42],[130,25,130,27],[130,28,130,30],[131,37,131,42],[132,9,133,10],[132,11,133,16],[132,37,133,42],[133,17,134,24],[134,9,134,10],[116,1,119,8],[116,9,116,10],[116,12,116,16],[116,17,117,24],[116,25,119,27],[116,28,119,30],[120,31,123,33],[120,34,123,36],[120,37,120,42],[121,9,122,10],[121,11,122,16],[121,37,122,42],[122,17,123,24],[123,9,123,10],[123,12,123,16],[123,37,123,42],[112,37,112,42],[113,9,114,10],[113,11,114,16],[113,37,114,42],[114,17,115,24],[115,9,115,10],[115,12,115,16],[115,37,115,42],[120,1,123,8],[120,9,120,10],[120,12,120,16],[120,17,121,24],[120,25,123,27],[120,28,123,30],[116,31,119,33],[116,34,119,36],[116,37,116,42],[117,9,118,10],[117,11,118,16],[117,37,118,42],[118,17,119,24],[119,9,119,10],[119,12,119,16],[119,37,119,42],[112,1,115,8],[112,9,112,10],[112,12,112,16],[112,17,113,24],[112,25,115,27],[112,28,115,30],[108,31,111,33],[108,34,111,36],[108,37,108,42],[109,9,110,10],[109,11,110,16],[109,37,110,42],[110,17,111,24],[111,9,111,10],[111,12,111,16],[111,37,111,42],[108,1,111,8],[108,9,108,10],[108,12,108,16],[108,17,109,24],[108,25,111,27],[108,28,111,30],[112,31,115,33],[112,34,115,36],[100,1,103,8],[100,9,100,10],[100,12,100,16],[100,17,101,24],[100,25,103,27],[100,28,103,30],[104,31,107,33],[104,34,107,36],[104,37,104,42],[105,9,106,10],[105,11,106,16],[105,37,106,42],[106,17,107,24],[107,9,107,10],[107,12,107,16],[107,37,107,42],[96,37,96,42],[97,9,98,10],[97,11,98,16],[97,37,98,42],[98,17,99,24],[99,9,99,10],[99,12,99,16],[99,37,99,42],[104,1,107,8],[104,9,104,10],[104,12,104,16],[104,17,105,24],[104,25,107,27],[104,28,107,30],[100,31,103,33],[100,34,103,36],[100,37,100,42],[101,9,102,10],[101,11,102,16],[101,37,102,42],[102,17,103,24],[103,9,103,10],[103,12,103,16],[103,37,103,42],[96,1,99,8],[96,9,96,10],[96,12,96,16],[96,17,97,24],[96,25,99,27],[96,28,99,30],[92,31,95,33],[92,34,95,36],[92,37,92,42],[93,9,94,10],[93,11,94,16],[93,37,94,42],[94,17,95,24],[95,9,95,10],[95,12,95,16],[95,37,95,42],[92,1,95,8],[92,9,92,10],[92,12,92,16],[92,17,93,24],[92,25,95,27],[92,28,95,30],[96,31,99,33],[96,34,99,36],[84,1,87,8],[84,9,84,10],[84,12,84,16],[84,17,85,24],[84,25,87,27],[84,28,87,30],[88,31,91,33],[88,34,91,36],[88,37,88,42],[89,9,90,10],[89,11,90,16],[89,37,90,42],[90,17,91,24],[91,9,91,10],[91,12,91,16],[91,37,91,42],[80,37,80,42],[81,9,82,10],[81,11,82,16],[81,37,82,42],[82,17,83,24],[83,9,83,10],[83,12,83,16],[83,37,83,42],[88,1,91,8],[88,9,88,10],[88,12,88,16],[88,17,89,24],[88,25,91,27],[88,28,91,30],[84,31,87,33],[84,34,87,36],[84,37,84,42],[85,9,86,10],[85,11,86,16],[85,37,86,42],[86,17,87,24],[87,9,87,10],[87,12,87,16],[87,37,87,42],[80,1,83,8],[80,9,80,10],[80,12,80,16],[80,17,81,24],[80,25,83,27],[80,28,83,30],[76,31,79,33],[76,34,79,36],[76,37,76,42],[77,9,78,10],[77,11,78,16],[77,37,78,42],[78,17,79,24],[79,9,79,10],[79,12,79,16],[79,37,79,42],[76,1,79,8],[76,9,76,10],[76,12,76,16],[76,17,77,24],[76,25,79,27],[76,28,79,30],[80,31,83,33],[80,34,83,36],[68,25,71,27],[68,28,71,30],[72,31,75,33],[72,34,75,36],[72,37,72,42],[73,9,74,10],[73,11,74,16],[73,37,74,42],[74,17,75,24],[75,9,75,10],[75,12,75,16],[75,37,75,42],[67,12,67,16],[67,37,67,42],[63,31,63,33],[63,34,63,36],[72,1,75,8],[72,9,72,10],[72,12,72,16],[72,17,73,24],[72,25,75,27],[72,28,75,30],[68,31,71,33],[68,34,71,36],[68,37,68,42],[69,9,70,10],[69,11,70,16],[69,37,70,42],[70,17,71,24],[71,9,71,10],[71,12,71,16],[71,37,71,42],[68,1,71,8],[68,9,68,10],[68,12,68,16],[68,17,69,24],[64,1,67,8],[64,9,64,10],[64,12,64,16],[64,17,65,24],[64,25,67,27],[64,28,67,30],[64,31,67,33],[64,34,67,36],[59,41,59,42],[61,1,63,8],[61,9,63,10],[61,11,63,16],[61,17,63,24],[61,25,62,30],[61,31,62,36],[61,37,63,42],[63,25,63,27],[63,28,63,30],[64,37,64,42],[65,9,66,10],[65,11,66,16],[65,37,66,42],[66,17,67,24],[67,9,67,10],[49,1,52,8],[49,9,49,10],[49,12,49,16],[49,17,50,24],[49,25,52,27],[49,28,52,30],[53,31,56,33],[53,34,56,36],[53,37,53,42],[54,9,55,10],[54,11,55,16],[54,37,55,42],[55,17,56,24],[56,9,56,10],[56,12,56,16],[56,37,56,42],[45,37,45,42],[46,9,47,10],[46,11,47,16],[46,37,47,42],[47,17,48,24],[48,9,48,10],[48,12,48,16],[48,37,48,42],[53,1,56,8],[53,9,53,10],[53,12,53,16],[53,17,54,24],[53,25,56,27],[53,28,56,30],[49,31,52,33],[49,34,52,36],[49,37,49,42],[50,9,51,10],[50,11,51,16],[50,37,51,42],[51,17,52,24],[52,9,52,10],[52,12,52,16],[52,37,52,42],[45,1,48,8],[45,9,45,10],[45,12,45,16],[45,17,46,24],[45,25,48,27],[45,28,48,30],[41,31,44,33],[41,34,44,36],[41,37,41,42],[42,9,43,10],[42,11,43,16],[42,37,43,42],[43,17,44,24],[44,9,44,10],[44,12,44,16],[44,37,44,42],[41,1,44,8],[41,9,41,10],[41,12,41,16],[41,17,42,24],[41,25,44,27],[41,28,44,30],[45,31,48,33],[45,34,48,36],[33,1,36,8],[33,9,33,10],[33,12,33,16],[33,17,34,24],[33,25,36,27],[33,28,36,30],[37,31,40,33],[37,34,40,36],[37,37,37,42],[38,9,39,10],[38,11,39,16],[38,37,39,42],[39,17,40,24],[40,9,40,10],[40,12,40,16],[40,37,40,42],[29,37,29,42],[30,9,31,10],[30,11,31,16],[30,37,31,42],[31,17,32,24],[32,9,32,10],[32,12,32,16],[32,37,32,42],[37,1,40,8],[37,9,37,10],[37,12,37,16],[37,17,38,24],[37,25,40,27],[37,28,40,30],[33,31,36,33],[33,34,36,36],[33,37,33,42],[34,9,35,10],[34,11,35,16],[34,37,35,42],[35,17,36,24],[36,9,36,10],[36,12,36,16],[36,37,36,42],[29,1,32,8],[29,9,29,10],[29,12,29,16],[29,17,30,24],[29,25,32,27],[29,28,32,30],[25,31,28,33],[25,34,28,36],[25,37,25,42],[26,9,27,10],[26,11,27,16],[26,37,27,42],[27,17,28,24],[28,9,28,10],[28,12,28,16],[28,37,28,42],[25,1,28,8],[25,9,25,10],[25,12,25,16],[25,17,26,24],[25,25,28,27],[25,28,28,30],[29,31,32,33],[29,34,32,36],[17,37,17,42],[18,9,19,10],[18,11,19,16],[18,37,19,42],[19,17,20,24],[20,9,20,10],[20,12,20,16],[20,37,20,42],[21,31,24,33],[21,34,24,36],[21,37,21,42],[22,9,23,10],[22,11,23,16],[22,37,23,42],[23,17,24,24],[24,9,24,10],[24,12,24,16],[24,37,24,42],[17,1,20,8],[17,9,17,10],[17,12,17,16],[17,17,18,24],[17,25,20,27],[17,28,20,30],[17,31,20,33],[17,34,20,36],[21,1,24,8],[21,9,21,10],[21,12,21,16],[21,17,22,24],[21,25,24,27],[21,28,24,30],[0,1,0,42],[2,1,2,6],[5,26,6,42],[7,28,7,31],[7,32,7,42],[9,17,11,31],[12,41,12,42],[14,1,16,8],[14,9,16,10],[14,11,16,16],[14,17,16,24],[14,25,15,30],[14,31,15,36],[14,37,16,42],[16,25,16,27],[16,28,16,30],[16,31,16,33],[16,34,16,36]]}
[null,"代　理　投　票　報　告　書",null,null,null,null,null,null,null,null,null,null,null,null,null,null,null,null,null,null,null,null,null,null,null,null,null,null,null,null,null,null,null,null,null,null,null,null,null,null,null,null,null,null,null,"目次"]
[]
[null,"小樽",null,null,null,null,null,"市（区・町・村）"]
[null,"選挙管理委員会　委員長　様"]
[]
[null,null,null,null,null,null,null,null,null,null,null,null,null,null,null,null,null,null,null,null,"指定施設名",null,null,null,null,null,null,null,null,null,null,null,null,null,null,null,null,null,null,null,null,null,null,"◀指定施設名を入力"]
[]
[null,null,null,null,null,null,null,null,null,null,null,null,null,null,null,null,null,null,null,null,"不在者投票管理者",null,null,null,null,null,null,null,null,null,null,null,null,null,null,null,null,null,null,null,null,null,null,"◀不在者投票管理者の役職及び氏名を入力"]
[]
[null,null,null,null,null,null,null,null,null,null,null,null,null,null,null,null,null,{"$f":"IF(入力!B3=1,VLOOKUP(入力!B3,入力!D1:G7,2,FALSE)&CHAR(10)&VLOOKUP(入力!B3,入力!D1:G7,3,FALSE)&CHAR(10)&VLOOKUP(入力!B3,入力!D1:G7,4,FALSE),IF(OR(入力!B3=2,入力!B3=3),VLOOKUP(入力!B3,入力!D1:G7,2,FALSE)&CHAR(10)&VLOOKUP(入力!B3,入力!D1:G7,3,FALSE),VLOOKUP(入力!B3,入力!D1:G7,2,FALSE)))","v":"衆議院小選挙区選出議員選挙\n衆議院比例代表選出議員選挙\n最高裁判所裁判官国民審査"}]
[null,"選挙名：",null,null,null,{"$f":"DBCS(TEXT(入力!B2,\"ggge年m月d日\"))&\"執行\"","v":"令和８年２月８日執行"}]
[]
[null,null,null,null,null,null,null,null,null,null,null,null,null,null,null,null,null,null,null,null,null,null,null,null,null,null,null,null,null,null,null,null,null,null,null,null,null,null,"Ｎｏ．",null,null,1]
[]
[null,"選挙人氏名",null,null,null,null,null,null,null,"性\n別",null,"代理投票\nの事由",null,null,null,null,null,"補助者の氏名",null,null,null,null,null,null,null,"投票管理者\nの決定",null,null,null,null,null,"投票立会人\nの決定",null,null,null,null,null,"摘　　要"]
[]
[null,null,null,null,null,null,null,null,null,null,null,null,null,null,null,null,null,null,null,null,null,null,null,null,null,"承認",null,null,"拒否",null,null,"承認",null,null,"拒否"]
[null,null,null,null,null,null,null,null,null,"男",null,null,"身　　体",null,null,null,null,null,null,null,null,null,null,null,null,null,null,null,null,null,null,null,null,null,null,null,null,"小選挙区"]
[null,null,null,null,null,null,null,null,null,"・",null,"・",null,null,null,null,null,null,null,null,null,null,null,null,null,null,null,null,null,null,null,null,null,null,null,null,null,"比例代表"]
[]
[1,null,null,null,null,null,null,null,null,"女",null,null,"読み書き",null,null,null,null,null,null,null,null,null,null,null,null,null,null,null,null,null,null,null,null,null,null,null,null,"国民審査"]
[null,null,null,null,null,null,null,null,null,"男",null,null,"身　　体",null,null,null,null,null,null,null,null,null,null,null,null,null,null,null,null,null,null,null,null,null,null,null,null,{"$f":"$AL$18","v":"小選挙区"}]
[null,null,null,null,null,null,null,null,null,"・",null,"・",null,null,null,null,null,null,null,null,null,null,null,null,null,null,null,null,null,null,null,null,null,null,null,null,null,{"$f":"$AL$19","v":"比例代表"}]
[]
[2,null,null,null,null,null,null,null,null,"女",null,null,"読み書き",null,null,null,null,null,null,null,null,null,null,null,null,null,null,null,null,null,null,null,null,null,null,null,null,{"$f":"$AL$21","v":"国民審査"}]
[null,null,null,null,null,null,null,null,null,"男",null,null,"身　　体",null,null,null,null,null,null,null,null,null,null,null,null,null,null,null,null,null,null,null,null,null,null,null,null,{"$f":"$AL$18","v":"小選挙区"}]
[null,null,null,null,null,null,null,null,null,"・",null,"・",null,null,null,null,null,null,null,null,null,null,null,null,null,null,null,null,null,null,null,null,null,null,null,null,null,{"$f":"$AL$19","v":"比例代表"}]
[]
[3,null,null,null,null,null,null,null,null,"女",null,null,"読み書き",null,null,null,null,null,null,null,null,null,null,null,null,null,null,null,null,null,null,null,null,null,null,null,null,{"$f":"$AL$21","v":"国民審査"}]
[null,null,null,null,null,null,null,null,null,"男",null,null,"身　　体",null,null,null,null,null,null,null,null,null,null,null,null,null,null,null,null,null,null,null,null,null,null,null,null,{"$f":"$AL$18","v":"小選挙区"}]
[null,null,null,null,null,null,null,null,null,"・",null,"・",null,null,null,null,null,null,null,null,null,null,null,null,null,null,null,null,null,null,null,null,null,null,null,null,null,{"$f":"$AL$19","v":"比例代表"}]
[]
[4,null,null,null,null,null,null,null,null,"女",null,null,"読み書き",null,null,null,null,null,null,null,null,null,null,null,null,null,null,null,null,null,null,null,null,null,null,null,null,{"$f":"$AL$21","v":"国民審査"}]
[null,null,null,null,null,null,null,null,null,"男",null,null,"身　　体",null,null,null,null,null,null,null,null,null,null,null,null,null,null,null,null,null,null,null,null,null,null,null,null,{"$f":"$AL$18","v":"小選挙区"}]
[null,null,null,null,null,null,null,null,null,"・",null,"・",null,null,null,null,null,null,null,null,null,null,null,null,null,null,null,null,null,null,null,null,null,null,null,null,null,{"$f":"$AL$19","v":"比例代表"}]
[]
[5,null,null,null,null,null,null,null,null,"女",null,null,"読み書き",null,null,null,null,null,null,null,null,null,null,null,null,null,null,null,null,null,null,null,null,null,null,null,null,{"$f":"$AL$21","v":"国民審査"}]
[null,null,null,null,null,null,null,null,null,"男",null,null,"身　　体",null,null,null,null,null,null,null,null,null,null,null,null,null,null,null,null,null,null,null,null,null,null,null,null,{"$f":"$AL$18","v":"小選挙区"}]
[null,null,null,null,null,null,null,null,null,"・",null,"・",null,null,null,null,null,null,null,null,null,null,null,null,null,null,null,null,null,null,null,null,null,null,null,null,null,{"$f":"$AL$19","v":"比例代表"}]
[]
[6,null,null,null,null,null,null,null,null,"女",null,null,"読み書き",null,null,null,null,null,null,null,null,null,null,null,null,null,null,null,null,null,null,null,null,null,null,null,null,{"$f":"$AL$21","v":"国民審査"}]
[null,null,null,null,null,null,null,null,null,"男",null,null,"身　　体",null,null,null,null,null,null,null,null,null,null,null,null,null,null,null,null,null,null,null,null,null,null,null,null,{"$f":"$AL$18","v":"小選挙区"}]
[null,null,null,null,null,null,null,null,null,"・",null,"・",null,null,null,null,null,null,null,null,null,null,null,null,null,null,null,null,null,null,null,null,null,null,null,null,null,{"$f":"$AL$19","v":"比例代表"}]
[]
[7,null,null,null,null,null,null,null,null,"女",null,null,"読み書き",null,null,null,null,null,null,null,null,null,null,null,null,null,null,null,null,null,null,null,null,null,null,null,null,{"$f":"$AL$21","v":"国民審査"}]
[null,null,null,null,null,null,null,null,null,"男",null,null,"身　　体",null,null,null,null,null,null,null,null,null,null,null,null,null,null,null,null,null,null,null,null,null,null,null,null,{"$f":"$AL$18","v":"小選挙区"}]
[null,null,null,null,null,null,null,null,null,"・",null,"・",null,null,null,null,null,null,null,null,null,null,null,null,null,null,null,null,null,null,null,null,null,null,null,null,null,{"$f":"$AL$19","v":"比例代表"}]
[]
[8,null,null,null,null,null,null,null,null,"女",null,null,"読み書き",null,null,null,null,null,null,null,null,null,null,null,null,null,null,null,null,null,null,null,null,null,null,null,null,{"$f":"$AL$21","v":"国民審査"}]
[null,null,null,null,null,null,null,null,null,"男",null,null,"身　　体",null,null,null,null,null,null,null,null,null,null,null,null,null,null,null,null,null,null,null,null,null,null,null,null,{"$f":"$AL$18","v":"小選挙区"}]
[null,null,null,null,null,null,null,null,null,"・",null,"・",null,null,null,null,null,null,null,null,null,null,null,null,null,null,null,null,null,null,null,null,null,null,null,null,null,{"$f":"$AL$19","v":"比例代表"}]
[]
[9,null,null,null,null,null,null,null,null,"女",null,null,"読み書き",null,null,null,null,null,null,null,null,null,null,null,null,null,null,null,null,null,null,null,null,null,null,null,null,{"$f":"$AL$21","v":"国民審査"}]
[null,null,null,null,null,null,null,null,null,"男",null,null,"身　　体",null,null,null,null,null,null,null,null,null,null,null,null,null,null,null,null,null,null,null,null,null,null,null,null,{"$f":"$AL$18","v":"小選挙区"}]
[null,null,null,null,null,null,null,null,null,"・",null,"・",null,null,null,null,null,null,null,null,null,null,null,null,null,null,null,null,null,null,null,null,null,null,null,null,null,{"$f":"$AL$19","v":"比例代表"}]
[]
[10,null,null,null,null,null,null,null,null,"女",null,null,"読み書き",null,null,null,null,null,null,null,null,null,null,null,null,null,null,null,null,null,null,null,null,null,null,null,null,{"$f":"$AL$21","v":"国民審査"}]
[null,null,"備　　考",null,null,null,null,"１　投票管理者の決定及び投票立会人の意見は、それぞれ該当欄に捺印すること。"]
[null,null,null,null,null,null,null,"２　代理投票の仮投票の場合は、摘要欄に「仮投票」と記載すること。"]
[null,null,null,null,null,null,null,null,null,null,null,null,null,null,null,null,null,null,null,null,null,null,null,null,null,null,null,null,null,null,null,null,null,null,null,null,null,null,"Ｎｏ．",null,null,2]
[]
[null,"選挙人氏名",null,null,null,null,null,null,null,"性\n別",null,"代理投票\nの事由",null,null,null,null,null,"補助者の氏名",null,null,null,null,null,null,null,"投票管理者\nの決定",null,null,null,null,null,"投票立会人\nの決定",null,null,null,null,null,"摘　　要"]
[]
[null,null,null,null,null,null,null,null,null,null,null,null,null,null,null,null,null,null,null,null,null,null,null,null,null,"承認",null,null,"拒否",null,null,"承認",null,null,"拒否"]
[null,null,null,null,null,null,null,null,null,"男",null,null,"身　　体",null,null,null,null,null,null,null,null,null,null,null,null,null,null,null,null,null,null,null,null,null,null,null,null,{"$f":"$AL$18","v":"小選挙区"}]
[null,null,null,null,null,null,null,null,null,"・",null,"・",null,null,null,null,null,null,null,null,null,null,null,null,null,null,null,null,null,null,null,null,null,null,null,null,null,{"$f":"$AL$19","v":"比例代表"}]
[]
[11,null,null,null,null,null,null,null,null,"女",null,null,"読み書き",null,null,null,null,null,null,null,null,null,null,null,null,null,null,null,null,null,null,null,null,null,null,null,null,{"$f":"$AL$21","v":"国民審査"}]
[null,null,null,null,null,null,null,null,null,"男",null,null,"身　　体",null,null,null,null,null,null,null,null,null,null,null,null,null,null,null,null,null,null,null,null,null,null,null,null,{"$f":"$AL$18","v":"小選挙区"}]
[null,null,null,null,null,null,null,null,null,"・",null,"・",null,null,null,null,null,null,null,null,null,null,null,null,null,null,null,null,null,null,null,null,null,null,null,null,null,{"$f":"$AL$19","v":"比例代表"}]
[]
[12,null,null,null,null,null,null,null,null,"女",null,null,"読み書き",null,null,null,null,null,null,null,null,null,null,null,null,null,null,null,null,null,null,null,null,null,null,null,null,{"$f":"$AL$21","v":"国民審査"}]
[null,null,null,null,null,null,null,null,null,"男",null,null,"身　　体",null,null,null,null,null,null,null,null,null,null,null,null,null,null,null,null,null,null,null,null,null,null,null,null,{"$f":"$AL$18","v":"小選挙区"}]
[null,null,null,null,null,null,null,null,null,"・",null,"・",null,null,null,null,null,null,null,null,null,null,null,null,null,null,null,null,null,null,null,null,null,null,null,null,null,{"$f":"$AL$19","v":"比例代表"}]
[]
[13,null,null,null,null,null,null,null,null,"女",null,null,"読み書き",null,null,null,null,null,null,null,null,null,null,null,null,null,null,null,null,null,null,null,null,null,null,null,null,{"$f":"$AL$21","v":"国民審査"}]
[null,null,null,null,null,null,null,null,null,"男",null,null,"身　　体",null,null,null,null,null,null,null,null,null,null,null,null,null,null,null,null,null,null,null,null,null,null,null,null,{"$f":"$AL$18","v":"小選挙区"}]
[null,null,null,null,null,null,null,null,null,"・",null,"・",null,null,null,null,null,null,null,null,null,null,null,null,null,null,null,null,null,null,null,null,null,null,null,null,null,{"$f":"$AL$19","v":"比例代表"}]
[]
[14,null,null,null,null,null,null,null,null,"女",null,null,"読み書き",null,null,null,null,null,null,null,null,null,null,null,null,null,null,null,null,null,null,null,null,null,null,null,null,{"$f":"$AL$21","v":"国民審査"}]
[null,null,null,null,null,null,null,null,null,"男",null,null,"身　　体",null,null,null,null,null,null,null,null,null,null,null,null,null,null,null,null,null,null,null,null,null,null,null,null,{"$f":"$AL$18","v":"小選挙区"}]
[null,null,null,null,null,null,null,null,null,"・",null,"・",null,null,null,null,null,null,null,null,null,null,null,null,null,null,null,null,null,null,null,null,null,null,null,null,null,{"$f":"$AL$19","v":"比例代表"}]
[]
[15,null,null,null,null,null,null,null,null,"女",null,null,"読み書き",null,null,null,null,null,null,null,null,null,null,null,null,null,null,null,null,null,null,null,null,null,null,null,null,{"$f":"$AL$21","v":"国民審査"}]
[null,null,null,null,null,null,null,null,null,"男",null,null,"身　　体",null,null,null,null,null,null,null,null,null,null,null,null,null,null,null,null,null,null,null,null,null,null,null,null,{"$f":"$AL$18","v":"小選挙区"}]
[null,null,null,null,null,null,null,null,null,"・",null,"・",null,null,null,null,null,null,null,null,null,null,null,null,null,null,null,null,null,null,null,null,null,null,null,null,null,{"$f":"$AL$19","v":"比例代表"}]
[]
[16,null,null,null,null,null,null,null,null,"女",null,null,"読み書き",null,null,null,null,null,null,null,null,null,null,null,null,null,null,null,null,null,null,null,null,null,null,null,null,{"$f":"$AL$21","v":"国民審査"}]
[null,null,null,null,null,null,null,null,null,"男",null,null,"身　　体",null,null,null,null,null,null,null,null,null,null,null,null,null,null,null,null,null,null,null,null,null,null,null,null,{"$f":"$AL$18","v":"小選挙区"}]
[null,null,null,null,null,null,null,null,null,"・",null,"・",null,null,null,null,null,null,null,null,null,null,null,null,null,null,null,null,null,null,null,null,null,null,null,null,null,{"$f":"$AL$19","v":"比例代表"}]
[]
[17,null,null,null,null,null,null,null,null,"女",null,null,"読み書き",null,null,null,null,null,null,null,null,null,null,null,null,null,null,null,null,null,null,null,null,null,null,null,null,{"$f":"$AL$21","v":"国民審査"}]
[null,null,null,null,null,null,null,null,null,"男",null,null,"身　　体",null,null,null,null,null,null,null,null,null,null,null,null,null,null,null,null,null,null,null,null,null,null,null,null,{"$f":"$AL$18","v":"小選挙区"}]
[null,null,null,null,null,null,null,null,null,"・",null,"・",null,null,null,null,null,null,null,null,null,null,null,null,null,null,null,null,null,null,null,null,null,null,null,null,null,{"$f":"$AL$19","v":"比例代表"}]
[]
[18,null,null,null,null,null,null,null,null,"女",null,null,"読み書き",null,null,null,null,null,null,null,null,null,null,null,null,null,null,null,null,null,null,null,null,null,null,null,null,{"$f":"$AL$21","v":"国民審査"}]
[null,null,null,null,null,null,null,null,null,"男",null,null,"身　　体",null,null,null,null,null,null,null,null,null,null,null,null,null,null,null,null,null,null,null,null,null,null,null,null,{"$f":"$AL$18","v":"小選挙区"}]
[null,null,null,null,null,null,null,null,null,"・",null,"・",null,null,null,null,null,null,null,null,null,null,null,null,null,null,null,null,null,null,null,null,null,null,null,null,null,{"$f":"$AL$19","v":"比例代表"}]
[]
[19,null,null,null,null,null,null,null,null,"女",null,null,"読み書き",null,null,null,null,null,null,null,null,null,null,null,null,null,null,null,null,null,null,null,null,null,null,null,null,{"$f":"$AL$21","v":"国民審査"}]
[null,null,null,null,null,null,null,null,null,"男",null,null,"身　　体",null,null,null,null,null,null,null,null,null,null,null,null,null,null,null,null,null,null,null,null,null,null,null,null,{"$f":"$AL$18","v":"小選挙区"}]
[null,null,null,null,null,null,null,null,null,"・",null,"・",null,null,null,null,null,null,null,null,null,null,null,null,null,null,null,null,null,null,null,null,null,null,null,null,null,{"$f":"$AL$19","v":"比例代表"}]
[]
[20,null,null,null,null,null,null,null,null,"女",null,null,"読み書き",null,null,null,null,null,null,null,null,null,null,null,null,null,null,null,null,null,null,null,null,null,null,null,null,{"$f":"$AL$21","v":"国民審査"}]
[null,null,null,null,null,null,null,null,null,"男",null,null,"身　　体",null,null,null,null,null,null,null,null,null,null,null,null,null,null,null,null,null,null,null,null,null,null,null,null,{"$f":"$AL$18","v":"小選挙区"}]
[null,null,null,null,null,null,null,null,null,"・",null,"・",null,null,null,null,null,null,null,null,null,null,null,null,null,null,null,null,null,null,null,null,null,null,null,null,null,{"$f":"$AL$19","v":"比例代表"}]
[]
[21,null,null,null,null,null,null,null,null,"女",null,null,"読み書き",null,null,null,null,null,null,null,null,null,null,null,null,null,null,null,null,null,null,null,null,null,null,null,null,{"$f":"$AL$21","v":"国民審査"}]
[null,null,null,null,null,null,null,null,null,"男",null,null,"身　　体",null,null,null,null,null,null,null,null,null,null,null,null,null,null,null,null,null,null,null,null,null,null,null,null,{"$f":"$AL$18","v":"小選挙区"}]
[null,null,null,null,null,null,null,null,null,"・",null,"・",null,null,null,null,null,null,null,null,null,null,null,null,null,null,null,null,null,null,null,null,null,null,null,null,null,{"$f":"$AL$19","v":"比例代表"}]
[]
[22,null,null,null,null,null,null,null,null,"女",null,null,"読み書き",null,null,null,null,null,null,null,null,null,null,null,null,null,null,null,null,null,null,null,null,null,null,null,null,{"$f":"$AL$21","v":"国民審査"}]
[null,null,null,null,null,null,null,null,null,"男",null,null,"身　　体",null,null,null,null,null,null,null,null,null,null,null,null,null,null,null,null,null,null,null,null,null,null,null,null,{"$f":"$AL$18","v":"小選挙区"}]
[null,null,null,null,null,null,null,null,null,"・",null,"・",null,null,null,null,null,null,null,null,null,null,null,null,null,null,null,null,null,null,null,null,null,null,null,null,null,{"$f":"$AL$19","v":"比例代表"}]
[]
[23,null,null,null,null,null,null,null,null,"女",null,null,"読み書き",null,null,null,null,null,null,null,null,null,null,null,null,null,null,null,null,null,null,null,null,null,null,null,null,{"$f":"$AL$21","v":"国民審査"}]
[null,null,null,null,null,null,null,null,null,"男",null,null,"身　　体",null,null,null,null,null,null,null,null,null,null,null,null,null,null,null,null,null,null,null,null,null,null,null,null,{"$f":"$AL$18","v":"小選挙区"}]
[null,null,null,null,null,null,null,null,null,"・",null,"・",null,null,null,null,null,null,null,null,null,null,null,null,null,null,null,null,null,null,null,null,null,null,null,null,null,{"$f":"$AL$19","v":"比例代表"}]
[]
[24,null,null,null,null,null,null,null,null,"女",null,null,"読み書き",null,null,null,null,null,null,null,null,null,null,null,null,null,null,null,null,null,null,null,null,null,null,null,null,{"$f":"$AL$21","v":"国民審査"}]
[null,null,null,null,null,null,null,null,null,"男",null,null,"身　　体",null,null,null,null,null,null,null,null,null,null,null,null,null,null,null,null,null,null,null,null,null,null,null,null,{"$f":"$AL$18","v":"小選挙区"}]
[null,null,null,null,null,null,null,null,null,"・",null,"・",null,null,null,null,null,null,null,null,null,null,null,null,null,null,null,null,null,null,null,null,null,null,null,null,null,{"$f":"$AL$19","v":"比例代表"}]
[]
[25,null,null,null,null,null,null,null,null,"女",null,null,"読み書き",null,null,null,null,null,null,null,null,null,null,null,null,null,null,null,null,null,null,null,null,null,null,null,null,{"$f":"$AL$21","v":"国民審査"}]
[null,null,"備　　考",null,null,null,null,"１　投票管理者の決定及び投票立会人の意見は、それぞれ該当欄に捺印すること。"]
[null,null,null,null,null,null,null,"２　代理投票の仮投票の場合は、摘要欄に「仮投票」と記載すること。"]
[null,null,null,null,null,null,null,null,null,null,null,null,null,null,null,null,null,null,null,null,null,null,null,null,null,null,null,null,null,null,null,null,null,null,null,null,null,null,"Ｎｏ．",null,null,3]
[]
[null,"選挙人氏名",null,null,null,null,null,null,null,"性\n別",null,"代理投票\nの事由",null,null,null,null,null,"補助者の氏名",null,null,null,null,null,null,null,"投票管理者\nの決定",null,null,null,null,null,"投票立会人\nの決定",null,null,null,null,null,"摘　　要"]
[]
[null,null,null,null,null,null,null,null,null,null,null,null,null,null,null,null,null,null,null,null,null,null,null,null,null,"承認",null,null,"拒否",null,null,"承認",null,null,"拒否"]
[null,null,null,null,null,null,null,null,null,"男",null,null,"身　　体",null,null,null,null,null,null,null,null,null,null,null,null,null,null,null,null,null,null,null,null,null,null,null,null,{"$f":"$AL$18","v":"小選挙区"}]
[null,null,null,null,null,null,null,null,null,"・",null,"・",null,null,null,null,null,null,null,null,null,null,null,null,null,null,null,null,null,null,null,null,null,null,null,null,null,{"$f":"$AL$19","v":"比例代表"}]
[]
[26,null,null,null,null,null,null,null,null,"女",null,null,"読み書き",null,null,null,null,null,null,null,null,null,null,null,null,null,null,null,null,null,null,null,null,null,null,null,null,{"$f":"$AL$21","v":"国民審査"}]
[null,null,null,null,null,null,null,null,null,"男",null,null,"身　　体",null,null,null,null,null,null,null,null,null,null,null,null,null,null,null,null,null,null,null,null,null,null,null,null,{"$f":"$AL$18","v":"小選挙区"}]
[null,null,null,null,null,null,null,null,null,"・",null,"・",null,null,null,null,null,null,null,null,null,null,null,null,null,null,null,null,null,null,null,null,null,null,null,null,null,{"$f":"$AL$19","v":"比例代表"}]
[]
[27,null,null,null,null,null,null,null,null,"女",null,null,"読み書き",null,null,null,null,null,null,null,null,null,null,null,null,null,null,null,null,null,null,null,null,null,null,null,null,{"$f":"$AL$21","v":"国民審査"}]
[null,null,null,null,null,null,null,null,null,"男",null,null,"身　　体",null,null,null,null,null,null,null,null,null,null,null,null,null,null,null,null,null,null,null,null,null,null,null,null,{"$f":"$AL$18","v":"小選挙区"}]
[null,null,null,null,null,null,null,null,null,"・",null,"・",null,null,null,null,null,null,null,null,null,null,null,null,null,null,null,null,null,null,null,null,null,null,null,null,null,{"$f":"$AL$19","v":"比例代表"}]
[]
[28,null,null,null,null,null,null,null,null,"女",null,null,"読み書き",null,null,null,null,null,null,null,null,null,null,null,null,null,null,null,null,null,null,null,null,null,null,null,null,{"$f":"$AL$21","v":"国民審査"}]
[null,null,null,null,null,null,null,null,null,"男",null,null,"身　　体",null,null,null,null,null,null,null,null,null,null,null,null,null,null,null,null,null,null,null,null,null,null,null,null,{"$f":"$AL$18","v":"小選挙区"}]
[null,null,null,null,null,null,null,null,null,"・",null,"・",null,null,null,null,null,null,null,null,null,null,null,null,null,null,null,null,null,null,null,null,null,null,null,null,null,{"$f":"$AL$19","v":"比例代表"}]
[]
[29,null,null,null,null,null,null,null,null,"女",null,null,"読み書き",null,null,null,null,null,null,null,null,null,null,null,null,null,null,null,null,null,null,null,null,null,null,null,null,{"$f":"$AL$21","v":"国民審査"}]
[null,null,null,null,null,null,null,null,null,"男",null,null,"身　　体",null,null,null,null,null,null,null,null,null,null,null,null,null,null,null,null,null,null,null,null,null,null,null,null,{"$f":"$AL$18","v":"小選挙区"}]
[null,null,null,null,null,null,null,null,null,"・",null,"・",null,null,null,null,null,null,null,null,null,null,null,null,null,null,null,null,null,null,null,null,null,null,null,null,null,{"$f":"$AL$19","v":"比例代表"}]
[]
[30,null,null,null,null,null,null,null,null,"女",null,null,"読み書き",null,null,null,null,null,null,null,null,null,null,null,null,null,null,null,null,null,null,null,null,null,null,null,null,{"$f":"$AL$21","v":"国民審査"}]
[null,null,null,null,null,null,null,null,null,"男",null,null,"身　　体",null,null,null,null,null,null,null,null,null,null,null,null,null,null,null,null,null,null,null,null,null,null,null,null,{"$f":"$AL$18","v":"小選挙区"}]
[null,null,null,null,null,null,null,null,null,"・",null,"・",null,null,null,null,null,null,null,null,null,null,null,null,null,null,null,null,null,null,null,null,null,null,null,null,null,{"$f":"$AL$19","v":"比例代表"}]
[]
[31,null,null,null,null,null,null,null,null,"女",null,null,"読み書き",null,null,null,null,null,null,null,null,null,null,null,null,null,null,null,null,null,null,null,null,null,null,null,null,{"$f":"$AL$21","v":"国民審査"}]
[null,null,null,null,null,null,null,null,null,"男",null,null,"身　　体",null,null,null,null,null,null,null,null,null,null,null,null,null,null,null,null,null,null,null,null,null,null,null,null,{"$f":"$AL$18","v":"小選挙区"}]
[null,null,null,null,null,null,null,null,null,"・",null,"・",null,null,null,null,null,null,null,null,null,null,null,null,null,null,null,null,null,null,null,null,null,null,null,null,null,{"$f":"$AL$19","v":"比例代表"}]
[]
[32,null,null,null,null,null,null,null,null,"女",null,null,"読み書き",null,null,null,null,null,null,null,null,null,null,null,null,null,null,null,null,null,null,null,null,null,null,null,null,{"$f":"$AL$21","v":"国民審査"}]
[null,null,null,null,null,null,null,null,null,"男",null,null,"身　　体",null,null,null,null,null,null,null,null,null,null,null,null,null,null,null,null,null,null,null,null,null,null,null,null,{"$f":"$AL$18","v":"小選挙区"}]
[null,null,null,null,null,null,null,null,null,"・",null,"・",null,null,null,null,null,null,null,null,null,null,null,null,null,null,null,null,null,null,null,null,null,null,null,null,null,{"$f":"$AL$19","v":"比例代表"}]
[]
[33,null,null,null,null,null,null,null,null,"女",null,null,"読み書き",null,null,null,null,null,null,null,null,null,null,null,null,null,null,null,null,null,null,null,null,null,null,null,null,{"$f":"$AL$21","v":"国民審査"}]
[null,null,null,null,null,null,null,null,null,"男",null,null,"身　　体",null,null,null,null,null,null,null,null,null,null,null,null,null,null,null,null,null,null,null,null,null,null,null,null,{"$f":"$AL$18","v":"小選挙区"}]
[null,null,null,null,null,null,null,null,null,"・",null,"・",null,null,null,null,null,null,null,null,null,null,null,null,null,null,null,null,null,null,null,null,null,null,null,null,null,{"$f":"$AL$19","v":"比例代表"}]
[]
[34,null,null,null,null,null,null,null,null,"女",null,null,"読み書き",null,null,null,null,null,null,null,null,null,null,null,null,null,null,null,null,null,null,null,null,null,null,null,null,{"$f":"$AL$21","v":"国民審査"}]
[null,null,null,null,null,null,null,null,null,"男",null,null,"身　　体",null,null,null,null,null,null,null,null,null,null,null,null,null,null,null,null,null,null,null,null,null,null,null,null,{"$f":"$AL$18","v":"小選挙区"}]
[null,null,null,null,null,null,null,null,null,"・",null,"・",null,null,null,null,null,null,null,null,null,null,null,null,null,null,null,null,null,null,null,null,null,null,null,null,null,{"$f":"$AL$19","v":"比例代表"}]
[]
[35,null,null,null,null,null,null,null,null,"女",null,null,"読み書き",null,null,null,null,null,null,null,null,null,null,null,null,null,null,null,null,null,null,null,null,null,null,null,null,{"$f":"$AL$21","v":"国民審査"}]
[null,null,null,null,null,null,null,null,null,"男",null,null,"身　　体",null,null,null,null,null,null,null,null,null,null,null,null,null,null,null,null,null,null,null,null,null,null,null,null,{"$f":"$AL$18","v":"小選挙区"}]
[null,null,null,null,null,null,null,null,null,"・",null,"・",null,null,null,null,null,null,null,null,null,null,null,null,null,null,null,null,null,null,null,null,null,null,null,null,null,{"$f":"$AL$19","v":"比例代表"}]
[]
[36,null,null,null,null,null,null,null,null,"女",null,null,"読み書き",null,null,null,null,null,null,null,null,null,null,null,null,null,null,null,null,null,null,null,null,null,null,null,null,{"$f":"$AL$21","v":"国民審査"}]
[null,null,null,null,null,null,null,null,null,"男",null,null,"身　　体",null,null,null,null,null,null,null,null,null,null,null,null,null,null,null,null,null,null,null,null,null,null,null,null,{"$f":"$AL$18","v":"小選挙区"}]
[null,null,null,null,null,null,null,null,null,"・",null,"・",null,null,null,null,null,null,null,null,null,null,null,null,null,null,null,null,null,null,null,null,null,null,null,null,null,{"$f":"$AL$19","v":"比例代表"}]
[]
[37,null,null,null,null,null,null,null,null,"女",null,null,"読み書き",null,null,null,null,null,null,null,null,null,null,null,null,null,null,null,null,null,null,null,null,null,null,null,null,{"$f":"$AL$21","v":"国民審査"}]
[null,null,null,null,null,null,null,null,null,"男",null,null,"身　　体",null,null,null,null,null,null,null,null,null,null,null,null,null,null,null,null,null,null,null,null,null,null,null,null,{"$f":"$AL$18","v":"小選挙区"}]
[null,null,null,null,null,null,null,null,null,"・",null,"・",null,null,null,null,null,null,null,null,null,null,null,null,null,null,null,null,null,null,null,null,null,null,null,null,null,{"$f":"$AL$19","v":"比例代表"}]
[]
[38,null,null,null,null,null,null,null,null,"女",null,null,"読み書き",null,null,null,null,null,null,null,null,null,null,null,null,null,null,null,null,null,null,null,null,null,null,null,null,{"$f":"$AL$21","v":"国民審査"}]
[null,null,null,null,null,null,null,null,null,"男",null,null,"身　　体",null,null,null,null,null,null,null,null,null,null,null,null,null,null,null,null,null,null,null,null,null,null,null,null,{"$f":"$AL$18","v":"小選挙区"}]
[null,null,null,null,null,null,null,null,null,"・",null,"・",null,null,null,null,null,null,null,null,null,null,null,null,null,null,null,null,null,null,null,null,null,null,null,null,null,{"$f":"$AL$19","v":"比例代表"}]
[]
[39,null,null,null,null,null,null,null,null,"女",null,null,"読み書き",null,null,null,null,null,null,null,null,null,null,null,null,null,null,null,null,null,null,null,null,null,null,null,null,{"$f":"$AL$21","v":"国民審査"}]
[null,null,null,null,null,null,null,null,null,"男",null,null,"身　　体",null,null,null,null,null,null,null,null,null,null,null,null,null,null,null,null,null,null,null,null,null,null,null,null,{"$f":"$AL$18","v":"小選挙区"}]
[null,null,null,null,null,null,null,null,null,"・",null,"・",null,null,null,null,null,null,null,null,null,null,null,null,null,null,null,null,null,null,null,null,null,null,null,null,null,{"$f":"$AL$19","v":"比例代表"}]
[]
[40,null,null,null,null,null,null,null,null,"女",null,null,"読み書き",null,null,null,null,null,null,null,null,null,null,null,null,null,null,null,null,null,null,null,null,null,null,null,null,{"$f":"$AL$21","v":"国民審査"}]
[null,null,"備　　考",null,null,null,null,"１　投票管理者の決定及び投票立会人の意見は、それぞれ該当欄に捺印すること。"]
[null,null,null,null,null,null,null,"２　代理投票の仮投票の場合は、摘要欄に「仮投票」と記載すること。"]
[null,null,null,null,null,null,null,null,null,null,null,null,null,null,null,null,null,null,null,null,null,null,null,null,null,null,null,null,null,null,null,null,null,null,null,null,null,null,"Ｎｏ．",null,null,4]
[]
[null,"選挙人氏名",null,null,null,null,null,null,null,"性\n別",null,"代理投票\nの事由",null,null,null,null,null,"補助者の氏名",null,null,null,null,null,null,null,"投票管理者\nの決定",null,null,null,null,null,"投票立会人\nの決定",null,null,null,null,null,"摘　　要"]
[]
[null,null,null,null,null,null,null,null,null,null,null,null,null,null,null,null,null,null,null,null,null,null,null,null,null,"承認",null,null,"拒否",null,null,"承認",null,null,"拒否"]
[null,null,null,null,null,null,null,null,null,"男",null,null,"身　　体",null,null,null,null,null,null,null,null,null,null,null,null,null,null,null,null,null,null,null,null,null,null,null,null,{"$f":"$AL$18","v":"小選挙区"}]
[null,null,null,null,null,null,null,null,null,"・",null,"・",null,null,null,null,null,null,null,null,null,null,null,null,null,null,null,null,null,null,null,null,null,null,null,null,null,{"$f":"$AL$19","v":"比例代表"}]
[]
[41,null,null,null,null,null,null,null,null,"女",null,null,"読み書き",null,null,null,null,null,null,null,null,null,null,null,null,null,null,null,null,null,null,null,null,null,null,null,null,{"$f":"$AL$21","v":"国民審査"}]
[null,null,null,null,null,null,null,null,null,"男",null,null,"身　　体",null,null,null,null,null,null,null,null,null,null,null,null,null,null,null,null,null,null,null,null,null,null,null,null,{"$f":"$AL$18","v":"小選挙区"}]
[null,null,null,null,null,null,null,null,null,"・",null,"・",null,null,null,null,null,null,null,null,null,null,null,null,null,null,null,null,null,null,null,null,null,null,null,null,null,{"$f":"$AL$19","v":"比例代表"}]
[]
[42,null,null,null,null,null,null,null,null,"女",null,null,"読み書き",null,null,null,null,null,null,null,null,null,null,null,null,null,null,null,null,null,null,null,null,null,null,null,null,{"$f":"$AL$21","v":"国民審査"}]
[null,null,null,null,null,null,null,null,null,"男",null,null,"身　　体",null,null,null,null,null,null,null,null,null,null,null,null,null,null,null,null,null,null,null,null,null,null,null,null,{"$f":"$AL$18","v":"小選挙区"}]
[null,null,null,null,null,null,null,null,null,"・",null,"・",null,null,null,null,null,null,null,null,null,null,null,null,null,null,null,null,null,null,null,null,null,null,null,null,null,{"$f":"$AL$19","v":"比例代表"}]
[]
[43,null,null,null,null,null,null,null,null,"女",null,null,"読み書き",null,null,null,null,null,null,null,null,null,null,null,null,null,null,null,null,null,null,null,null,null,null,null,null,{"$f":"$AL$21","v":"国民審査"}]
[null,null,null,null,null,null,null,null,null,"男",null,null,"身　　体",null,null,null,null,null,null,null,null,null,null,null,null,null,null,null,null,null,null,null,null,null,null,null,null,{"$f":"$AL$18","v":"小選挙区"}]
[null,null,null,null,null,null,null,null,null,"・",null,"・",null,null,null,null,null,null,null,null,null,null,null,null,null,null,null,null,null,null,null,null,null,null,null,null,null,{"$f":"$AL$19","v":"比例代表"}]
[]
[44,null,null,null,null,null,null,null,null,"女",null,null,"読み書き",null,null,null,null,null,null,null,null,null,null,null,null,null,null,null,null,null,null,null,null,null,null,null,null,{"$f":"$AL$21","v":"国民審査"}]
[null,null,null,null,null,null,null,null,null,"男",null,null,"身　　体",null,null,null,null,null,null,null,null,null,null,null,null,null,null,null,null,null,null,null,null,null,null,null,null,{"$f":"$AL$18","v":"小選挙区"}]
[null,null,null,null,null,null,null,null,null,"・",null,"・",null,null,null,null,null,null,null,null,null,null,null,null,null,null,null,null,null,null,null,null,null,null,null,null,null,{"$f":"$AL$19","v":"比例代表"}]
[]
[45,null,null,null,null,null,null,null,null,"女",null,null,"読み書き",null,null,null,null,null,null,null,null,null,null,null,null,null,null,null,null,null,null,null,null,null,null,null,null,{"$f":"$AL$21","v":"国民審査"}]
[null,null,null,null,null,null,null,null,null,"男",null,null,"身　　体",null,null,null,null,null,null,null,null,null,null,null,null,null,null,null,null,null,null,null,null,null,null,null,null,{"$f":"$AL$18","v":"小選挙区"}]
[null,null,null,null,null,null,null,null,null,"・",null,"・",null,null,null,null,null,null,null,null,null,null,null,null,null,null,null,null,null,null,null,null,null,null,null,null,null,{"$f":"$AL$19","v":"比例代表"}]
[]
[46,null,null,null,null,null,null,null,null,"女",null,null,"読み書き",null,null,null,null,null,null,null,null,null,null,null,null,null,null,null,null,null,null,null,null,null,null,null,null,{"$f":"$AL$21","v":"国民審査"}]
[null,null,null,null,null,null,null,null,null,"男",null,null,"身　　体",null,null,null,null,null,null,null,null,null,null,null,null,null,null,null,null,null,null,null,null,null,null,null,null,{"$f":"$AL$18","v":"小選挙区"}]
[null,null,null,null,null,null,null,null,null,"・",null,"・",null,null,null,null,null,null,null,null,null,null,null,null,null,null,null,null,null,null,null,null,null,null,null,null,null,{"$f":"$AL$19","v":"比例代表"}]
[]
[47,null,null,null,null,null,null,null,null,"女",null,null,"読み書き",null,null,null,null,null,null,null,null,null,null,null,null,null,null,null,null,null,null,null,null,null,null,null,null,{"$f":"$AL$21","v":"国民審査"}]
[null,null,null,null,null,null,null,null,null,"男",null,null,"身　　体",null,null,null,null,null,null,null,null,null,null,null,null,null,null,null,null,null,null,null,null,null,null,null,null,{"$f":"$AL$18","v":"小選挙区"}]
[null,null,null,null,null,null,null,null,null,"・",null,"・",null,null,null,null,null,null,null,null,null,null,null,null,null,null,null,null,null,null,null,null,null,null,null,null,null,{"$f":"$AL$19","v":"比例代表"}]
[]
[48,null,null,null,null,null,null,null,null,"女",null,null,"読み書き",null,null,null,null,null,null,null,null,null,null,null,null,null,null,null,null,null,null,null,null,null,null,null,null,{"$f":"$AL$21","v":"国民審査"}]
[null,null,null,null,null,null,null,null,null,"男",null,null,"身　　体",null,null,null,null,null,null,null,null,null,null,null,null,null,null,null,null,null,null,null,null,null,null,null,null,{"$f":"$AL$18","v":"小選挙区"}]
[null,null,null,null,null,null,null,null,null,"・",null,"・",null,null,null,null,null,null,null,null,null,null,null,null,null,null,null,null,null,null,null,null,null,null,null,null,null,{"$f":"$AL$19","v":"比例代表"}]
[]
[49,null,null,null,null,null,null,null,null,"女",null,null,"読み書き",null,null,null,null,null,null,null,null,null,null,null,null,null,null,null,null,null,null,null,null,null,null,null,null,{"$f":"$AL$21","v":"国民審査"}]
[null,null,null,null,null,null,null,null,null,"男",null,null,"身　　体",null,null,null,null,null,null,null,null,null,null,null,null,null,null,null,null,null,null,null,null,null,null,null,null,{"$f":"$AL$18","v":"小選挙区"}]
[null,null,null,null,null,null,null,null,null,"・",null,"・",null,null,null,null,null,null,null,null,null,null,null,null,null,null,null,null,null,null,null,null,null,null,null,null,null,{"$f":"$AL$19","v":"比例代表"}]
[]
[50,null,null,null,null,null,null,null,null,"女",null,null,"読み書き",null,null,null,null,null,null,null,null,null,null,null,null,null,null,null,null,null,null,null,null,null,null,null,null,{"$f":"$AL$21","v":"国民審査"}]
[null,null,null,null,null,null,null,null,null,"男",null,null,"身　　体",null,null,null,null,null,null,null,null,null,null,null,null,null,null,null,null,null,null,null,null,null,null,null,null,{"$f":"$AL$18","v":"小選挙区"}]
[null,null,null,null,null,null,null,null,null,"・",null,"・",null,null,null,null,null,null,null,null,null,null,null,null,null,null,null,null,null,null,null,null,null,null,null,null,null,{"$f":"$AL$19","v":"比例代表"}]
[]
[51,null,null,null,null,null,null,null,null,"女",null,null,"読み書き",null,null,null,null,null,null,null,null,null,null,null,null,null,null,null,null,null,null,null,null,null,null,null,null,{"$f":"$AL$21","v":"国民審査"}]
[null,null,null,null,null,null,null,null,null,"男",null,null,"身　　体",null,null,null,null,null,null,null,null,null,null,null,null,null,null,null,null,null,null,null,null,null,null,null,null,{"$f":"$AL$18","v":"小選挙区"}]
[null,null,null,null,null,null,null,null,null,"・",null,"・",null,null,null,null,null,null,null,null,null,null,null,null,null,null,null,null,null,null,null,null,null,null,null,null,null,{"$f":"$AL$19","v":"比例代表"}]
[]
[52,null,null,null,null,null,null,null,null,"女",null,null,"読み書き",null,null,null,null,null,null,null,null,null,null,null,null,null,null,null,null,null,null,null,null,null,null,null,null,{"$f":"$AL$21","v":"国民審査"}]
[null,null,null,null,null,null,null,null,null,"男",null,null,"身　　体",null,null,null,null,null,null,null,null,null,null,null,null,null,null,null,null,null,null,null,null,null,null,null,null,{"$f":"$AL$18","v":"小選挙区"}]
[null,null,null,null,null,null,null,null,null,"・",null,"・",null,null,null,null,null,null,null,null,null,null,null,null,null,null,null,null,null,null,null,null,null,null,null,null,null,{"$f":"$AL$19","v":"比例代表"}]
[]
[53,null,null,null,null,null,null,null,null,"女",null,null,"読み書き",null,null,null,null,null,null,null,null,null,null,null,null,null,null,null,null,null,null,null,null,null,null,null,null,{"$f":"$AL$21","v":"国民審査"}]
[null,null,null,null,null,null,null,null,null,"男",null,null,"身　　体",null,null,null,null,null,null,null,null,null,null,null,null,null,null,null,null,null,null,null,null,null,null,null,null,{"$f":"$AL$18","v":"小選挙区"}]
[null,null,null,null,null,null,null,null,null,"・",null,"・",null,null,null,null,null,null,null,null,null,null,null,null,null,null,null,null,null,null,null,null,null,null,null,null,null,{"$f":"$AL$19","v":"比例代表"}]
[]
[54,null,null,null,null,null,null,null,null,"女",null,null,"読み書き",null,null,null,null,null,null,null,null,null,null,null,null,null,null,null,null,null,null,null,null,null,null,null,null,{"$f":"$AL$21","v":"国民審査"}]
[null,null,null,null,null,null,null,null,null,"男",null,null,"身　　体",null,null,null,null,null,null,null,null,null,null,null,null,null,null,null,null,null,null,null,null,null,null,null,null,{"$f":"$AL$18","v":"小選挙区"}]
[null,null,null,null,null,null,null,null,null,"・",null,"・",null,null,null,null,null,null,null,null,null,null,null,null,null,null,null,null,null,null,null,null,null,null,null,null,null,{"$f":"$AL$19","v":"比例代表"}]
[]
[55,null,null,null,null,null,null,null,null,"女",null,null,"読み書き",null,null,null,null,null,null,null,null,null,null,null,null,null,null,null,null,null,null,null,null,null,null,null,null,{"$f":"$AL$21","v":"国民審査"}]
[null,null,"備　　考",null,null,null,null,"１　投票管理者の決定及び投票立会人の意見は、それぞれ該当欄に捺印すること。"]
[null,null,null,null,null,null,null,"２　代理投票の仮投票の場合は、摘要欄に「仮投票」と記載すること。"]

{"sheet":"⑩選挙用品使用申込書","index":14,"n_rows":37,"n_cols":43,"rows_kept":37,"cut":false,"hidden":false,"merged":[[33,10,33,37],[8,2,9,23],[8,24,9,37],[6,2,7,23],[6,24,7,37],[21,29,21,31],[17,22,17,23],[17,34,17,35],[18,15,18,17],[24,13,24,14],[33,2,33,8],[30,2,30,8],[27,2,27,8],[21,19,21,20],[21,24,21,25],[21,21,21,23],[4,24,5,37],[18,30,18,33],[17,28,17,29],[18,28,18,29],[10,2,11,23],[10,24,11,37],[18,22,18,23],[18,34,18,35],[17,18,17,21],[17,24,17,27],[17,30,17,33],[18,18,18,21],[18,24,18,27],[17,15,17,17],[14,11,15,35],[27,10,28,37],[0,0,0,39],[36,30,38,31],[36,32,36,35],[37,32,38,35],[36,36,36,39],[37,36,38,39],[21,16,21,18],[30,10,30,37],[24,0,24,2],[24,3,24,4],[24,5,24,6],[24,7,24,8],[24,9,24,10],[24,11,24,12],[4,2,5,23]]}
["選挙用品使用申込書",null,null,null,null,null,null,null,null,null,null,null,null,null,null,null,null,null,null,null,null,null,null,null,null,null,null,null,null,null,null,null,null,null,null,null,null,null,null,null,null,null,"目次"]
["下記のとおり、使用したいので申し込みます。"]
[]
[]
[null,null,"品　　　　　　　名",null,null,null,null,null,null,null,null,null,null,null,null,null,null,null,null,null,null,null,null,null,"数　　　量"]
[]
[null,null,null,null,null,null,null,null,null,null,null,null,null,null,null,null,null,null,null,null,null,null,null,null,null,null,null,null,null,null,null,null,null,null,null,null,null,null,null,null,"◀品名はプルダウンリストから選択します"]
[null,null,null,null,null,null,null,null,null,null,null,null,null,null,null,null,null,null,null,null,null,null,null,null,null,null,null,null,null,null,null,null,null,null,null,null,null,null,null,null,"◀数量を入力してください"]
[]
[]
[]
[]
[]
[]
[null,null,"使用場所",null,null,null,null,null,null,null,null,{"$f":"依頼受簿!B2","v":0},null,null,null,null,null,null,null,null,null,null,null,null,null,null,null,null,null,null,null,null,null,null,null,null,null,null,null,null,"※依頼受簿で選択した指定施設名が自動で反映されます"]
[]
[]
[null,null,"使用期間",null,null,null,null,null,null,null,null,"（自）",null,null,null,"令和",null,null,null,null,null,null,"年",null,null,null,null,null,"月",null,null,null,null,null,"日",null,null,null,null,null,"◀使用期間を入力してください"]
[null,null,null,null,null,null,null,null,null,null,null,"（至）",null,null,null,"令和",null,null,null,null,null,null,"年",null,null,null,null,null,"月",null,null,null,null,null,"日"]
[]
[]
[null,null,"受取希望日",null,null,null,null,null,null,null,null,null,null,null,null,null,null,null,null,"月",null,null,null,null,"日",null,null,null,null,null,null,null,"時頃",null,null,null,null,null,null,null,"◀受取の希望日を入力してください。"]
[null,null,null,null,null,null,null,null,null,null,null,null,null,null,null,null,null,null,null,null,null,null,null,null,null,null,null,null,null,null,null,null,null,null,null,null,null,null,null,null,"※他の病院や施設への貸し出しの状況により調整することがあります。"]
[]
["令和",null,null,null,null,"年",null,null,null,"月",null,null,null,"日",null,null,null,null,null,null,null,null,null,null,null,null,null,null,null,null,null,null,null,null,null,null,null,null,null,null,"◀申込の日付を入力してください"]
[]
[]
[null,null,"使用施設名",null,null,null,null,null,null,null,{"$f":"L15","v":0},null,null,null,null,null,null,null,null,null,null,null,null,null,null,null,null,null,null,null,null,null,null,null,null,null,null,null,null,null,"※依頼受簿で選択した指定施設名が自動で反映されます"]
[]
[]
[null,null,"担当者名",null,null,null,null,null,null,null,null,null,null,null,null,null,null,null,null,null,null,null,null,null,null,null,null,null,null,null,null,null,null,null,null,null,null,null,null,null,"◀御担当者様の氏名を入力"]
[]
[]
[null,null,"連絡先電話番号",null,null,null,null,null,null,null,null,null,null,null,null,null,null,null,null,null,null,null,null,null,null,null,null,null,null,null,null,null,null,null,null,null,null,null,null,null,"◀連絡先の電話番号を入力"]
[]
[]
[null,null,null,null,null,null,null,null,null,null,null,null,null,null,null,null,null,null,null,null,null,null,null,null,null,null,null,null,null,null,"選管",null,"主査",null,null,null,"施設班"]

{"sheet":"各一覧","index":15,"n_rows":43,"n_cols":5,"rows_kept":43,"cut":false,"hidden":true,"merged":[]}
["連番","施設名","№",null,"選挙用品"]
[1,"社会福祉法人 北海道社会事業協会小樽病院",101,null,"投票箱"]
[2,"医療法人 北仁会 石橋病院",104,null,"記載台（１人用）"]
[3,"社会福祉法人恩賜財団済生会支部 北海道済生会小樽病院",105,null,"記載台（２人用）"]
[4,"小樽掖済会病院",106,null,"記載台（３人用）"]
[5,"医療法人社団 心優会 野口病院",107,null,"記載台（車いす用）"]
[6,"医療法人社団 豊明会 木下病院",108,null,"目かくしパネル"]
[7,"医療法人 西病院",109,null,"点字キット"]
[8,"医療法人社団 三ツ山病院",110]
[9,"医療法人ひまわり会 札樽病院",111]
[10,"医療法人 勉仁会 東小樽病院",112]
[11,"小樽育成院",113]
[12,"社会福祉法人小樽育成院 特別養護老人ホームやすらぎ荘",114]
[13,"障害者支援施設 北海道宏栄社",115]
[14,"特別養護老人ホームリバーサイドなんたる",116]
[15,"医療法人 勉仁会 介護老人保健施設ラポール東小樽",117]
[16,"シルバーハイツ寿楽",118]
[17,"医療法人社団 北匠会 小樽中央病院",119]
[18,"社会福祉法人恩賜財団済生会支部 北海道済生会小樽介護老人保健施設はまなす",121]
[19,"医療法人社団 青優会 南小樽病院",122]
[20,"社会福祉法人ノマド福祉会 特別養護老人ホームはる",123]
[21,"ケアハウス朝里温泉",124]
[22,"ショートステイ朝里温泉",125]
[23,"ケアハウスはる",127]
[24,"社会福祉法人 志成会 障がい者支援施設　朝里ファミリア",129]
[25,"特別養護老人ホーム朝里温泉",130]
[26,"ラ・ナシカあさり",131]
[27,"医療法人社団 清か 介護老人保健施設　望",132]
[28,"あっとほーむ朝里",133]
[29,"有料老人ホームゆたか荘",134]
[30,"医療法人 北光会 朝里中央病院",135]
[31,"あっとほーむ新光",136]
[32,"マイラシークライフサポート株式会社 マイラシーク塩谷",137]
[33,"ヴェラス・クオーレ小樽",138]
[34,"小樽市立病院",139]
[35,"サービス付き高齢者向け住宅ウィステリア小樽稲穂",140]
[36,"あっとほーむ朝里中央",141]
[37,"特別養護老人ホーム東小樽",142]
[38,"社会福祉法人恩賜財団済生会支部 北海道済生会小樽病院重症心身障がい児（者）施設みどりの里",143]
[39,"サービス付高齢者住宅ぽえむヒルズ",144]
[40,"医療法人社団 萌水会 老人保健施設モエズガーデン小樽",145]
[41,"有料老人ホームアイケアハウス小樽",146]
[42,"札幌方面小樽警察署",502]